From mboxrd@z Thu Jan 1 00:00:00 1970 Return-Path: Received: from mails.dpdk.org (mails.dpdk.org [217.70.189.124]) by inbox.dpdk.org (Postfix) with ESMTP id BFA9E467B6 for ; Thu, 22 May 2025 11:13:00 +0200 (CEST) Received: from mails.dpdk.org (localhost [127.0.0.1]) by mails.dpdk.org (Postfix) with ESMTP id A1D12402CA; Thu, 22 May 2025 11:13:00 +0200 (CEST) Received: from mail-oo1-f99.google.com (mail-oo1-f99.google.com [209.85.161.99]) by mails.dpdk.org (Postfix) with ESMTP id A674B402C2 for ; Thu, 22 May 2025 11:12:58 +0200 (CEST) Received: by mail-oo1-f99.google.com with SMTP id 006d021491bc7-6062e41916dso4435949eaf.1 for ; Thu, 22 May 2025 02:12:58 -0700 (PDT) DKIM-Signature: v=1; a=rsa-sha256; c=relaxed/relaxed; d=iol.unh.edu; s=unh-iol; t=1747905177; x=1748509977; darn=dpdk.org; h=cc:to:from:subject:message-id:date:from:to:cc:subject:date :message-id:reply-to; bh=TxEIGWYdaoWLfYIq/9U6eF0n38hczTG4l4r7GRX+WVo=; b=eAezMDA5ehJswf6sRyt5q7jpAjIgXXkDuiT++O0e+U3He1eT6Eb1aL2VpjdCYDV0Oi eHawq3IjSz/+NHMqAeNONzG3aEdk8b3OHr5HLaY6pHoKQ/6c/UnnfMdle/H0oSneojmi oSo63GZqrobaF4CjLRkG35VqNy7jD1MbmUCL8= X-Google-DKIM-Signature: v=1; a=rsa-sha256; c=relaxed/relaxed; d=1e100.net; s=20230601; t=1747905177; x=1748509977; h=cc:to:from:subject:message-id:date:x-gm-message-state:from:to:cc :subject:date:message-id:reply-to; bh=TxEIGWYdaoWLfYIq/9U6eF0n38hczTG4l4r7GRX+WVo=; b=I5W1CIq9m+pwaUkNkd3z/0MDw5bsrziuRcoL7De9Wlr7lad8aZCSx9D/HM4VMZLsNb OLXFDvgSkCu9h6aKNZYFOtBjM6kE4b0hDV04IqIU/2vcKpws3hibZfJL6b5bj7KHUUIC ScD5ixYWB2n/HHVcKuSyZKoOiRw1Ep8X1TOBp7PMtDLI/o58Wy5tnKWlDzszk8tYRRwp KX7q5afQAmjuo7pXutaYYuEtNCOBwdCq2ReQkIOHfB99pHyGayzS2/gsXKdPQViF288S 0UYXhuKlC/k8HKYB0NohOTuZf+trhmg+55Gu4iPcORA+mp8oqATLuCmBhWOh+LFXmGGW D7zg== X-Gm-Message-State: AOJu0YyiU+PT4DxOFS1v9wDrMEQO8a1p2//OLHeq2RqztQ9sRBoUj0vM FU3S2SzfxE+GKvVwz79zbwSqEk6iUwiKx4UJv/xiOHUkvXO1F3IXOzyW6pzevHH2/rMYj7YEP1C dwaMtL1i3I4KeSo/hIeCNTQT3RC6s6OkvoBdW02liIJDK X-Gm-Gg: ASbGnctN45+hMDT9pQg6yaP7OJKvSDRhqFCOPv5s4seUQQhDRGedh4ECMYxRGHBmwBb ztcrgUh01i6D0puJKw1EbiZJ3ox2bXCDXbWXFrTyrpLB/k135vThVRhy41FjsVYxC8lNZpOYkBK 9/uj5/C8L/C5M8mLZTvIEl8UIj5595Ri5kqQb7hZjbvYlPgEgOeDb17Sn7TXz1g5rJxIhbsahx9 2MH3h9Vqh1BVuEoawpqTLaSscCdAt5FFgIGUxQic8A1Q0dmOWijvSfEBsfLvZUwTP9pISzTvfQF gnM2PP9kDl8fmCrdMwrAj/OPTjTv4iPupT8zUiolepEA9mhGgbBuxJNBYdA= X-Google-Smtp-Source: AGHT+IEmjXyfNSaznCk5h1X3mRbglbFdHOE0MN3wc4b9cs6xlIU6sFGuUz9gG+duBLIr8eoBRPkGvGePrBuS X-Received: by 2002:a05:6820:1a06:b0:60b:7d9a:c2e5 with SMTP id 006d021491bc7-60b7d9ac358mr3727266eaf.4.1747905177725; Thu, 22 May 2025 02:12:57 -0700 (PDT) Received: from postal.iol.unh.edu (postal.iol.unh.edu. [132.177.123.84]) by smtp-relay.gmail.com with ESMTPS id 006d021491bc7-60b7bfe3829sm107759eaf.18.2025.05.22.02.12.57 (version=TLS1_2 cipher=ECDHE-ECDSA-AES128-GCM-SHA256 bits=128/128); Thu, 22 May 2025 02:12:57 -0700 (PDT) X-Relaying-Domain: iol.unh.edu Date: Thu, 22 May 2025 02:12:57 -0700 (PDT) Message-ID: <682eea99.050a0220.363466.59e6SMTPIN_ADDED_MISSING@mx.google.com> Received: from [172.21.0.5] (unknown [172.18.0.240]) by postal.iol.unh.edu (Postfix) with ESMTP id 2E97E6052471; Thu, 22 May 2025 05:12:57 -0400 (EDT) Subject: |SUCCESS| [GIT MASTER] a0ad790eb9fcef4b00366ae474132bee4bcdab75 From: dpdklab@iol.unh.edu To: Test Report Cc: dpdk-test-reports@iol.unh.edu, Stephen Hemminger Content-Type: text/plain X-BeenThere: test-report@dpdk.org X-Mailman-Version: 2.1.29 Precedence: list List-Id: automatic DPDK test reports List-Unsubscribe: , List-Archive: List-Post: List-Help: List-Subscribe: , Errors-To: test-report-bounces@dpdk.org _Testing PASS_ Branch: dpdk-next-net a0ad790eb9fcef4b00366ae474132bee4bcdab75 --> testing pass Upstream job id: Generic-Unit-Test-DPDK#339875 Test environment and result as below: +-----------------------------+--------------+------------------------------+---------------------------+----------------+ | Environment | lpm_autotest | cryptodev_sw_snow3g_autotest | cryptodev_sw_zuc_autotest | dpdk_unit_test | +=============================+==============+==============================+===========================+================+ | Ubuntu 20.04 ARM SVE | PASS | SKIPPED | SKIPPED | SKIPPED | +-----------------------------+--------------+------------------------------+---------------------------+----------------+ | Debian 12 (arm) | SKIPPED | PASS | PASS | PASS | +-----------------------------+--------------+------------------------------+---------------------------+----------------+ | CentOS Stream 10 (ARM) | SKIPPED | SKIPPED | SKIPPED | PASS | +-----------------------------+--------------+------------------------------+---------------------------+----------------+ | CentOS Stream 9 (ARM) | SKIPPED | SKIPPED | SKIPPED | PASS | +-----------------------------+--------------+------------------------------+---------------------------+----------------+ | Fedora 40 (ARM) | SKIPPED | SKIPPED | SKIPPED | PASS | +-----------------------------+--------------+------------------------------+---------------------------+----------------+ | Fedora 41 (ARM Clang) | SKIPPED | SKIPPED | SKIPPED | PASS | +-----------------------------+--------------+------------------------------+---------------------------+----------------+ | Fedora 41 (ARM) | SKIPPED | SKIPPED | SKIPPED | PASS | +-----------------------------+--------------+------------------------------+---------------------------+----------------+ | Fedora 40 (ARM Clang) | SKIPPED | SKIPPED | SKIPPED | PASS | +-----------------------------+--------------+------------------------------+---------------------------+----------------+ | RHEL9 (ARM) | SKIPPED | SKIPPED | SKIPPED | PASS | +-----------------------------+--------------+------------------------------+---------------------------+----------------+ | Ubuntu 22.04 (ARM) | SKIPPED | SKIPPED | SKIPPED | PASS | +-----------------------------+--------------+------------------------------+---------------------------+----------------+ | Ubuntu 20.04 (ARM) | SKIPPED | SKIPPED | SKIPPED | PASS | +-----------------------------+--------------+------------------------------+---------------------------+----------------+ | Ubuntu 24.04 (ARM) | SKIPPED | SKIPPED | SKIPPED | PASS | +-----------------------------+--------------+------------------------------+---------------------------+----------------+ | 32-bit Ubuntu 22.04.4 (ARM) | SKIPPED | SKIPPED | SKIPPED | PASS | +-----------------------------+--------------+------------------------------+---------------------------+----------------+ Ubuntu 20.04 ARM SVE Kernel: Depends on container host Compiler: gcc (Ubuntu 10.5.0-1ubuntu1~20.04) 10.5.0 Debian 12 (arm) Kernel: Depends on container host Compiler: gcc (Debian 12.2.0-14) 12.2.0 CentOS Stream 10 (ARM) Kernel: Depends on container host Compiler: gcc 14.2.1 20241104 (Red Hat 14.2.1-6) CentOS Stream 9 (ARM) Kernel: Depends on container host Compiler: gcc 11.5.0 20240719 (Red Hat 11.5.0-2) Fedora 40 (ARM) Kernel: Depends on container host Compiler: gcc 14.2.1 20240912 (Red Hat 14.2.1-3) Fedora 41 (ARM Clang) Kernel: Depends on container host Compiler: clang 19.1.5 (Fedora 19.1.5-1.fc41) Fedora 41 (ARM) Kernel: Depends on container host Compiler: gcc 14.2.1 20240912 (Red Hat 14.2.1-3) Fedora 40 (ARM Clang) Kernel: Depends on container host Compiler: clang 18.1.8 (Fedora 18.1.8-1.fc40) RHEL9 (ARM) Kernel: Depends on container host Compiler: gcc 11.5.0 20240719 (Red Hat 11.5.0-2) Ubuntu 22.04 (ARM) Kernel: Depends on container host Compiler: gcc (Ubuntu 11.4.0-1ubuntu1~22.04) 11.4.0 Ubuntu 20.04 (ARM) Kernel: Depends on container host Compiler: gcc (Ubuntu 9.4.0-1ubuntu1~20.04.2) 9.4.0 Ubuntu 24.04 (ARM) Kernel: Depends on container host Compiler: gcc (Ubuntu 13.3.0-6ubuntu2~24.04) 13.3.0 32-bit Ubuntu 22.04.4 (ARM) Kernel: 5.15.83+ aarch64 Compiler: gcc (Ubuntu 11.4.0-1ubuntu1~22.04) 11.4.0 To view detailed results, visit: https://lab.dpdk.org/results/dashboard/tarballs/33614/ UNH-IOL DPDK Community Lab To manage your email subscriptions, visit: https://lab.dpdk.org/results/dashboard/preferences/subscriptions/