From mboxrd@z Thu Jan 1 00:00:00 1970 Return-Path: Received: from mails.dpdk.org (mails.dpdk.org [217.70.189.124]) by inbox.dpdk.org (Postfix) with ESMTP id 5B4EB467B6 for ; Thu, 22 May 2025 11:17:40 +0200 (CEST) Received: from mails.dpdk.org (localhost [127.0.0.1]) by mails.dpdk.org (Postfix) with ESMTP id 2226D402D1; Thu, 22 May 2025 11:17:40 +0200 (CEST) Received: from mail-yw1-f226.google.com (mail-yw1-f226.google.com [209.85.128.226]) by mails.dpdk.org (Postfix) with ESMTP id 36636402CA for ; Thu, 22 May 2025 11:17:38 +0200 (CEST) Received: by mail-yw1-f226.google.com with SMTP id 00721157ae682-7080dd5fe92so62488917b3.3 for ; Thu, 22 May 2025 02:17:38 -0700 (PDT) DKIM-Signature: v=1; a=rsa-sha256; c=relaxed/relaxed; d=iol.unh.edu; s=unh-iol; t=1747905457; x=1748510257; darn=dpdk.org; h=cc:to:from:subject:message-id:date:from:to:cc:subject:date :message-id:reply-to; bh=y2nUmjRLvWdet1uzYjh1dMA6ufkpTKCtPFWN37PfQ9c=; b=Ri3fTxm5YHKTHxyF3KeFEMrh8RYIInlMZv6C59+ATBQikwH2bT4NnZVxYu3cVtq0sD wiMuzp634oMJXF6N50F/qdGVag/vFzv09WZGpXk6DKNVcs4VkRWgE07nHHTysltPYUPK 75z7+J/OmvBHPSSh/qXnmXEsdTXAqvIOJS+4g= X-Google-DKIM-Signature: v=1; a=rsa-sha256; c=relaxed/relaxed; d=1e100.net; s=20230601; t=1747905457; x=1748510257; h=cc:to:from:subject:message-id:date:x-gm-message-state:from:to:cc :subject:date:message-id:reply-to; bh=y2nUmjRLvWdet1uzYjh1dMA6ufkpTKCtPFWN37PfQ9c=; b=Pd477Y/8rn3HwjzeQ39f7mK6zFd0bRohZeVLkZVrfJJw3V2RyDX2Mme86Gavm/B8ck QxAQZzkEuZqnVg5UDRMH8VkwTmPx9fFF8cqT608N+Ei9yI5B/VJK2JmuVPP4GvexuHEF swZNeA1We9EDPzVx5W2SiN/htcPL9OjB7ZelUpwXBmPlBGyikqWzK9+5C+x/En3iFtAm 0zv/SqExsJsY+X9BfGPGd6gPbr2VTb3ZNj57q+bdfFr2QL7C3lBnOZJXBfGATqe35Bzk UF2ef7DFJcX72OzqQglgGeRss/vt9qQkxMtXcKCpAz4KdbtzuKendtid/GhTjMmkuOFU KP1Q== X-Gm-Message-State: AOJu0Yz8L0naox02kEowHXM/Lak2xDUQISQuHMd06KOu+y/W8ywzHmXe C5jEBydFyeUk084h5lJSAVpSqraOoeMHYIIt9+4XjvlHNpsr/eY2mbo0Omc+nwwv5g0h+MGyIDv bPNY06Q+ztcDSsCnftNrnXje9GU3QqqaGiGZN X-Gm-Gg: ASbGncsC/3kIVZIqUktniRtUWT82y2ioW0w4kg9569LIHWH8jVUMHOvtUDG6CuZwHvJ 6KWEFEORPufwXRV5cbR20yQsCucasZb9sNBqBJV3t0lflnA/2oN0sWfRCUrutelEY4NzYeonrEy Nng1Ox0dckW8r4bIyIcTAyjr9FxDrohVh66EEH9crZpBrIM7W8BplKFz4BBYJK7gumGiISmQqXK w3qYxIh9q5nNH3pjbwvvb+g3kaN0ndWBDXf9EmDTOZsu26jOwHgT0WHMF7fdreiLWIr2xmVh27A uNmUkSEJv6RDVtW4SPA46Ihm83qPwMWgAAglc546exv95nwUuALe5ZAHI/A= X-Google-Smtp-Source: AGHT+IHtAJMvlD9D63efT9ezuJqxAAXxVaJ2KNhSVU0se5umqDcfFBL2RsHFbjyVrYvtqxHTDbzEUOEcSo7n X-Received: by 2002:a05:690c:64ca:b0:707:e5b0:7cc9 with SMTP id 00721157ae682-70ca7bbcb3dmr347156157b3.34.1747905457466; Thu, 22 May 2025 02:17:37 -0700 (PDT) Received: from postal.iol.unh.edu (postal.iol.unh.edu. [132.177.123.84]) by smtp-relay.gmail.com with ESMTPS id 00721157ae682-70ca836613esm2921537b3.29.2025.05.22.02.17.37 (version=TLS1_2 cipher=ECDHE-ECDSA-AES128-GCM-SHA256 bits=128/128); Thu, 22 May 2025 02:17:37 -0700 (PDT) X-Relaying-Domain: iol.unh.edu Date: Thu, 22 May 2025 02:17:37 -0700 (PDT) Message-ID: <682eebb1.810a0220.121452.f353SMTPIN_ADDED_MISSING@mx.google.com> Received: from [172.21.0.5] (unknown [172.18.0.240]) by postal.iol.unh.edu (Postfix) with ESMTP id 0D6FB6052471; Thu, 22 May 2025 05:17:37 -0400 (EDT) Subject: |WARNING| [GIT MASTER] 83a7a648344674c0269fcaeb71d8d16468421a0e From: dpdklab@iol.unh.edu To: Test Report Cc: dpdk-test-reports@iol.unh.edu, Xueming Li , Christian Ehrhardt , Kevin Traynor , Luca Boccassi Content-Type: text/plain X-BeenThere: test-report@dpdk.org X-Mailman-Version: 2.1.29 Precedence: list List-Id: automatic DPDK test reports List-Unsubscribe: , List-Archive: List-Post: List-Help: List-Subscribe: , Errors-To: test-report-bounces@dpdk.org _Testing issues_ Branch: tags/v23.11 83a7a648344674c0269fcaeb71d8d16468421a0e --> testing issues Upstream job id: Generic-DPDK-Compile-Meson#390373 Test environment and result as below: +---------------------+--------------------+-------------------+------------------+-------------------+-------------------------+----------------------+ | Environment | dpdk_meson_compile | dpdk_compile_spdk | dpdk_compile_ovs | dpdk_msvc_compile | dpdk_llvm_clang_compile | dpdk_mingw64_compile | +=====================+====================+===================+==================+===================+=========================+======================+ | CentOS Stream 9 | PASS | PASS | SKIPPED | SKIPPED | SKIPPED | SKIPPED | +---------------------+--------------------+-------------------+------------------+-------------------+-------------------------+----------------------+ | Debian 12 | PASS | PASS | SKIPPED | SKIPPED | SKIPPED | SKIPPED | +---------------------+--------------------+-------------------+------------------+-------------------+-------------------------+----------------------+ | CentOS Stream 10 | PASS | SKIPPED | SKIPPED | SKIPPED | SKIPPED | SKIPPED | +---------------------+--------------------+-------------------+------------------+-------------------+-------------------------+----------------------+ | Fedora 40 (Clang) | PASS | WARN | SKIPPED | SKIPPED | SKIPPED | SKIPPED | +---------------------+--------------------+-------------------+------------------+-------------------+-------------------------+----------------------+ | Fedora 41 (Clang) | PASS | WARN | PASS | SKIPPED | SKIPPED | SKIPPED | +---------------------+--------------------+-------------------+------------------+-------------------+-------------------------+----------------------+ | Fedora 40 | PASS | PASS | SKIPPED | SKIPPED | SKIPPED | SKIPPED | +---------------------+--------------------+-------------------+------------------+-------------------+-------------------------+----------------------+ | Ubuntu 24.04 | PASS | PASS | PASS | SKIPPED | SKIPPED | SKIPPED | +---------------------+--------------------+-------------------+------------------+-------------------+-------------------------+----------------------+ | Fedora 41 | PASS | PASS | PASS | SKIPPED | SKIPPED | SKIPPED | +---------------------+--------------------+-------------------+------------------+-------------------+-------------------------+----------------------+ | RHEL9 | PASS | SKIPPED | SKIPPED | SKIPPED | SKIPPED | SKIPPED | +---------------------+--------------------+-------------------+------------------+-------------------+-------------------------+----------------------+ | Ubuntu 20.04 | PASS | SKIPPED | SKIPPED | SKIPPED | SKIPPED | SKIPPED | +---------------------+--------------------+-------------------+------------------+-------------------+-------------------------+----------------------+ | openSUSE Leap 15 | PASS | SKIPPED | SKIPPED | SKIPPED | SKIPPED | SKIPPED | +---------------------+--------------------+-------------------+------------------+-------------------+-------------------------+----------------------+ | Ubuntu 22.04 | PASS | PASS | SKIPPED | SKIPPED | SKIPPED | SKIPPED | +---------------------+--------------------+-------------------+------------------+-------------------+-------------------------+----------------------+ | RHEL8 | PASS | SKIPPED | SKIPPED | SKIPPED | SKIPPED | SKIPPED | +---------------------+--------------------+-------------------+------------------+-------------------+-------------------------+----------------------+ | Alpine | PASS | SKIPPED | SKIPPED | SKIPPED | SKIPPED | SKIPPED | +---------------------+--------------------+-------------------+------------------+-------------------+-------------------------+----------------------+ | FreeBSD 14.2 | PASS | SKIPPED | SKIPPED | SKIPPED | SKIPPED | SKIPPED | +---------------------+--------------------+-------------------+------------------+-------------------+-------------------------+----------------------+ | Windows Server 2022 | SKIPPED | SKIPPED | SKIPPED | PASS | PASS | PASS | +---------------------+--------------------+-------------------+------------------+-------------------+-------------------------+----------------------+ ==== 20 line log output for Fedora 41 (Clang) (dpdk_compile_spdk): ==== --- Failed to get log output --- ==== End log output ==== CentOS Stream 9 Kernel: Depends on container host Compiler: gcc 11.5.0 20240719 (Red Hat 11.5.0-2) Debian 12 Kernel: Depends on container host Compiler: gcc (Debian 12.2.0-14) 12.2.0 CentOS Stream 10 Kernel: Depends on container host Compiler: gcc 14.2.1 20241104 (Red Hat 14.2.1-6) Fedora 40 (Clang) Kernel: Depends on container host Compiler: clang 18.1.8 (Fedora 18.1.8-1.fc40) Fedora 41 (Clang) Kernel: Depends on container host Compiler: clang 19.1.5 (Fedora 19.1.5-1.fc41) Fedora 40 Kernel: Depends on container host Compiler: gcc 14.2.1 20240912 (Red Hat 14.2.1-3) Ubuntu 24.04 Kernel: Depends on container host Compiler: gcc (Ubuntu 13.3.0-6ubuntu2~24.04) 13.3.0 Fedora 41 Kernel: Depends on container host Compiler: gcc 14.2.1 20240912 (Red Hat 14.2.1-3) RHEL9 Kernel: Depends on container host Compiler: gcc 11.5.0 20240719 (Red Hat 11.5.0-2) Ubuntu 20.04 Kernel: 4.19.325-0419325-generic Compiler: gcc (Ubuntu 9.4.0-1ubuntu1~20.04.2) 9.4.0 openSUSE Leap 15 Kernel: Depends on container host Compiler: gcc (SUSE Linux) 7.5.0 Ubuntu 22.04 Kernel: Depends on container host Compiler: gcc (Ubuntu 11.4.0-1ubuntu1~22.04) 11.4.0 RHEL8 Kernel: Depends on container host Compiler: gcc 8.5.0 20210514 (Red Hat 8.5.0-22) Alpine Kernel: Depends on container host Compiler: gcc (Alpine 14.2.0) 14.2.0 FreeBSD 14.2 Kernel: 14.2-RELEASE Compiler: clang 18.1.6 Windows Server 2022 Kernel: 10.0.20348.2031 Compiler: clang 15.0.7, gcc 14.1.0 (MinGW), and MSVC VS 19.39.33521 To view detailed results, visit: https://lab.dpdk.org/results/dashboard/tarballs/33613/ UNH-IOL DPDK Community Lab To manage your email subscriptions, visit: https://lab.dpdk.org/results/dashboard/preferences/subscriptions/