From mboxrd@z Thu Jan 1 00:00:00 1970 Return-Path: Received: from mails.dpdk.org (mails.dpdk.org [217.70.189.124]) by inbox.dpdk.org (Postfix) with ESMTP id DA563467B6 for ; Thu, 22 May 2025 11:42:09 +0200 (CEST) Received: from mails.dpdk.org (localhost [127.0.0.1]) by mails.dpdk.org (Postfix) with ESMTP id D4836402CA; Thu, 22 May 2025 11:42:09 +0200 (CEST) Received: from mail-ua1-f97.google.com (mail-ua1-f97.google.com [209.85.222.97]) by mails.dpdk.org (Postfix) with ESMTP id DCF9D400D5 for ; Thu, 22 May 2025 11:42:07 +0200 (CEST) Received: by mail-ua1-f97.google.com with SMTP id a1e0cc1a2514c-87c02437d02so2391869241.3 for ; Thu, 22 May 2025 02:42:07 -0700 (PDT) DKIM-Signature: v=1; a=rsa-sha256; c=relaxed/relaxed; d=iol.unh.edu; s=unh-iol; t=1747906927; x=1748511727; darn=dpdk.org; h=cc:to:from:subject:message-id:date:from:to:cc:subject:date :message-id:reply-to; bh=HlHopuYSwnAx65t5pqgAkxHXAo+UiWOhSXMMSFIDUu0=; b=fkOeBcflQzw8zhckR3/OD1HuETYtIdQgLM4hkkB4uQgBtruOgfMvYFE9Sfb7zzTX5B G1ZD+x+aaS3cJ10saufI8pTLSKT8CtQdXx1sOfbN6xrfwvDOQLvjiJKjdhESW6B38q4b R9I2IRO5Z7MUsEMXts33oHq6lG/VFWLpecFOU= X-Google-DKIM-Signature: v=1; a=rsa-sha256; c=relaxed/relaxed; d=1e100.net; s=20230601; t=1747906927; x=1748511727; h=cc:to:from:subject:message-id:date:x-gm-message-state:from:to:cc :subject:date:message-id:reply-to; bh=HlHopuYSwnAx65t5pqgAkxHXAo+UiWOhSXMMSFIDUu0=; b=oTbGbIW07DEu7OweVex168U0OwZEW0l8cpeUcL6ElNuic9fForEo9KQCWublPoZ/Xj yuvVoQ+5YDRzJA2FOE/MSx3vW6Qc76e3aacYFJqbiqmMYDCWqZmqa5m5LcN2TNrCu3iA XN6l9/HWXHnyD9E3dI2s099Z/YnJJ2VXmVVK3CgealSQyOUhefQ9oiypX2jPG8tSW5DG EuJhBHrsOr7JvVGfy1alFORMkCI6ZZvB8yIp3m0W5VNRd847BrKGW+hyYaDR3e4bv4/W bEdMipoSZ99dj212h1yPU1A9GDljEege0uKoKVEP1wpVGfhr9FTLEuxIDY4VC/XTowac YEdQ== X-Gm-Message-State: AOJu0Yxj7rbd+neknCu1iTDccWj0jx86QUyXpa3yBU6dcJPt76WlGIlc o9sibGAQnPzQtlk6wfk0HcEs5pT7/RTgzV33vcrxVT3EvJppAzzaHsxk5asBSQEQMNvwGLEYITw /7qCFMTS1NisDxkQoHYtyTt4WLjybsfpH59fv X-Gm-Gg: ASbGncvOXu7BhScwVY69+5b/aNLs5Sde9HcvmAdvd3Vc2jPIB9rzT3P644gdbIBp0Ls 4DYeEAXwXuSdd/Aay62eTBg9qPhCopeo44ams2UsCUItbpRmOHn6tzJbEfWGXcnPFT8FjLmFi/0 OGtNq2ZmaHtYMgfFQKLWP1AJgihDf58/2OO4EORA0wS0rm4MGoHCLsCwm24OyO0FZ9+ZBDbqhHY 0jit+tR34KpwIUNFuE+2L1eY2k1u+YvECeDuk/21LfNjlznaoVOxc3GLXwOYweLJUA3tItFZCW0 AE4SvM2J/d+ZlIbx6+8bjggFusze43wTV4OEn7aKiRT5r07CdMABVpBaLCw= X-Google-Smtp-Source: AGHT+IE9ZWqM5t0V5jnU0QMudu5/HQDQf6znVRSDfF4ay3vmlb7HgAvW8EjHLd/9Op91WEpjgQeeFXe4cY7k X-Received: by 2002:a05:6102:5e96:b0:4bb:c24b:b658 with SMTP id ada2fe7eead31-4dfa6bf8bdcmr23223821137.18.1747906927220; Thu, 22 May 2025 02:42:07 -0700 (PDT) Received: from postal.iol.unh.edu (postal.iol.unh.edu. [132.177.123.84]) by smtp-relay.gmail.com with ESMTPS id a1e0cc1a2514c-87bec117f55sm188691241.7.2025.05.22.02.42.07 (version=TLS1_2 cipher=ECDHE-ECDSA-AES128-GCM-SHA256 bits=128/128); Thu, 22 May 2025 02:42:07 -0700 (PDT) X-Relaying-Domain: iol.unh.edu Date: Thu, 22 May 2025 02:42:07 -0700 (PDT) Message-ID: <682ef16f.050a0220.54c6f.965eSMTPIN_ADDED_MISSING@mx.google.com> Received: from [172.21.0.5] (unknown [172.18.0.240]) by postal.iol.unh.edu (Postfix) with ESMTP id BA8006052471; Thu, 22 May 2025 05:42:06 -0400 (EDT) Subject: |SUCCESS| [GIT MASTER] 83a7a648344674c0269fcaeb71d8d16468421a0e From: dpdklab@iol.unh.edu To: Test Report Cc: dpdk-test-reports@iol.unh.edu, Xueming Li , Christian Ehrhardt , Kevin Traynor , Luca Boccassi Content-Type: text/plain X-BeenThere: test-report@dpdk.org X-Mailman-Version: 2.1.29 Precedence: list List-Id: automatic DPDK test reports List-Unsubscribe: , List-Archive: List-Post: List-Help: List-Subscribe: , Errors-To: test-report-bounces@dpdk.org _Testing PASS_ Branch: tags/v23.11 83a7a648344674c0269fcaeb71d8d16468421a0e --> testing pass Upstream job id: Generic-DPDK-Compile-Meson#390379 Test environment and result as below: +------------------------------------+--------------------+ | Environment | dpdk_meson_compile | +====================================+====================+ | RHEL9 (ARM) | PASS | +------------------------------------+--------------------+ | Ubuntu 20.04 ARM GCC Cross Compile | PASS | +------------------------------------+--------------------+ | Ubuntu 20.04 ARM SVE | PASS | +------------------------------------+--------------------+ | Debian 12 with MUSDK | PASS | +------------------------------------+--------------------+ | Fedora 40 (ARM) | PASS | +------------------------------------+--------------------+ | Fedora 40 (ARM Clang) | PASS | +------------------------------------+--------------------+ | Fedora 41 (ARM) | PASS | +------------------------------------+--------------------+ | Fedora 41 (ARM Clang) | PASS | +------------------------------------+--------------------+ | Ubuntu 20.04 (ARM) | PASS | +------------------------------------+--------------------+ | Ubuntu 22.04 (ARM) | PASS | +------------------------------------+--------------------+ | Ubuntu 24.04 (ARM) | PASS | +------------------------------------+--------------------+ | CentOS Stream 9 (ARM) | PASS | +------------------------------------+--------------------+ | CentOS Stream 10 (ARM) | PASS | +------------------------------------+--------------------+ | Debian 12 (arm) | PASS | +------------------------------------+--------------------+ RHEL9 (ARM) Kernel: Depends on container host Compiler: gcc 11.5.0 20240719 (Red Hat 11.5.0-2) Ubuntu 20.04 ARM GCC Cross Compile Kernel: Depends on container host Compiler: aarch64-linux-gnu-gcc (Ubuntu 9.4.0-1ubuntu1~20.04.2) 9.4.0 Ubuntu 20.04 ARM SVE Kernel: Depends on container host Compiler: gcc (Ubuntu 10.5.0-1ubuntu1~20.04) 10.5.0 Debian 12 with MUSDK Kernel: Depends on container host Compiler: gcc (Debian 12.2.0-14) 12.2.0 Fedora 40 (ARM) Kernel: Depends on container host Compiler: gcc 14.2.1 20240912 (Red Hat 14.2.1-3) Fedora 40 (ARM Clang) Kernel: Depends on container host Compiler: clang 18.1.8 (Fedora 18.1.8-1.fc40) Fedora 41 (ARM) Kernel: Depends on container host Compiler: gcc 14.2.1 20240912 (Red Hat 14.2.1-3) Fedora 41 (ARM Clang) Kernel: Depends on container host Compiler: clang 19.1.5 (Fedora 19.1.5-1.fc41) Ubuntu 20.04 (ARM) Kernel: Depends on container host Compiler: gcc (Ubuntu 9.4.0-1ubuntu1~20.04.2) 9.4.0 Ubuntu 22.04 (ARM) Kernel: Depends on container host Compiler: gcc (Ubuntu 11.4.0-1ubuntu1~22.04) 11.4.0 Ubuntu 24.04 (ARM) Kernel: Depends on container host Compiler: gcc (Ubuntu 13.3.0-6ubuntu2~24.04) 13.3.0 CentOS Stream 9 (ARM) Kernel: Depends on container host Compiler: gcc 11.5.0 20240719 (Red Hat 11.5.0-2) CentOS Stream 10 (ARM) Kernel: Depends on container host Compiler: gcc 14.2.1 20241104 (Red Hat 14.2.1-6) Debian 12 (arm) Kernel: Depends on container host Compiler: gcc (Debian 12.2.0-14) 12.2.0 To view detailed results, visit: https://lab.dpdk.org/results/dashboard/tarballs/33613/ UNH-IOL DPDK Community Lab To manage your email subscriptions, visit: https://lab.dpdk.org/results/dashboard/preferences/subscriptions/