From mboxrd@z Thu Jan  1 00:00:00 1970
Return-Path: <test-report-bounces@dpdk.org>
Received: from mails.dpdk.org (mails.dpdk.org [217.70.189.124])
	by inbox.dpdk.org (Postfix) with ESMTP id 3AB2E467B6
	for <public@inbox.dpdk.org>; Thu, 22 May 2025 11:44:12 +0200 (CEST)
Received: from mails.dpdk.org (localhost [127.0.0.1])
	by mails.dpdk.org (Postfix) with ESMTP id 1BCB7402CA;
	Thu, 22 May 2025 11:44:12 +0200 (CEST)
Received: from mail-pf1-f226.google.com (mail-pf1-f226.google.com
 [209.85.210.226])
 by mails.dpdk.org (Postfix) with ESMTP id EA701400D5
 for <test-report@dpdk.org>; Thu, 22 May 2025 11:44:10 +0200 (CEST)
Received: by mail-pf1-f226.google.com with SMTP id
 d2e1a72fcca58-7426c44e014so7605772b3a.3
 for <test-report@dpdk.org>; Thu, 22 May 2025 02:44:10 -0700 (PDT)
DKIM-Signature: v=1; a=rsa-sha256; c=relaxed/relaxed;
 d=iol.unh.edu; s=unh-iol; t=1747907050; x=1748511850; darn=dpdk.org;
 h=references:in-reply-to:cc:to:from:subject:message-id:date:from:to
 :cc:subject:date:message-id:reply-to;
 bh=WtQU16U5puiigl0MxL3C3lupfeRGXR8adXUtfdnaNVo=;
 b=emvde7gXzt1fm73NPKDazZLIdaCRCEGZW47N8oSyNaeaiXg0cHpMeXXxVaDR0KfvdR
 nm3JStnLoigIitF7LPcMq3IFlN0XnDlqWvA5AxiayPqg5C81kxyS/yXvpa6JCpdZBgaL
 Cz9n3eh9/mkdXDt6LoQjgEUw+TAEvAYFVq754=
X-Google-DKIM-Signature: v=1; a=rsa-sha256; c=relaxed/relaxed;
 d=1e100.net; s=20230601; t=1747907050; x=1748511850;
 h=references:in-reply-to:cc:to:from:subject:message-id:date
 :x-gm-message-state:from:to:cc:subject:date:message-id:reply-to;
 bh=WtQU16U5puiigl0MxL3C3lupfeRGXR8adXUtfdnaNVo=;
 b=MBdivtsss8NKTOL40PBQDgsfqEgZ3/lu6IhKY0Z4X58nE5Ef3z0kfwjjnMoPNs29Qb
 movMyNAAlG8c0io3U51m7PUDzZYkH1ydHo4YWIpIF3ZUt4DdaUd9bXCPCKuDB1ByAf5e
 9ozjUQoCfMBQ8DW8IgPJLvdlge65XBvKa9j2NBamZotXU4Sul7HMYbRq9fQWRFVg6QL9
 htAoJQb/8lgPsidEFKWAbZ2KM/SUi7t+aN6gl+o6CDi33tXT5JYFpn9+EeIV4qx34G6H
 y1tOVyggUx930zfkVh5l/pY4R16Q7KMHApS0+q+C+4gzDczfaJm57HUmrWAFoMR4OnkQ
 +LWA==
X-Gm-Message-State: AOJu0YzmX6/LVlRIQ8xNe1r5HlPHzgzKTp2G1et9YsFluMzQV1abuQPL
 xIbxvbyXnMeqUWUhI95ySNywgKX3Lp3IHU3yqRKP+esgY8mW4pEPOaWy5ghoXwErv/8SzW79LgT
 yn8348/G/tD9xJw12WL58XJ6g/Oc2HCXtu/zQH7vTuV/+jbKGl/sNYzOd1yCg
X-Gm-Gg: ASbGncss3UW9S4AiL5aQN35TkrYGTSBqBEOrhAVMHiFqVAtapps7iOCzB/75i7VB1r1
 lDLSRbMzXnwwZkelYlo5t4hLAe/rhdXE//jaJMCIrOQ+1dhyUipIjgZDFDdJ7nq+qLjNRajDGeB
 Q5uYm3dRabrrqNgWn7OWMMoC+4Uu7p0cpKfN87Ga5emXZgvcjWTpRC3uXfv0bbZFUSz3wZg3fHG
 Rp8em+jRwUUmRpLXWmi+4PY7gM79VhjL+eAuO47hjpmS1p/N0sHvL1ag5FaG7lvsSV0IPvf/gH5
 Ai2gOmorYFA+ofh6NN3hyWa522CLbhhbW88v
X-Google-Smtp-Source: AGHT+IGTtTt3MQjnBTQrdDiEJVj7F0UcHGowe3KBnqHmaLq6k0O8EcPEn4I/QiKjsJW3wP4QRWjyIXvMv0q+
X-Received: by 2002:a05:6a21:7e86:b0:218:bbb:c13d with SMTP id
 adf61e73a8af0-2180bbbc1b0mr29201238637.13.1747907049725; 
 Thu, 22 May 2025 02:44:09 -0700 (PDT)
Received: from postal.iol.unh.edu (postal.iol.unh.edu.
 [2606:4100:3880:1234::84]) by smtp-relay.gmail.com with ESMTPS id
 d2e1a72fcca58-742a970d892sm851703b3a.3.2025.05.22.02.44.09
 (version=TLS1_2 cipher=ECDHE-ECDSA-AES128-GCM-SHA256 bits=128/128);
 Thu, 22 May 2025 02:44:09 -0700 (PDT)
X-Relaying-Domain: iol.unh.edu
Date: Thu, 22 May 2025 02:44:09 -0700 (PDT)
Message-ID: <682ef1e9.050a0220.13a065.d41cSMTPIN_ADDED_MISSING@mx.google.com>
Received: from [172.21.0.7] (unknown [172.18.0.240])
 by postal.iol.unh.edu (Postfix) with ESMTP id 6DAFC6052471;
 Thu, 22 May 2025 05:44:08 -0400 (EDT)
Subject: |SUCCESS| pw153580 [PATCH] [v1] compress/zsda: code formatting
From: dpdklab@iol.unh.edu
To: Test Report <test-report@dpdk.org>
Cc: dpdk-test-reports@iol.unh.edu
In-Reply-To: <20250522062351.2266776-1-li.hanxiao@zte.com.cn>
References: <20250522062351.2266776-1-li.hanxiao@zte.com.cn>
Content-Type: text/plain
X-BeenThere: test-report@dpdk.org
X-Mailman-Version: 2.1.29
Precedence: list
List-Id: automatic DPDK test reports <test-report.dpdk.org>
List-Unsubscribe: <https://mails.dpdk.org/options/test-report>,
 <mailto:test-report-request@dpdk.org?subject=unsubscribe>
List-Archive: <http://mails.dpdk.org/archives/test-report/>
List-Post: <mailto:test-report@dpdk.org>
List-Help: <mailto:test-report-request@dpdk.org?subject=help>
List-Subscribe: <https://mails.dpdk.org/listinfo/test-report>,
 <mailto:test-report-request@dpdk.org?subject=subscribe>
Errors-To: test-report-bounces@dpdk.org

Test-Label: iol-abi-testing
Test-Status: SUCCESS
http://dpdk.org/patch/153580

_Testing PASS_

Submitter: Hanxiao Li <li.hanxiao@zte.com.cn>
Date: Thursday, May 22 2025 06:23:51 
DPDK git baseline: Repo:dpdk
  Branch: master
  CommitID:fc627d7065ba5100faa928cf2edfa1622846f542

153580 --> testing pass

Upstream job id: Generic-DPDK-Compile-ABI#127317

Test environment and result as below:

+-------------------+----------+
|    Environment    | abi_test |
+===================+==========+
| CentOS Stream 9   | PASS     |
+-------------------+----------+
| CentOS Stream 10  | PASS     |
+-------------------+----------+
| Debian 12         | PASS     |
+-------------------+----------+
| RHEL8             | PASS     |
+-------------------+----------+
| Fedora 40         | PASS     |
+-------------------+----------+
| Fedora 41 (Clang) | PASS     |
+-------------------+----------+
| Fedora 40 (Clang) | PASS     |
+-------------------+----------+
| Fedora 41         | PASS     |
+-------------------+----------+
| RHEL9             | PASS     |
+-------------------+----------+
| Ubuntu 22.04      | PASS     |
+-------------------+----------+
| Ubuntu 24.04      | PASS     |
+-------------------+----------+


CentOS Stream 9
	Kernel: Depends on container host
	Compiler: gcc 11.5.0 20240719 (Red Hat 11.5.0-2)

CentOS Stream 10
	Kernel: Depends on container host
	Compiler: gcc 14.2.1 20241104 (Red Hat 14.2.1-6)

Debian 12
	Kernel: Depends on container host
	Compiler: gcc (Debian 12.2.0-14) 12.2.0

RHEL8
	Kernel: Depends on container host
	Compiler: gcc 8.5.0 20210514 (Red Hat 8.5.0-22)

Fedora 40
	Kernel: Depends on container host
	Compiler: gcc 14.2.1 20240912 (Red Hat 14.2.1-3)

Fedora 41 (Clang)
	Kernel: Depends on container host
	Compiler: clang 19.1.5 (Fedora 19.1.5-1.fc41)

Fedora 40 (Clang)
	Kernel: Depends on container host
	Compiler: clang 18.1.8 (Fedora 18.1.8-1.fc40)

Fedora 41
	Kernel: Depends on container host
	Compiler: gcc 14.2.1 20240912 (Red Hat 14.2.1-3)

RHEL9
	Kernel: Depends on container host
	Compiler: gcc 11.5.0 20240719 (Red Hat 11.5.0-2)

Ubuntu 22.04
	Kernel: Depends on container host
	Compiler: gcc (Ubuntu 11.4.0-1ubuntu1~22.04) 11.4.0

Ubuntu 24.04
	Kernel: Depends on container host
	Compiler: gcc (Ubuntu 13.3.0-6ubuntu2~24.04) 13.3.0

To view detailed results, visit:
https://lab.dpdk.org/results/dashboard/patchsets/33228/

UNH-IOL DPDK Community Lab

To manage your email subscriptions, visit: 
https://lab.dpdk.org/results/dashboard/preferences/subscriptions/