From mboxrd@z Thu Jan 1 00:00:00 1970 Return-Path: Received: from mails.dpdk.org (mails.dpdk.org [217.70.189.124]) by inbox.dpdk.org (Postfix) with ESMTP id 67378467B6 for ; Thu, 22 May 2025 11:46:06 +0200 (CEST) Received: from mails.dpdk.org (localhost [127.0.0.1]) by mails.dpdk.org (Postfix) with ESMTP id 53C2D402CA; Thu, 22 May 2025 11:46:06 +0200 (CEST) Received: from mail-pf1-f227.google.com (mail-pf1-f227.google.com [209.85.210.227]) by mails.dpdk.org (Postfix) with ESMTP id 42FC8400D5 for ; Thu, 22 May 2025 11:46:05 +0200 (CEST) Received: by mail-pf1-f227.google.com with SMTP id d2e1a72fcca58-742b0840d98so4578399b3a.1 for ; Thu, 22 May 2025 02:46:05 -0700 (PDT) DKIM-Signature: v=1; a=rsa-sha256; c=relaxed/relaxed; d=iol.unh.edu; s=unh-iol; t=1747907164; x=1748511964; darn=dpdk.org; h=references:in-reply-to:cc:to:from:subject:message-id:date:from:to :cc:subject:date:message-id:reply-to; bh=qrIK98n0eeBHDHl5wwmvRaXzkxnLwsqFA5l7/noGlqU=; b=PhrWmvLUQzHx60eFV7T1HB2bNVvbQYh6kdL/hjfDL2J0k1DYUghbl3nvQV+c5zZsoo Oa1Z7LXk16/Uxr6bKVuFnPY9NLgR9tQfv8BBQez4yb+RNiVtOGzxiLYoTDsjkE+t9z8w QrOfLbp71KIS0nmtWdeCvMPRIiMixeMCKNTXI= X-Google-DKIM-Signature: v=1; a=rsa-sha256; c=relaxed/relaxed; d=1e100.net; s=20230601; t=1747907164; x=1748511964; h=references:in-reply-to:cc:to:from:subject:message-id:date :x-gm-message-state:from:to:cc:subject:date:message-id:reply-to; bh=qrIK98n0eeBHDHl5wwmvRaXzkxnLwsqFA5l7/noGlqU=; b=v0Vur6pLyzuoWEPtH75xuPSHeMlmbFEax5y7VSXZMpQhSNLhVHxjVftxZ3fSjvlyx+ wxYdHItbIpjrWneLhdXdMaT1QAU8Xoz7ZxZvtM+v9fEjguOx2gxbpYQIk3as+nfVUymY e44Oe8I+rcZKoBbiBdQFPWEMAc43Gc58PtJkyWBmwKPakTSeD7wiQIGnsau2WaHDKbbd Eh9c9153fcAKEWrfxB1FQE1FG/rhIi4sPoSisEeOESKtHzdhR9mIBYYVXLeIQPV+pIBb WfAWgl0t2BOhx0y5u7KTQ6bnMDGxD5Q9FWmdejDkNXewvDzzxJ62g5FoBNaL/SioaXIB s7qg== X-Gm-Message-State: AOJu0YzSCasYp9KuZwADHUqC/4rmUgGCo9+so2OE+J6PjJ0LChzKH6+f Nbp+IHHzlRaq6fmvdCWwvRpTKQIGbxGkrHS3oCz49cr7L175auP7H8nvPczoY0zZW5iAC63S/37 yTBnOPjsipEUdOtP0vyUf0FSw9+mpWpnCcNS2VyucZy9Q X-Gm-Gg: ASbGnctBZ0HSx9SIlEoMlwC1CLcxJQE/1yhVpbf3+SksBYWi6I16dPxWvNLHtZLGZxR sjyXXY+aclJACYKeZa2ClSspG1VV6mfh05/sPJYmq66Zgyk8Vx6HnkpY9XZqQ3Yv4aDBUrYhR5D S+talsfijzSiOIzTj8ulFIJfi6K4I07S3HIbh0EiqcZl31uhXAHHkoZP42yWUH8+wcSb3DXnci/ oCic6nDjos+ILi9sMFS57l39PJ0k7Dn8jT9ADNjoBr/NGiiF7RNOB7tnUlvJGeaGxx6VeapY9tf /+PIH37SwmrZRouj2AiqFedfaf7ggwJ9CO7m9sjPM6d9NxB/hW9uTEYjvoA= X-Google-Smtp-Source: AGHT+IFhcwjciKyhO1Oho9pfQBdGAE8xW3IOf1QpWzqPMHzQ+yVdjUBhK2USbSPiHW9J8Xmn2DCzOv0RsSzm X-Received: by 2002:a05:6a00:e0e:b0:730:9946:5973 with SMTP id d2e1a72fcca58-742acc8da9fmr28869385b3a.5.1747907164330; Thu, 22 May 2025 02:46:04 -0700 (PDT) Received: from postal.iol.unh.edu (postal.iol.unh.edu. [132.177.123.84]) by smtp-relay.gmail.com with ESMTPS id d2e1a72fcca58-742ad9683a3sm797377b3a.4.2025.05.22.02.46.04 (version=TLS1_2 cipher=ECDHE-ECDSA-AES128-GCM-SHA256 bits=128/128); Thu, 22 May 2025 02:46:04 -0700 (PDT) X-Relaying-Domain: iol.unh.edu Date: Thu, 22 May 2025 02:46:04 -0700 (PDT) Message-ID: <682ef25c.050a0220.285d85.ac96SMTPIN_ADDED_MISSING@mx.google.com> Received: from [172.21.0.5] (unknown [172.18.0.240]) by postal.iol.unh.edu (Postfix) with ESMTP id 81DA86052471; Thu, 22 May 2025 05:46:03 -0400 (EDT) Subject: |SUCCESS| pw153580 [PATCH] [v1] compress/zsda: code formatting From: dpdklab@iol.unh.edu To: Test Report Cc: dpdk-test-reports@iol.unh.edu In-Reply-To: <20250522062351.2266776-1-li.hanxiao@zte.com.cn> References: <20250522062351.2266776-1-li.hanxiao@zte.com.cn> Content-Type: text/plain X-BeenThere: test-report@dpdk.org X-Mailman-Version: 2.1.29 Precedence: list List-Id: automatic DPDK test reports List-Unsubscribe: , List-Archive: List-Post: List-Help: List-Subscribe: , Errors-To: test-report-bounces@dpdk.org Test-Label: iol-abi-testing Test-Status: SUCCESS http://dpdk.org/patch/153580 _Testing PASS_ Submitter: Hanxiao Li Date: Thursday, May 22 2025 06:23:51 DPDK git baseline: Repo:dpdk Branch: master CommitID:fc627d7065ba5100faa928cf2edfa1622846f542 153580 --> testing pass Upstream job id: Generic-DPDK-Compile-ABI#127313 Test environment and result as below: +-------------------+----------+ | Environment | abi_test | +===================+==========+ | CentOS Stream 9 | PASS | +-------------------+----------+ | CentOS Stream 10 | PASS | +-------------------+----------+ | Debian 12 | PASS | +-------------------+----------+ | RHEL8 | PASS | +-------------------+----------+ | Fedora 40 | PASS | +-------------------+----------+ | Fedora 41 (Clang) | PASS | +-------------------+----------+ | Fedora 40 (Clang) | PASS | +-------------------+----------+ | Fedora 41 | PASS | +-------------------+----------+ | RHEL9 | PASS | +-------------------+----------+ | Ubuntu 22.04 | PASS | +-------------------+----------+ | Ubuntu 24.04 | PASS | +-------------------+----------+ CentOS Stream 9 Kernel: Depends on container host Compiler: gcc 11.5.0 20240719 (Red Hat 11.5.0-2) CentOS Stream 10 Kernel: Depends on container host Compiler: gcc 14.2.1 20241104 (Red Hat 14.2.1-6) Debian 12 Kernel: Depends on container host Compiler: gcc (Debian 12.2.0-14) 12.2.0 RHEL8 Kernel: Depends on container host Compiler: gcc 8.5.0 20210514 (Red Hat 8.5.0-22) Fedora 40 Kernel: Depends on container host Compiler: gcc 14.2.1 20240912 (Red Hat 14.2.1-3) Fedora 41 (Clang) Kernel: Depends on container host Compiler: clang 19.1.5 (Fedora 19.1.5-1.fc41) Fedora 40 (Clang) Kernel: Depends on container host Compiler: clang 18.1.8 (Fedora 18.1.8-1.fc40) Fedora 41 Kernel: Depends on container host Compiler: gcc 14.2.1 20240912 (Red Hat 14.2.1-3) RHEL9 Kernel: Depends on container host Compiler: gcc 11.5.0 20240719 (Red Hat 11.5.0-2) Ubuntu 22.04 Kernel: Depends on container host Compiler: gcc (Ubuntu 11.4.0-1ubuntu1~22.04) 11.4.0 Ubuntu 24.04 Kernel: Depends on container host Compiler: gcc (Ubuntu 13.3.0-6ubuntu2~24.04) 13.3.0 To view detailed results, visit: https://lab.dpdk.org/results/dashboard/patchsets/33228/ UNH-IOL DPDK Community Lab To manage your email subscriptions, visit: https://lab.dpdk.org/results/dashboard/preferences/subscriptions/