From mboxrd@z Thu Jan 1 00:00:00 1970 Return-Path: Received: from mails.dpdk.org (mails.dpdk.org [217.70.189.124]) by inbox.dpdk.org (Postfix) with ESMTP id 71BD6467B6 for ; Thu, 22 May 2025 11:46:44 +0200 (CEST) Received: from mails.dpdk.org (localhost [127.0.0.1]) by mails.dpdk.org (Postfix) with ESMTP id 6CF45402CA; Thu, 22 May 2025 11:46:44 +0200 (CEST) Received: from mail-qv1-f100.google.com (mail-qv1-f100.google.com [209.85.219.100]) by mails.dpdk.org (Postfix) with ESMTP id 6AF7E400D5 for ; Thu, 22 May 2025 11:46:43 +0200 (CEST) Received: by mail-qv1-f100.google.com with SMTP id 6a1803df08f44-6f8ae08e38dso80253096d6.2 for ; Thu, 22 May 2025 02:46:43 -0700 (PDT) DKIM-Signature: v=1; a=rsa-sha256; c=relaxed/relaxed; d=iol.unh.edu; s=unh-iol; t=1747907203; x=1748512003; darn=dpdk.org; h=references:in-reply-to:cc:to:from:subject:message-id:date:from:to :cc:subject:date:message-id:reply-to; bh=rMgrPrY6LuGI7hvZvUNeDgNn0ld5MGRnZlfUKG75O+o=; b=h8YT3dTOYsPwO3krty73LBpGYx4iCNZF/r8IMRc0L2nIRJIsAlpTusE2D5GjIrE2DY EjAH0zUaKw+HBsW/POpDGgNwd92UYqJ51VFkUtzb695+2+LJAJgokv8a4OxWbS8cdPPx jzVV6aM3SE5eDQV1eBP3lH66tNKSz4QbX/sH4= X-Google-DKIM-Signature: v=1; a=rsa-sha256; c=relaxed/relaxed; d=1e100.net; s=20230601; t=1747907203; x=1748512003; h=references:in-reply-to:cc:to:from:subject:message-id:date :x-gm-message-state:from:to:cc:subject:date:message-id:reply-to; bh=rMgrPrY6LuGI7hvZvUNeDgNn0ld5MGRnZlfUKG75O+o=; b=APO6wphAJkCfUxFGIe32WbrMiL1N0hIK7Rm7vVMXWuVA6KVdNsS6FGxaGqtqWUgoQD UYP9MpHDA8KLVF9w86RRTt3SzEYkspuuHvSxf3Go6dQsluC8/W3Wnr9af4mqumflLfdb +a/Pkc38AISy346fV/y2o7XOdaPCgOvAVL2WUvbDQu+MKnabXKzGQ093HCna1H5u1P3n YGHsSAroeHKb+UwmnsoIL1v1i4nTjHQrAyPAyAARBij53TSN+IT7QVQlzEw/Rm0DO2Vv sgrySkTJK1aYhCBJlcZivUcsHiL2uEBYvQVNxxziSZEos95Q1nrQx/UftMZ6WAcB/yPU Th2g== X-Gm-Message-State: AOJu0Ywup47G6inDI8XrxbcLGvcdYOGrdBsE1nxKVJEqwo0fDAASFTnN m33Egba6UE12K/fCejHCkcVLvm24pMvO3T8bumaCS7IQabul0sX7vf+racPxw+1i7jO5NOzzSQE PuqMmSjAtqzaaZI4VgF1W8l7fzFnkFCTZy9AZUfeGRPRjHb5Vp7cc1NhYQ66U X-Gm-Gg: ASbGncvJZWaOiY2UtMyyTGgPXdPrfPLV4kDEaKv9VkM40v1nnCUHz9A+7X7Vn7c7nuA fRH7R/cJI/XxUEwAX5Slb6XI7fzFuawbGRKHTTI/a92VEtwbd842LkoSZUJvQ7ioLjkmRuNTY4S 8F8VIM0UoNFn4uVcAabBeXvfyvjWhYd59HWQxKs7RO3wqb/hQawq/L6LIW2QBPO9e+ouLW17s45 yw1OqMIa4gTl+YRkAOzmeIHj59lGRVfgsI8ejMaeBEsDb8YlfqhSeKc024gOoLWZ8AlYg154XS+ 7Xw5RH3Eb8yd4EEbx47JSNc/h17uI5OGT4h7 X-Google-Smtp-Source: AGHT+IGwmuREfrywGpQkFrHEzM6qNEXdohdjqvHmI0EWcL+pVLiFjQdxJoNZs/ZmPWG+jqRlUjaJVA4F8htd X-Received: by 2002:a05:6214:212b:b0:6f4:c824:9d4a with SMTP id 6a1803df08f44-6f8b0841f3fmr401975246d6.13.1747907202816; Thu, 22 May 2025 02:46:42 -0700 (PDT) Received: from postal.iol.unh.edu (postal.iol.unh.edu. [2606:4100:3880:1234::84]) by smtp-relay.gmail.com with ESMTPS id 6a1803df08f44-6f8b089cea1sm4662456d6.13.2025.05.22.02.46.42 (version=TLS1_2 cipher=ECDHE-ECDSA-AES128-GCM-SHA256 bits=128/128); Thu, 22 May 2025 02:46:42 -0700 (PDT) X-Relaying-Domain: iol.unh.edu Date: Thu, 22 May 2025 02:46:42 -0700 (PDT) Message-ID: <682ef282.050a0220.33c00e.8fd3SMTPIN_ADDED_MISSING@mx.google.com> Received: from [172.21.0.6] (unknown [172.18.0.240]) by postal.iol.unh.edu (Postfix) with ESMTP id 8995D6052471; Thu, 22 May 2025 05:46:42 -0400 (EDT) Subject: |SUCCESS| pw153580 [PATCH] [v1] compress/zsda: code formatting From: dpdklab@iol.unh.edu To: Test Report Cc: dpdk-test-reports@iol.unh.edu In-Reply-To: <20250522062351.2266776-1-li.hanxiao@zte.com.cn> References: <20250522062351.2266776-1-li.hanxiao@zte.com.cn> Content-Type: text/plain X-BeenThere: test-report@dpdk.org X-Mailman-Version: 2.1.29 Precedence: list List-Id: automatic DPDK test reports List-Unsubscribe: , List-Archive: List-Post: List-Help: List-Subscribe: , Errors-To: test-report-bounces@dpdk.org Test-Label: iol-abi-testing Test-Status: SUCCESS http://dpdk.org/patch/153580 _Testing PASS_ Submitter: Hanxiao Li Date: Thursday, May 22 2025 06:23:51 DPDK git baseline: Repo:dpdk Branch: master CommitID:fc627d7065ba5100faa928cf2edfa1622846f542 153580 --> testing pass Upstream job id: Generic-DPDK-Compile-ABI#127318 Test environment and result as below: +-------------------+----------+ | Environment | abi_test | +===================+==========+ | CentOS Stream 9 | PASS | +-------------------+----------+ | CentOS Stream 10 | PASS | +-------------------+----------+ | Debian 12 | PASS | +-------------------+----------+ | RHEL8 | PASS | +-------------------+----------+ | Fedora 40 | PASS | +-------------------+----------+ | Fedora 41 (Clang) | PASS | +-------------------+----------+ | Fedora 40 (Clang) | PASS | +-------------------+----------+ | Fedora 41 | PASS | +-------------------+----------+ | RHEL9 | PASS | +-------------------+----------+ | Ubuntu 22.04 | PASS | +-------------------+----------+ | Ubuntu 24.04 | PASS | +-------------------+----------+ CentOS Stream 9 Kernel: Depends on container host Compiler: gcc 11.5.0 20240719 (Red Hat 11.5.0-2) CentOS Stream 10 Kernel: Depends on container host Compiler: gcc 14.2.1 20241104 (Red Hat 14.2.1-6) Debian 12 Kernel: Depends on container host Compiler: gcc (Debian 12.2.0-14) 12.2.0 RHEL8 Kernel: Depends on container host Compiler: gcc 8.5.0 20210514 (Red Hat 8.5.0-22) Fedora 40 Kernel: Depends on container host Compiler: gcc 14.2.1 20240912 (Red Hat 14.2.1-3) Fedora 41 (Clang) Kernel: Depends on container host Compiler: clang 19.1.5 (Fedora 19.1.5-1.fc41) Fedora 40 (Clang) Kernel: Depends on container host Compiler: clang 18.1.8 (Fedora 18.1.8-1.fc40) Fedora 41 Kernel: Depends on container host Compiler: gcc 14.2.1 20240912 (Red Hat 14.2.1-3) RHEL9 Kernel: Depends on container host Compiler: gcc 11.5.0 20240719 (Red Hat 11.5.0-2) Ubuntu 22.04 Kernel: Depends on container host Compiler: gcc (Ubuntu 11.4.0-1ubuntu1~22.04) 11.4.0 Ubuntu 24.04 Kernel: Depends on container host Compiler: gcc (Ubuntu 13.3.0-6ubuntu2~24.04) 13.3.0 To view detailed results, visit: https://lab.dpdk.org/results/dashboard/patchsets/33228/ UNH-IOL DPDK Community Lab To manage your email subscriptions, visit: https://lab.dpdk.org/results/dashboard/preferences/subscriptions/