From mboxrd@z Thu Jan 1 00:00:00 1970 Return-Path: Received: from mails.dpdk.org (mails.dpdk.org [217.70.189.124]) by inbox.dpdk.org (Postfix) with ESMTP id DC9B3467B6 for ; Thu, 22 May 2025 11:49:54 +0200 (CEST) Received: from mails.dpdk.org (localhost [127.0.0.1]) by mails.dpdk.org (Postfix) with ESMTP id B7D53402CA; Thu, 22 May 2025 11:49:54 +0200 (CEST) Received: from mail-yw1-f226.google.com (mail-yw1-f226.google.com [209.85.128.226]) by mails.dpdk.org (Postfix) with ESMTP id 2E2CE400D5 for ; Thu, 22 May 2025 11:49:54 +0200 (CEST) Received: by mail-yw1-f226.google.com with SMTP id 00721157ae682-70c7b8794faso78090577b3.1 for ; Thu, 22 May 2025 02:49:54 -0700 (PDT) DKIM-Signature: v=1; a=rsa-sha256; c=relaxed/relaxed; d=iol.unh.edu; s=unh-iol; t=1747907393; x=1748512193; darn=dpdk.org; h=cc:to:from:subject:message-id:date:from:to:cc:subject:date :message-id:reply-to; bh=2E0Go+cXBOlINH1Ay0V2WUyWKgL1hUe9a7B6KdENkHo=; b=ZovX+sUKdNeAM/Xnw8Wb10e9JQnSlk6fha2+o96ligO0JMAKN/HdQ9vfmhZjyQwEHk EkZklyfwQkv1hXcrwWtjhnHa7HbWn5+LffZusmow0VJBco1xSDdbU5nj1MZ24sYzIvXk X01Y2xiHau1KqBwk5PXO98sccJyx51rw6EWXU= X-Google-DKIM-Signature: v=1; a=rsa-sha256; c=relaxed/relaxed; d=1e100.net; s=20230601; t=1747907393; x=1748512193; h=cc:to:from:subject:message-id:date:x-gm-message-state:from:to:cc :subject:date:message-id:reply-to; bh=2E0Go+cXBOlINH1Ay0V2WUyWKgL1hUe9a7B6KdENkHo=; b=TbkLMKjK5BxbzATPxsP/19Vb4QwOgNHZSi2gPtSRYWZvuFvVh44h6JP/R3Prq0kjXc 6FKW29oEoHbf+S8y/oFhR4Vh1VYow2Nd3DTlQWl3APbEo4My1wYCtWfKNNVEKe6UdP2S u7ZTWHzCG1oB5/7N3FESHJspgv3YjIpkKFDe92sbBgZUFAQ0hKDSw6UgWdwRAzs8c0qX kTEPp8DRR23Otvxw0A4ECebDg//JR4SmwzcL3eKXctBbxfDpVW8fvaxOwUuzoW3VEaoY isISoUO3PlKFAOeQKSsaBBbXg/V/W8tsCpG5EsSUqwyZFPFKMiQ4gUZtpHltiNnFHM4f lEaA== X-Gm-Message-State: AOJu0YyRdYc+o/vbZVL7CiMRdxdDOirXL2csPnTrpPy/8AO+oy0kabMD FktQK2WwQUgn+tB8kiZjw7PsRbJh5LIGaQotKVKJCWhbio/VAb62VxwWMLHn/Hr7JHCqJluPbx+ Onws2ug1ZjDM0qbIw5ZnLCDEB8J33bROtb3z8fZqX14sx X-Gm-Gg: ASbGnctvWRuLXCItL01KvhspTe5tNgvfa4/MmYu0tEYoWVyaxPl1QiY6aLzz4+OSAad Ho4s6SMwwjEa2jWLl+vVUPD+vqyN7ZYorA/ux/95R94iW2dRXrM0OqAoQs/Ot2CIWqNvriP0kFJ b2QB8rOE8b6ZJ7J5R9eROc3NSBg8QX4weVLwtFKbalnC0kXg5Jf8rRYLsQ42TG8LJL7MN+s/zZA LmJeKiHHK7pRKp6K8UzIAlisMsjsFu5F6hb+DksbfHOQxmYyc2nEszTj/DXl+8ZrMvfkLkS04hl 0PqgesNojYiixMlQ6Z8IB0tShCiYHHBFqNy8VY8avJVvP8pHW19tDntqwfk= X-Google-Smtp-Source: AGHT+IEbVwbEKuAn1uqVF9AKk7YCxQeb/OhjkB8dXTcV8NwDOkc6E0dtnt9WNJ7ojcm+7Ed+6EbLQ/XaxMqS X-Received: by 2002:a05:690c:d87:b0:70d:ecdd:9bd1 with SMTP id 00721157ae682-70decdda042mr107365887b3.24.1747907393437; Thu, 22 May 2025 02:49:53 -0700 (PDT) Received: from postal.iol.unh.edu (postal.iol.unh.edu. [132.177.123.84]) by smtp-relay.gmail.com with ESMTPS id 00721157ae682-70df47a821csm804897b3.43.2025.05.22.02.49.53 (version=TLS1_2 cipher=ECDHE-ECDSA-AES128-GCM-SHA256 bits=128/128); Thu, 22 May 2025 02:49:53 -0700 (PDT) X-Relaying-Domain: iol.unh.edu Date: Thu, 22 May 2025 02:49:53 -0700 (PDT) Message-ID: <682ef341.050a0220.e3b06.4193SMTPIN_ADDED_MISSING@mx.google.com> Received: from [172.21.0.7] (unknown [172.18.0.240]) by postal.iol.unh.edu (Postfix) with ESMTP id 0BC506052471; Thu, 22 May 2025 05:49:53 -0400 (EDT) Subject: |SUCCESS| [GIT MASTER] a0ad790eb9fcef4b00366ae474132bee4bcdab75 From: dpdklab@iol.unh.edu To: Test Report Cc: dpdk-test-reports@iol.unh.edu, Stephen Hemminger Content-Type: text/plain X-BeenThere: test-report@dpdk.org X-Mailman-Version: 2.1.29 Precedence: list List-Id: automatic DPDK test reports List-Unsubscribe: , List-Archive: List-Post: List-Help: List-Subscribe: , Errors-To: test-report-bounces@dpdk.org _Testing PASS_ Branch: dpdk-next-net a0ad790eb9fcef4b00366ae474132bee4bcdab75 --> testing pass Upstream job id: Generic-Unit-Test-DPDK#339876 Test environment and result as below: +-------------------+----------------+ | Environment | dpdk_unit_test | +===================+================+ | CentOS Stream 9 | PASS | +-------------------+----------------+ | CentOS Stream 10 | PASS | +-------------------+----------------+ | Debian 12 | PASS | +-------------------+----------------+ | Fedora 40 | PASS | +-------------------+----------------+ | Fedora 40 (Clang) | PASS | +-------------------+----------------+ | RHEL8 | PASS | +-------------------+----------------+ | RHEL9 | PASS | +-------------------+----------------+ | Fedora 41 (Clang) | PASS | +-------------------+----------------+ | Fedora 41 | PASS | +-------------------+----------------+ | Ubuntu 20.04 | PASS | +-------------------+----------------+ | Ubuntu 22.04 | PASS | +-------------------+----------------+ | Ubuntu 24.04 | PASS | +-------------------+----------------+ CentOS Stream 9 Kernel: Depends on container host Compiler: gcc 11.5.0 20240719 (Red Hat 11.5.0-2) CentOS Stream 10 Kernel: Depends on container host Compiler: gcc 14.2.1 20241104 (Red Hat 14.2.1-6) Debian 12 Kernel: Depends on container host Compiler: gcc (Debian 12.2.0-14) 12.2.0 Fedora 40 Kernel: Depends on container host Compiler: gcc 14.2.1 20240912 (Red Hat 14.2.1-3) Fedora 40 (Clang) Kernel: Depends on container host Compiler: clang 18.1.8 (Fedora 18.1.8-1.fc40) RHEL8 Kernel: Depends on container host Compiler: gcc 8.5.0 20210514 (Red Hat 8.5.0-22) RHEL9 Kernel: Depends on container host Compiler: gcc 11.5.0 20240719 (Red Hat 11.5.0-2) Fedora 41 (Clang) Kernel: Depends on container host Compiler: clang 19.1.5 (Fedora 19.1.5-1.fc41) Fedora 41 Kernel: Depends on container host Compiler: gcc 14.2.1 20240912 (Red Hat 14.2.1-3) Ubuntu 20.04 Kernel: Depends on container host Compiler: gcc (Ubuntu 9.4.0-1ubuntu1~20.04.2) 9.4.0 Ubuntu 22.04 Kernel: Depends on container host Compiler: gcc (Ubuntu 11.4.0-1ubuntu1~22.04) 11.4.0 Ubuntu 24.04 Kernel: Depends on container host Compiler: gcc (Ubuntu 13.3.0-6ubuntu2~24.04) 13.3.0 To view detailed results, visit: https://lab.dpdk.org/results/dashboard/tarballs/33614/ UNH-IOL DPDK Community Lab To manage your email subscriptions, visit: https://lab.dpdk.org/results/dashboard/preferences/subscriptions/