From mboxrd@z Thu Jan 1 00:00:00 1970 Return-Path: Received: from mails.dpdk.org (mails.dpdk.org [217.70.189.124]) by inbox.dpdk.org (Postfix) with ESMTP id F331B467B6 for ; Thu, 22 May 2025 11:51:01 +0200 (CEST) Received: from mails.dpdk.org (localhost [127.0.0.1]) by mails.dpdk.org (Postfix) with ESMTP id E9EF9402CA; Thu, 22 May 2025 11:51:01 +0200 (CEST) Received: from mail-qv1-f98.google.com (mail-qv1-f98.google.com [209.85.219.98]) by mails.dpdk.org (Postfix) with ESMTP id E616E400D5 for ; Thu, 22 May 2025 11:51:00 +0200 (CEST) Received: by mail-qv1-f98.google.com with SMTP id 6a1803df08f44-6f0c30a1ca3so76855626d6.1 for ; Thu, 22 May 2025 02:51:00 -0700 (PDT) DKIM-Signature: v=1; a=rsa-sha256; c=relaxed/relaxed; d=iol.unh.edu; s=unh-iol; t=1747907460; x=1748512260; darn=dpdk.org; h=cc:to:from:subject:message-id:date:from:to:cc:subject:date :message-id:reply-to; bh=k+CSrsCiV4Msxv6+H7nYcFnBdn0Q0JI2U4+0N7fjCs4=; b=SO2nxk0a3/tAYTI7CyhIFzTijalkwDiz2HJxKEHiplDj6jRduCMe4wQnFwu172M/KZ 3XDKRI8RXZs1WbzIfy/sOStDgbn/4etAQ8Gvat2emzY2NzPfG1tAxWeKbei+oHW96KmI cwaQXuBAbaYZT45AQ7YL8VSmjjrmvQQK087Ws= X-Google-DKIM-Signature: v=1; a=rsa-sha256; c=relaxed/relaxed; d=1e100.net; s=20230601; t=1747907460; x=1748512260; h=cc:to:from:subject:message-id:date:x-gm-message-state:from:to:cc :subject:date:message-id:reply-to; bh=k+CSrsCiV4Msxv6+H7nYcFnBdn0Q0JI2U4+0N7fjCs4=; b=X8XaHofE5gsSYtUlK5BRVNKaZS9Y3eStcfbQ2CzPINO1BYDmTqu7igVCxN6ZpZqOsX JB9ECiC6tlKfYP95xpXoEbc0zha3yEFBVgxlfy5B+UiVT+bUwMPB4VJvRYha2tgtbBsD tzWbWEZQ9BfE4B2hRhi1UtdyQoCCNXLZ1CqdquuEh02YK6n6zqtJSx3HzbfcSZXq32t0 ObbP/W33FC/0xDHA232Eloe8OJiXYyiotNRVlKryQuk5DKlFq8DqZAdhluFS11RNIEYL U41kKpbb407I1LKfzPvLs7U8mXUcGlYn5bQRX2O37iuQNB8BlcCjDoKs0miq88TPKMdW f5bQ== X-Gm-Message-State: AOJu0Yy0e+QgiSkzesAmG8GKa32WZ+So/U5YFfJvZPdrT/uWtXECHPNb dSdBKcsCFU/4/rPnmKu0C8mr0hT1D1Zk5Ijpb7JVYoRqAB56uVC5uEH6VZcaXJ1VPTjm713mg00 5XyntFhsuDYYPMyiSJQyqTlSwIM4FbUhupiwET6XskrkY X-Gm-Gg: ASbGncu8YrFd5FjxC71mi347xPCYZ1TDCxO0vEd8vbaxQWSfq6lE/VV79SoQQGkZSsY as2uFZ2s1BoilXT+MjrkIuC1+Qkj4x6JjdE+rIJuWew9gn6VGrnFdHF1hdQD6gJnoadhlTaIXEZ o2w+K4ALWlAgT+c1q1nStCS92SxPH/wEZyqLNy6Q7i7uqZC5co563I4GpJwRXulIAYHbvY5NMu9 wjKJ5ElMmTibfE2ERxA6JGRdKslAH34O+xirctMt+WKBaNH1owuTg0cL+FwAQnl5hkN2vGSXS7i 7Llktkw2z6FF206ksV1p1EvtxiaWWPtvGZKE1DD4cVpIDRPvi3bvzg6ViVE= X-Google-Smtp-Source: AGHT+IFihGRhsl5m1EU5q93LdQ5+ZA2rzplHZ4sSsxNwASoZjSYqG9Yusmg1+6FQGOTrCvZKHbQCLtK5/01A X-Received: by 2002:a05:6214:cc2:b0:6e8:9b52:7a1d with SMTP id 6a1803df08f44-6f8b082872amr391089916d6.8.1747907460327; Thu, 22 May 2025 02:51:00 -0700 (PDT) Received: from postal.iol.unh.edu (postal.iol.unh.edu. [132.177.123.84]) by smtp-relay.gmail.com with ESMTPS id 6a1803df08f44-6f8b3f2955bsm4492636d6.8.2025.05.22.02.51.00 (version=TLS1_2 cipher=ECDHE-ECDSA-AES128-GCM-SHA256 bits=128/128); Thu, 22 May 2025 02:51:00 -0700 (PDT) X-Relaying-Domain: iol.unh.edu Date: Thu, 22 May 2025 02:51:00 -0700 (PDT) Message-ID: <682ef384.0c0a0220.dc1a2.71d4SMTPIN_ADDED_MISSING@mx.google.com> Received: from [172.21.0.5] (unknown [172.18.0.240]) by postal.iol.unh.edu (Postfix) with ESMTP id D067F6052471; Thu, 22 May 2025 05:50:59 -0400 (EDT) Subject: |SUCCESS| [GIT MASTER] a0ad790eb9fcef4b00366ae474132bee4bcdab75 From: dpdklab@iol.unh.edu To: Test Report Cc: dpdk-test-reports@iol.unh.edu, Stephen Hemminger Content-Type: text/plain X-BeenThere: test-report@dpdk.org X-Mailman-Version: 2.1.29 Precedence: list List-Id: automatic DPDK test reports List-Unsubscribe: , List-Archive: List-Post: List-Help: List-Subscribe: , Errors-To: test-report-bounces@dpdk.org _Testing PASS_ Branch: dpdk-next-net a0ad790eb9fcef4b00366ae474132bee4bcdab75 --> testing pass Upstream job id: Generic-Unit-Test-DPDK#339885 Test environment and result as below: +-------------------+----------------+ | Environment | dpdk_unit_test | +===================+================+ | CentOS Stream 9 | PASS | +-------------------+----------------+ | CentOS Stream 10 | PASS | +-------------------+----------------+ | Debian 12 | PASS | +-------------------+----------------+ | Fedora 40 | PASS | +-------------------+----------------+ | Fedora 40 (Clang) | PASS | +-------------------+----------------+ | RHEL8 | PASS | +-------------------+----------------+ | RHEL9 | PASS | +-------------------+----------------+ | Fedora 41 (Clang) | PASS | +-------------------+----------------+ | Fedora 41 | PASS | +-------------------+----------------+ | Ubuntu 20.04 | PASS | +-------------------+----------------+ | Ubuntu 22.04 | PASS | +-------------------+----------------+ | Ubuntu 24.04 | PASS | +-------------------+----------------+ CentOS Stream 9 Kernel: Depends on container host Compiler: gcc 11.5.0 20240719 (Red Hat 11.5.0-2) CentOS Stream 10 Kernel: Depends on container host Compiler: gcc 14.2.1 20241104 (Red Hat 14.2.1-6) Debian 12 Kernel: Depends on container host Compiler: gcc (Debian 12.2.0-14) 12.2.0 Fedora 40 Kernel: Depends on container host Compiler: gcc 14.2.1 20240912 (Red Hat 14.2.1-3) Fedora 40 (Clang) Kernel: Depends on container host Compiler: clang 18.1.8 (Fedora 18.1.8-1.fc40) RHEL8 Kernel: Depends on container host Compiler: gcc 8.5.0 20210514 (Red Hat 8.5.0-22) RHEL9 Kernel: Depends on container host Compiler: gcc 11.5.0 20240719 (Red Hat 11.5.0-2) Fedora 41 (Clang) Kernel: Depends on container host Compiler: clang 19.1.5 (Fedora 19.1.5-1.fc41) Fedora 41 Kernel: Depends on container host Compiler: gcc 14.2.1 20240912 (Red Hat 14.2.1-3) Ubuntu 20.04 Kernel: Depends on container host Compiler: gcc (Ubuntu 9.4.0-1ubuntu1~20.04.2) 9.4.0 Ubuntu 22.04 Kernel: Depends on container host Compiler: gcc (Ubuntu 11.4.0-1ubuntu1~22.04) 11.4.0 Ubuntu 24.04 Kernel: Depends on container host Compiler: gcc (Ubuntu 13.3.0-6ubuntu2~24.04) 13.3.0 To view detailed results, visit: https://lab.dpdk.org/results/dashboard/tarballs/33614/ UNH-IOL DPDK Community Lab To manage your email subscriptions, visit: https://lab.dpdk.org/results/dashboard/preferences/subscriptions/