From mboxrd@z Thu Jan 1 00:00:00 1970 Return-Path: Received: from mails.dpdk.org (mails.dpdk.org [217.70.189.124]) by inbox.dpdk.org (Postfix) with ESMTP id 21EA7467B7 for ; Thu, 22 May 2025 12:24:39 +0200 (CEST) Received: from mails.dpdk.org (localhost [127.0.0.1]) by mails.dpdk.org (Postfix) with ESMTP id EED52402D1; Thu, 22 May 2025 12:24:38 +0200 (CEST) Received: from mail-io1-f99.google.com (mail-io1-f99.google.com [209.85.166.99]) by mails.dpdk.org (Postfix) with ESMTP id 34AA7402CA for ; Thu, 22 May 2025 12:24:37 +0200 (CEST) Received: by mail-io1-f99.google.com with SMTP id ca18e2360f4ac-864a071b44bso199314639f.3 for ; Thu, 22 May 2025 03:24:37 -0700 (PDT) DKIM-Signature: v=1; a=rsa-sha256; c=relaxed/relaxed; d=iol.unh.edu; s=unh-iol; t=1747909476; x=1748514276; darn=dpdk.org; h=cc:to:from:subject:message-id:date:from:to:cc:subject:date :message-id:reply-to; bh=+aSegTTU179aeT0QrWG/X5sxbgSH9DT++NFrKe50FRE=; b=SxpHR3SnKSAn9weN+LkFMvhhY3F7Y81VlqBL+jMc0vEkVNcCAXjuNG3VBRuVf7e38Y g2Q0LtPAbDr9MPXWPsgeDNn0o/7U9fBFSOIDF08+MCy3iTep/8Hsq409h82NMUoKnj0X QxNUv1EON10yKsx20mRspx62145E0m+8adCO8= X-Google-DKIM-Signature: v=1; a=rsa-sha256; c=relaxed/relaxed; d=1e100.net; s=20230601; t=1747909476; x=1748514276; h=cc:to:from:subject:message-id:date:x-gm-message-state:from:to:cc :subject:date:message-id:reply-to; bh=+aSegTTU179aeT0QrWG/X5sxbgSH9DT++NFrKe50FRE=; b=a3DECmhFCD7of1mXpSq2yl6kbRXyO+vrwB3lORAtvckTpwWRT4H0P/eKdmvySpjaN7 SAlWddynmkvkwQUu8HN9WgdWhAGGUGqS+/+CqdsPAWETY5FLFbW6qb70D7mECjUZw26G ZBqOo6oMK/D3VHyCpt2jcHTD8vkiiYPj2ldQK/s/QVZzlxxk2GUs/Nl0SaPB0uzWHMzc nR4dpNkwG9QGmI7CK5IAD8L9njzHGWFEYMniZHFdkFs9JQoOw3SwKvTtRpNLaxE0ltYg tWTduoisxfRsa5x+ROtQe5QDYlR54Da9/TfAYacU/GLLu4ollqd7/UxfuyAJ9KkkIVSY 2Xdw== X-Gm-Message-State: AOJu0YyL+yMcLQuYtz9xT1wisxTj3JmmZClmzUyn2pPflxm64vF91VdG vPPEwGcgCkETU4qWd2PQbvTjL7oUddfe2egl0RwuWzt9L+xgh5a8lNvncJlwkheuiBHvkzlDe3N 09ce1GZLTDM3ZHWpHNZuR5VbYeWhBgg3lBVk+ijPC6iszkfJkyFdv X-Gm-Gg: ASbGncs37ySDHdPVeEGv1woDeFpOKKwXAQxhbT0q+tHnPNj4zp4F0TOWZkBoBvh3Ol6 K9K00GUB/z/UBXWspY/vm6i9kCga5i69ajyEr8e0qQxSMzZtH2+pY8rQKqfA03ITPFvYCwPa4BP 6EAEnapc8iDBSVCBT+Rdi/LGKawPVZwqTfDsaHhooqPI0/WMx2Qcl8Da0STbOOcj6HYfNI91fYa vSIavRfXOLIRz8jcBZ6JdhasrifxDz9LEIm2YQOoMiO1+8XPrmfMrRDsGnfPdJVjCQY+QebcPcX arqfuL0bEFDgB/Q7WRAbSu9tUes/6Ogri6Fg X-Google-Smtp-Source: AGHT+IFIdIuEUY2v/msVDhx2uSzZZwyeFuJLZPRFYRj58k9koyr1AR17fPG94yS0nOxaKESU7BBOExUBYVZq X-Received: by 2002:a05:6602:400b:b0:85a:eecd:37b with SMTP id ca18e2360f4ac-86a24c976f1mr2781427739f.11.1747909476429; Thu, 22 May 2025 03:24:36 -0700 (PDT) Received: from postal.iol.unh.edu (postal.iol.unh.edu. [2606:4100:3880:1234::84]) by smtp-relay.gmail.com with ESMTPS id ca18e2360f4ac-86a23795871sm55495839f.29.2025.05.22.03.24.36 (version=TLS1_2 cipher=ECDHE-ECDSA-AES128-GCM-SHA256 bits=128/128); Thu, 22 May 2025 03:24:36 -0700 (PDT) X-Relaying-Domain: iol.unh.edu Date: Thu, 22 May 2025 03:24:36 -0700 (PDT) Message-ID: <682efb64.050a0220.2c39a2.c301SMTPIN_ADDED_MISSING@mx.google.com> Received: from [172.21.0.5] (unknown [172.18.0.240]) by postal.iol.unh.edu (Postfix) with ESMTP id C2BC36052471; Thu, 22 May 2025 06:24:35 -0400 (EDT) Subject: |SUCCESS| [GIT MASTER] 4401486b5e30d43a134f80f9802f60b5f43e74a8 From: dpdklab@iol.unh.edu To: Test Report Cc: dpdk-test-reports@iol.unh.edu, Xueming Li , Christian Ehrhardt , Kevin Traynor , Luca Boccassi Content-Type: text/plain X-BeenThere: test-report@dpdk.org X-Mailman-Version: 2.1.29 Precedence: list List-Id: automatic DPDK test reports List-Unsubscribe: , List-Archive: List-Post: List-Help: List-Subscribe: , Errors-To: test-report-bounces@dpdk.org _Testing PASS_ Branch: tags/v22.11 4401486b5e30d43a134f80f9802f60b5f43e74a8 --> testing pass Upstream job id: Generic-DPDK-Compile-Meson#390357 Test environment and result as below: +------------------------------------+--------------------+ | Environment | dpdk_meson_compile | +====================================+====================+ | RHEL9 (ARM) | PASS | +------------------------------------+--------------------+ | Ubuntu 20.04 ARM SVE | PASS | +------------------------------------+--------------------+ | Ubuntu 20.04 ARM GCC Cross Compile | PASS | +------------------------------------+--------------------+ | Debian 12 with MUSDK | PASS | +------------------------------------+--------------------+ | Fedora 40 (ARM) | PASS | +------------------------------------+--------------------+ | Fedora 40 (ARM Clang) | PASS | +------------------------------------+--------------------+ | Ubuntu 22.04 (ARM) | PASS | +------------------------------------+--------------------+ | Fedora 41 (ARM) | PASS | +------------------------------------+--------------------+ | Ubuntu 20.04 (ARM) | PASS | +------------------------------------+--------------------+ | Fedora 41 (ARM Clang) | PASS | +------------------------------------+--------------------+ | Ubuntu 24.04 (ARM) | PASS | +------------------------------------+--------------------+ | CentOS Stream 10 (ARM) | PASS | +------------------------------------+--------------------+ | Debian 12 (arm) | PASS | +------------------------------------+--------------------+ | CentOS Stream 9 (ARM) | PASS | +------------------------------------+--------------------+ RHEL9 (ARM) Kernel: Depends on container host Compiler: gcc 11.5.0 20240719 (Red Hat 11.5.0-2) Ubuntu 20.04 ARM SVE Kernel: Depends on container host Compiler: gcc (Ubuntu 10.5.0-1ubuntu1~20.04) 10.5.0 Ubuntu 20.04 ARM GCC Cross Compile Kernel: Depends on container host Compiler: aarch64-linux-gnu-gcc (Ubuntu 9.4.0-1ubuntu1~20.04.2) 9.4.0 Debian 12 with MUSDK Kernel: Depends on container host Compiler: gcc (Debian 12.2.0-14) 12.2.0 Fedora 40 (ARM) Kernel: Depends on container host Compiler: gcc 14.2.1 20240912 (Red Hat 14.2.1-3) Fedora 40 (ARM Clang) Kernel: Depends on container host Compiler: clang 18.1.8 (Fedora 18.1.8-1.fc40) Ubuntu 22.04 (ARM) Kernel: Depends on container host Compiler: gcc (Ubuntu 11.4.0-1ubuntu1~22.04) 11.4.0 Fedora 41 (ARM) Kernel: Depends on container host Compiler: gcc 14.2.1 20240912 (Red Hat 14.2.1-3) Ubuntu 20.04 (ARM) Kernel: Depends on container host Compiler: gcc (Ubuntu 9.4.0-1ubuntu1~20.04.2) 9.4.0 Fedora 41 (ARM Clang) Kernel: Depends on container host Compiler: clang 19.1.5 (Fedora 19.1.5-1.fc41) Ubuntu 24.04 (ARM) Kernel: Depends on container host Compiler: gcc (Ubuntu 13.3.0-6ubuntu2~24.04) 13.3.0 CentOS Stream 10 (ARM) Kernel: Depends on container host Compiler: gcc 14.2.1 20241104 (Red Hat 14.2.1-6) Debian 12 (arm) Kernel: Depends on container host Compiler: gcc (Debian 12.2.0-14) 12.2.0 CentOS Stream 9 (ARM) Kernel: Depends on container host Compiler: gcc 11.5.0 20240719 (Red Hat 11.5.0-2) To view detailed results, visit: https://lab.dpdk.org/results/dashboard/tarballs/33612/ UNH-IOL DPDK Community Lab To manage your email subscriptions, visit: https://lab.dpdk.org/results/dashboard/preferences/subscriptions/