From mboxrd@z Thu Jan 1 00:00:00 1970 Return-Path: Received: from mails.dpdk.org (mails.dpdk.org [217.70.189.124]) by inbox.dpdk.org (Postfix) with ESMTP id 175F1467B7 for ; Thu, 22 May 2025 12:34:36 +0200 (CEST) Received: from mails.dpdk.org (localhost [127.0.0.1]) by mails.dpdk.org (Postfix) with ESMTP id 12E77402CA; Thu, 22 May 2025 12:34:36 +0200 (CEST) Received: from mail-oi1-f228.google.com (mail-oi1-f228.google.com [209.85.167.228]) by mails.dpdk.org (Postfix) with ESMTP id BF0114027A for ; Thu, 22 May 2025 12:34:34 +0200 (CEST) Received: by mail-oi1-f228.google.com with SMTP id 5614622812f47-3feaedb4d2cso5253163b6e.1 for ; Thu, 22 May 2025 03:34:34 -0700 (PDT) DKIM-Signature: v=1; a=rsa-sha256; c=relaxed/relaxed; d=iol.unh.edu; s=unh-iol; t=1747910074; x=1748514874; darn=dpdk.org; h=references:in-reply-to:cc:to:from:subject:message-id:date:from:to :cc:subject:date:message-id:reply-to; bh=8opyNEkH0Jg9j/LfLANvXyn1vahs67CDKwxbdF0Took=; b=VGImqN7wNhu0HQj556tghCfiukr3x4pCvdm9uWzVcLmq45dXZDmlYAgjjlv0EmsjpO 1s9znHBRgP2ZBVISNep5O6dlzFRYU8/bTEvMCZFdd/olpg0BUv6OrPiFYrdHZt4nEe9z yIOXEmv2FEbFeUw51gQV+ITtM3X+C+F6TEC8Q= X-Google-DKIM-Signature: v=1; a=rsa-sha256; c=relaxed/relaxed; d=1e100.net; s=20230601; t=1747910074; x=1748514874; h=references:in-reply-to:cc:to:from:subject:message-id:date :x-gm-message-state:from:to:cc:subject:date:message-id:reply-to; bh=8opyNEkH0Jg9j/LfLANvXyn1vahs67CDKwxbdF0Took=; b=rhmB4goBeyE8MoBQgVFuoGhYKQw3jNJPXMw13umz++f+xKxOmIT0EPrBU6lOopc2s4 J7uqWItt0jh8SwKSVfwQWND7fHyRP4++xKiYWMrKDPomCjfoJZsRhUODmYx1vYxw6h8c MZdsVipbJhNDGTt4m8IK1PTrkSWpWhq6o/r9p/ye9227l/3k+guJXGWvHL89YwRyVOE1 cEnG/8H784hh+ZHQpsWkij92KUUtkJe1dq8oJX5OPnyQ3nuNlDh7Mw+TF5sqRDm4dRXa RHrvrZa31SispNNt5+VJ+JyomgpTlfr23w4V13gapGXpw8lLrHMxTBDsxL1VR8MSVcL5 QW6w== X-Gm-Message-State: AOJu0YzASvX5yUTMimyNssHDh+FoL75gcaz4XKeZMWcc0QKoCDoi0qq/ yjmqtL6uz1ggjodkqB4PytQYDQfHiPR1goUZ+fDZJoraN5sr98oojLnlxPNKtL5cwy9ODV8iQ/G h9Bu3cyGLLYiDAjqlU/5gqIJi0VuHdnHqiPVWRW4EZOQk X-Gm-Gg: ASbGncuHjgKdEZXDz5lTbm/kWb850eHbP/6dvnuF/bU8wQ4u2t5OCOgBJuJ4WxRehvc uEPzwWd4wwyCNUfNTfS6QLpfcf80CgWWARpa130R2/ul/Z1qZbPJmbJfmIVZPv4xuHg/nx7WdMw rPzryDadcD4Nble7nfx33nI4mr3wDdPJlBrsy6rnLELyScuhkP8Lz0cQ5X96qZwuxGrSVyUe7Lf 7EtmqiRE/dHpdRdBV1fRTIaeQ6K6YBYc1xdRFqsCqbPF4PI9N60DzGpMg2wo7SGkxdNd1cUyd5A bFvOljSautUUlde1swV5YRT0q7P8pFsWGplSGfwLfbHbnvmFPKvUn46tSGQ= X-Google-Smtp-Source: AGHT+IHGLCszjtoDbg2LwwXXUN7iSUwfwc5KuZnX36AvjYZ2+ghzAchE2OkqxgnI/GtfOp67fxgbbLrGhRYL X-Received: by 2002:a05:6808:6a85:b0:403:2827:7649 with SMTP id 5614622812f47-404da6edaccmr15770273b6e.7.1747910073933; Thu, 22 May 2025 03:34:33 -0700 (PDT) Received: from postal.iol.unh.edu (postal.iol.unh.edu. [132.177.123.84]) by smtp-relay.gmail.com with ESMTPS id 006d021491bc7-60b7c95ae26sm140655eaf.24.2025.05.22.03.34.33 (version=TLS1_2 cipher=ECDHE-ECDSA-AES128-GCM-SHA256 bits=128/128); Thu, 22 May 2025 03:34:33 -0700 (PDT) X-Relaying-Domain: iol.unh.edu Date: Thu, 22 May 2025 03:34:33 -0700 (PDT) Message-ID: <682efdb9.4a0a0220.f9539.7738SMTPIN_ADDED_MISSING@mx.google.com> Received: from [172.21.0.5] (unknown [172.18.0.240]) by postal.iol.unh.edu (Postfix) with ESMTP id 62E456052471; Thu, 22 May 2025 06:34:33 -0400 (EDT) Subject: |SUCCESS| pw153580 [PATCH] [v1] compress/zsda: code formatting From: dpdklab@iol.unh.edu To: Test Report Cc: dpdk-test-reports@iol.unh.edu In-Reply-To: <20250522062351.2266776-1-li.hanxiao@zte.com.cn> References: <20250522062351.2266776-1-li.hanxiao@zte.com.cn> Content-Type: text/plain X-BeenThere: test-report@dpdk.org X-Mailman-Version: 2.1.29 Precedence: list List-Id: automatic DPDK test reports List-Unsubscribe: , List-Archive: List-Post: List-Help: List-Subscribe: , Errors-To: test-report-bounces@dpdk.org Test-Label: iol-abi-testing Test-Status: SUCCESS http://dpdk.org/patch/153580 _Testing PASS_ Submitter: Hanxiao Li Date: Thursday, May 22 2025 06:23:51 DPDK git baseline: Repo:dpdk Branch: master CommitID:fc627d7065ba5100faa928cf2edfa1622846f542 153580 --> testing pass Upstream job id: Generic-DPDK-Compile-ABI#127314 Test environment and result as below: +-------------------+----------+ | Environment | abi_test | +===================+==========+ | CentOS Stream 9 | PASS | +-------------------+----------+ | CentOS Stream 10 | PASS | +-------------------+----------+ | Debian 12 | PASS | +-------------------+----------+ | RHEL8 | PASS | +-------------------+----------+ | Fedora 40 | PASS | +-------------------+----------+ | Fedora 41 (Clang) | PASS | +-------------------+----------+ | Fedora 40 (Clang) | PASS | +-------------------+----------+ | Fedora 41 | PASS | +-------------------+----------+ | RHEL9 | PASS | +-------------------+----------+ | Ubuntu 22.04 | PASS | +-------------------+----------+ | Ubuntu 24.04 | PASS | +-------------------+----------+ | openSUSE Leap 15 | PASS | +-------------------+----------+ CentOS Stream 9 Kernel: Depends on container host Compiler: gcc 11.5.0 20240719 (Red Hat 11.5.0-2) CentOS Stream 10 Kernel: Depends on container host Compiler: gcc 14.2.1 20241104 (Red Hat 14.2.1-6) Debian 12 Kernel: Depends on container host Compiler: gcc (Debian 12.2.0-14) 12.2.0 RHEL8 Kernel: Depends on container host Compiler: gcc 8.5.0 20210514 (Red Hat 8.5.0-22) Fedora 40 Kernel: Depends on container host Compiler: gcc 14.2.1 20240912 (Red Hat 14.2.1-3) Fedora 41 (Clang) Kernel: Depends on container host Compiler: clang 19.1.5 (Fedora 19.1.5-1.fc41) Fedora 40 (Clang) Kernel: Depends on container host Compiler: clang 18.1.8 (Fedora 18.1.8-1.fc40) Fedora 41 Kernel: Depends on container host Compiler: gcc 14.2.1 20240912 (Red Hat 14.2.1-3) RHEL9 Kernel: Depends on container host Compiler: gcc 11.5.0 20240719 (Red Hat 11.5.0-2) Ubuntu 22.04 Kernel: Depends on container host Compiler: gcc (Ubuntu 11.4.0-1ubuntu1~22.04) 11.4.0 Ubuntu 24.04 Kernel: Depends on container host Compiler: gcc (Ubuntu 13.3.0-6ubuntu2~24.04) 13.3.0 openSUSE Leap 15 Kernel: Depends on container host Compiler: gcc (SUSE Linux) 7.5.0 To view detailed results, visit: https://lab.dpdk.org/results/dashboard/patchsets/33228/ UNH-IOL DPDK Community Lab To manage your email subscriptions, visit: https://lab.dpdk.org/results/dashboard/preferences/subscriptions/