From mboxrd@z Thu Jan 1 00:00:00 1970 Return-Path: Received: from mails.dpdk.org (mails.dpdk.org [217.70.189.124]) by inbox.dpdk.org (Postfix) with ESMTP id 204A9467B7 for ; Thu, 22 May 2025 12:44:26 +0200 (CEST) Received: from mails.dpdk.org (localhost [127.0.0.1]) by mails.dpdk.org (Postfix) with ESMTP id E9CDE402DA; Thu, 22 May 2025 12:44:25 +0200 (CEST) Received: from mail-il1-f226.google.com (mail-il1-f226.google.com [209.85.166.226]) by mails.dpdk.org (Postfix) with ESMTP id 004F2402D1 for ; Thu, 22 May 2025 12:44:23 +0200 (CEST) Received: by mail-il1-f226.google.com with SMTP id e9e14a558f8ab-3da831c17faso26268745ab.3 for ; Thu, 22 May 2025 03:44:23 -0700 (PDT) DKIM-Signature: v=1; a=rsa-sha256; c=relaxed/relaxed; d=iol.unh.edu; s=unh-iol; t=1747910663; x=1748515463; darn=dpdk.org; h=references:in-reply-to:cc:to:from:subject:message-id:date:from:to :cc:subject:date:message-id:reply-to; bh=cMxnvffiGuJzq4LkDt8tuRHjRand8uav0MDXmleLOMY=; b=Asp97teHdEERoSVMsT95mJft1Z9aF+3d8l5h63OnQF3RN1zYjkhur4mQIFvhbPJHOz 3F2mB7RLxIHuSxSLMiiCbKq1R+rOKGXtw42F+Vplxiy7bPpTIET/3/fz6EMH/U6DtVkA 075IpW+BokJEHDbOFdVuwJSpJNCw59tpQ3I7w= X-Google-DKIM-Signature: v=1; a=rsa-sha256; c=relaxed/relaxed; d=1e100.net; s=20230601; t=1747910663; x=1748515463; h=references:in-reply-to:cc:to:from:subject:message-id:date :x-gm-message-state:from:to:cc:subject:date:message-id:reply-to; bh=cMxnvffiGuJzq4LkDt8tuRHjRand8uav0MDXmleLOMY=; b=ZKpCMbDQZGDXmUNAx156yWO33Ycqc8nNEdlQDzGk6J9R9hfFgb9T1Up4hKv5/qdXpY j9hT92iIoJkrswpoPNQ7o1gRz8YmXHbdNfFNooZDG6Z7sPUtKCX1Vpz1mSdLvFZFerj1 bTldfwvp4J/0C9gLed+e2WRj4DeMAMbNpx/RLZi1QiJbRbk9WQY4/91dvRfzOwkVvYJR QnMAHNpQN1gAmj+n+Nx0LBnAz8cQKkOUoMbrySs1Y+xfMRF8jOj5HvL/dE23xd2dgc/J fB9BIkQv8HDZCRtuzzTjmFlLv8UZD7dOZF3zGqeQ1JEApEKsvESe+NmAeIcTr+x1uKgH CtFw== X-Gm-Message-State: AOJu0YxHpvjh1sx01Oc1cMG65syfRReK2/3C1Iu/tm1aKdDjn+LV6pqd uldUFb1SUyC+bAhIayrF/VUrnnExHbO1KPTHEiFJFlKG43kyuTQ5YF4PpWxoh9lpZsEwMkMNEWc wzy2pO3LbuLhXB9bYbgWskFB5TX9KAK1Jp/FYdoCBfTyAaQNNDs5v5X1MHjSg X-Gm-Gg: ASbGncvq7p1rKRTk6RZQGLh5te5B257xX0Mvo1Pox/BQXwfl2LxjgYKwratqvlsra4w AZsiPMU1OGe/ric0WtNX/BPrQfPA7arV3XGixZLf+UTEUwbtaAURIldx4cC+dErlN3Cm45gXWJy 9QUwf64+e8VwSVlfOlnK6QEGAD7tFcBZv9O3K+xlhCRFx+JymXG0wVchBLXI5DdLnt7aTg1cawP fxaL1k7B4Y+S2nMWvOpNcrh3BoG60TRfl78KhBt+CLYj5CRjIAdYd7c/6Q89e15CcHmTddhjT6D c1BJ7R81dS57DET33GoSvR/Nbg6Pzfb/eBAe X-Google-Smtp-Source: AGHT+IFewl6P93M0xLMaVfoW6bWTQXo4D0R3HKRoGUBghP/BKF6bkiGiemEw/iIed0OWuJNIlfxi+E9PrROt X-Received: by 2002:a05:6e02:9d:b0:3d3:db70:b585 with SMTP id e9e14a558f8ab-3db84375cd6mr247936535ab.21.1747910663041; Thu, 22 May 2025 03:44:23 -0700 (PDT) Received: from postal.iol.unh.edu (postal.iol.unh.edu. [2606:4100:3880:1234::84]) by smtp-relay.gmail.com with ESMTPS id e9e14a558f8ab-3db8440ca48sm6770665ab.1.2025.05.22.03.44.22 (version=TLS1_2 cipher=ECDHE-ECDSA-AES128-GCM-SHA256 bits=128/128); Thu, 22 May 2025 03:44:23 -0700 (PDT) X-Relaying-Domain: iol.unh.edu Date: Thu, 22 May 2025 03:44:23 -0700 (PDT) Message-ID: <682f0007.050a0220.13ffe0.3f23SMTPIN_ADDED_MISSING@mx.google.com> Received: from [172.21.0.5] (unknown [172.18.0.240]) by postal.iol.unh.edu (Postfix) with ESMTP id 865756052471; Thu, 22 May 2025 06:44:22 -0400 (EDT) Subject: |SUCCESS| pw153580 [PATCH] [v1] compress/zsda: code formatting From: dpdklab@iol.unh.edu To: Test Report Cc: dpdk-test-reports@iol.unh.edu In-Reply-To: <20250522062351.2266776-1-li.hanxiao@zte.com.cn> References: <20250522062351.2266776-1-li.hanxiao@zte.com.cn> Content-Type: text/plain X-BeenThere: test-report@dpdk.org X-Mailman-Version: 2.1.29 Precedence: list List-Id: automatic DPDK test reports List-Unsubscribe: , List-Archive: List-Post: List-Help: List-Subscribe: , Errors-To: test-report-bounces@dpdk.org Test-Label: iol-unit-amd64-testing Test-Status: SUCCESS http://dpdk.org/patch/153580 _Testing PASS_ Submitter: Hanxiao Li Date: Thursday, May 22 2025 06:23:51 DPDK git baseline: Repo:dpdk Branch: master CommitID:fc627d7065ba5100faa928cf2edfa1622846f542 153580 --> testing pass Upstream job id: Generic-Unit-Test-DPDK#339891 Test environment and result as below: +-------------------+----------------+ | Environment | dpdk_unit_test | +===================+================+ | Debian 12 | PASS | +-------------------+----------------+ | CentOS Stream 10 | PASS | +-------------------+----------------+ | CentOS Stream 9 | PASS | +-------------------+----------------+ | Fedora 40 | PASS | +-------------------+----------------+ | Fedora 40 (Clang) | PASS | +-------------------+----------------+ | Fedora 41 | PASS | +-------------------+----------------+ | RHEL8 | PASS | +-------------------+----------------+ | RHEL9 | PASS | +-------------------+----------------+ | Fedora 41 (Clang) | PASS | +-------------------+----------------+ | Ubuntu 20.04 | PASS | +-------------------+----------------+ | Ubuntu 24.04 | PASS | +-------------------+----------------+ | Ubuntu 22.04 | PASS | +-------------------+----------------+ Debian 12 Kernel: Depends on container host Compiler: gcc (Debian 12.2.0-14) 12.2.0 CentOS Stream 10 Kernel: Depends on container host Compiler: gcc 14.2.1 20241104 (Red Hat 14.2.1-6) CentOS Stream 9 Kernel: Depends on container host Compiler: gcc 11.5.0 20240719 (Red Hat 11.5.0-2) Fedora 40 Kernel: Depends on container host Compiler: gcc 14.2.1 20240912 (Red Hat 14.2.1-3) Fedora 40 (Clang) Kernel: Depends on container host Compiler: clang 18.1.8 (Fedora 18.1.8-1.fc40) Fedora 41 Kernel: Depends on container host Compiler: gcc 14.2.1 20240912 (Red Hat 14.2.1-3) RHEL8 Kernel: Depends on container host Compiler: gcc 8.5.0 20210514 (Red Hat 8.5.0-22) RHEL9 Kernel: Depends on container host Compiler: gcc 11.5.0 20240719 (Red Hat 11.5.0-2) Fedora 41 (Clang) Kernel: Depends on container host Compiler: clang 19.1.5 (Fedora 19.1.5-1.fc41) Ubuntu 20.04 Kernel: Depends on container host Compiler: gcc (Ubuntu 9.4.0-1ubuntu1~20.04.2) 9.4.0 Ubuntu 24.04 Kernel: Depends on container host Compiler: gcc (Ubuntu 13.3.0-6ubuntu2~24.04) 13.3.0 Ubuntu 22.04 Kernel: Depends on container host Compiler: gcc (Ubuntu 11.4.0-1ubuntu1~22.04) 11.4.0 To view detailed results, visit: https://lab.dpdk.org/results/dashboard/patchsets/33228/ UNH-IOL DPDK Community Lab To manage your email subscriptions, visit: https://lab.dpdk.org/results/dashboard/preferences/subscriptions/