From mboxrd@z Thu Jan 1 00:00:00 1970 Return-Path: Received: from mails.dpdk.org (mails.dpdk.org [217.70.189.124]) by inbox.dpdk.org (Postfix) with ESMTP id C0F20467B7 for ; Thu, 22 May 2025 13:25:47 +0200 (CEST) Received: from mails.dpdk.org (localhost [127.0.0.1]) by mails.dpdk.org (Postfix) with ESMTP id BC425402D1; Thu, 22 May 2025 13:25:47 +0200 (CEST) Received: from mail-qk1-f226.google.com (mail-qk1-f226.google.com [209.85.222.226]) by mails.dpdk.org (Postfix) with ESMTP id 8776E402AE for ; Thu, 22 May 2025 13:25:46 +0200 (CEST) Received: by mail-qk1-f226.google.com with SMTP id af79cd13be357-7caea4bc9e9so1271716385a.1 for ; Thu, 22 May 2025 04:25:46 -0700 (PDT) DKIM-Signature: v=1; a=rsa-sha256; c=relaxed/relaxed; d=iol.unh.edu; s=unh-iol; t=1747913146; x=1748517946; darn=dpdk.org; h=references:in-reply-to:cc:to:from:subject:message-id:date:from:to :cc:subject:date:message-id:reply-to; bh=YFywiJk7Lx55xn2OvUli5aV2AxZ6N0Mlt3vfalgy4hQ=; b=BdYcfqDauDi6x23rtMwKDTNAyG0YRUbFy3TperhuzKmGzWizls2KeLtCpPpHdngTmM hW0RSFuiX+4OcAYmEQufjNpt9caE/v8UZIuJFTHKyaG37Gwrj9ihyIFo+gpizEgAvZsu WHzEC3wzxsU9ilmaGXvDd6vvlYI/FyNR6Sakw= X-Google-DKIM-Signature: v=1; a=rsa-sha256; c=relaxed/relaxed; d=1e100.net; s=20230601; t=1747913146; x=1748517946; h=references:in-reply-to:cc:to:from:subject:message-id:date :x-gm-message-state:from:to:cc:subject:date:message-id:reply-to; bh=YFywiJk7Lx55xn2OvUli5aV2AxZ6N0Mlt3vfalgy4hQ=; b=bwQ/IZxQ5RySWSKHYt7eVgT7rkxHcuxSWA9OIbVy7rH2+yqXAy3EIlr2v7VUmDzdsU Z1GSkdCwtJeJot4mBhxCan4TXzHlQk2aulM3qE+HT5WtCyS1cYt/YyX/+rimRZpILYem b0nI+bUSnBCz2+0sDJMzP1sATchGCP26vHg9j+K+aCwE+A3SG6AdF7NxXcywiLsTL5MJ keVGu/cMvrMejuoCyy3vxyFa+utNiDsfW6NqN5BIOfEgl8HjyfXyd1y24s8EH6jOjwWD C6La/fY+TV0/kE1SQnnTM1+p95qWf844pzwHmKOFIe1drcqBEG7BXwbRWTa6N2EQLj99 MGyg== X-Gm-Message-State: AOJu0YznJnFTB0TT2oSo9Ht+Zj3Jg6hY7wQ679d5LDrZiREetdtF84iw nh7j96xUNGljDo0CuiXSuVIwzpN6fuFHa4yupkPD7STPKRM+es1RDYcCs40Zwk/w5t7210mriGZ VW7dRjWmmTs+dYNKtffuI986RqMWKzabOVSKNTJ9Qguoc X-Gm-Gg: ASbGnctZtVyegMWHZ/R1nQu2o0ngBzVCZFS3vz2zE485fw+S3fosoe8R4ihRbiCCZvR XHbQPXiS/++WBeXLX8bxh5hq+31Zzg7UBTOEQEabVXYEukHW0ipVyyMyvC8mWLf6afGLYnQJLcw fKEwxsz5mOUzR0gbE9HXIHjVKR/mH8/TAFia9cwfKFxFNW9Wua/fFt7YeVva0BaTGn8ZXqbgEDR zlWaq6ssH84/24yLTrPbzTM5WYvEnfRfV5a2Cz1DhFiC1j3aTGiN+Yx24ylQf6ctl5DUHBSdt3A 2rAr9qsFrINLXYf3UdxfaqAgwN7TVt/Y0ujGOnU1hUQqWfamXsSppYJG1Ls= X-Google-Smtp-Source: AGHT+IFO4tTUHayhFvM2H76r0Uq707XkcbFCOl36g5MftT+VvkwImNriJ3Z3rTl91Oli+sdH3m7QI6V67eop X-Received: by 2002:a05:620a:394b:b0:7c5:6a66:5c1e with SMTP id af79cd13be357-7cd47fda7f9mr3347205985a.58.1747913145934; Thu, 22 May 2025 04:25:45 -0700 (PDT) Received: from postal.iol.unh.edu (postal.iol.unh.edu. [132.177.123.84]) by smtp-relay.gmail.com with ESMTPS id af79cd13be357-7cd4684f392sm58988885a.3.2025.05.22.04.25.45 (version=TLS1_2 cipher=ECDHE-ECDSA-AES128-GCM-SHA256 bits=128/128); Thu, 22 May 2025 04:25:45 -0700 (PDT) X-Relaying-Domain: iol.unh.edu Date: Thu, 22 May 2025 04:25:45 -0700 (PDT) Message-ID: <682f09b9.050a0220.135de0.fc4dSMTPIN_ADDED_MISSING@mx.google.com> Received: from [172.21.0.6] (unknown [172.18.0.240]) by postal.iol.unh.edu (Postfix) with ESMTP id 84F3E6052471; Thu, 22 May 2025 07:25:45 -0400 (EDT) Subject: |SUCCESS| pw153579 [PATCH] net/bnxt: fix free of not allocated objec From: dpdklab@iol.unh.edu To: Test Report Cc: dpdk-test-reports@iol.unh.edu In-Reply-To: <20250521193727.382342-1-stephen@networkplumber.org> References: <20250521193727.382342-1-stephen@networkplumber.org> Content-Type: text/plain X-BeenThere: test-report@dpdk.org X-Mailman-Version: 2.1.29 Precedence: list List-Id: automatic DPDK test reports List-Unsubscribe: , List-Archive: List-Post: List-Help: List-Subscribe: , Errors-To: test-report-bounces@dpdk.org Test-Label: iol-abi-testing Test-Status: SUCCESS http://dpdk.org/patch/153579 _Testing PASS_ Submitter: Stephen Hemminger Date: Wednesday, May 21 2025 19:37:27 DPDK git baseline: Repo:dpdk Branch: master CommitID:472a978287c60af47266ebf18116907a37eec677 153579 --> testing pass Upstream job id: Generic-DPDK-Compile-ABI#127325 Test environment and result as below: +-------------------+----------+ | Environment | abi_test | +===================+==========+ | CentOS Stream 10 | PASS | +-------------------+----------+ | CentOS Stream 9 | PASS | +-------------------+----------+ | Fedora 41 | PASS | +-------------------+----------+ | Debian 12 | PASS | +-------------------+----------+ | Fedora 40 (Clang) | PASS | +-------------------+----------+ | Fedora 40 | PASS | +-------------------+----------+ | Fedora 41 (Clang) | PASS | +-------------------+----------+ | openSUSE Leap 15 | PASS | +-------------------+----------+ | RHEL8 | PASS | +-------------------+----------+ | Ubuntu 22.04 | PASS | +-------------------+----------+ | Ubuntu 24.04 | PASS | +-------------------+----------+ | RHEL9 | PASS | +-------------------+----------+ CentOS Stream 10 Kernel: Depends on container host Compiler: gcc 14.2.1 20241104 (Red Hat 14.2.1-6) CentOS Stream 9 Kernel: Depends on container host Compiler: gcc 11.5.0 20240719 (Red Hat 11.5.0-2) Fedora 41 Kernel: Depends on container host Compiler: gcc 14.2.1 20240912 (Red Hat 14.2.1-3) Debian 12 Kernel: Depends on container host Compiler: gcc (Debian 12.2.0-14) 12.2.0 Fedora 40 (Clang) Kernel: Depends on container host Compiler: clang 18.1.8 (Fedora 18.1.8-1.fc40) Fedora 40 Kernel: Depends on container host Compiler: gcc 14.2.1 20240912 (Red Hat 14.2.1-3) Fedora 41 (Clang) Kernel: Depends on container host Compiler: clang 19.1.5 (Fedora 19.1.5-1.fc41) openSUSE Leap 15 Kernel: Depends on container host Compiler: gcc (SUSE Linux) 7.5.0 RHEL8 Kernel: Depends on container host Compiler: gcc 8.5.0 20210514 (Red Hat 8.5.0-22) Ubuntu 22.04 Kernel: Depends on container host Compiler: gcc (Ubuntu 11.4.0-1ubuntu1~22.04) 11.4.0 Ubuntu 24.04 Kernel: Depends on container host Compiler: gcc (Ubuntu 13.3.0-6ubuntu2~24.04) 13.3.0 RHEL9 Kernel: Depends on container host Compiler: gcc 11.5.0 20240719 (Red Hat 11.5.0-2) To view detailed results, visit: https://lab.dpdk.org/results/dashboard/patchsets/33227/ UNH-IOL DPDK Community Lab To manage your email subscriptions, visit: https://lab.dpdk.org/results/dashboard/preferences/subscriptions/