From mboxrd@z Thu Jan 1 00:00:00 1970 Return-Path: Received: from mails.dpdk.org (mails.dpdk.org [217.70.189.124]) by inbox.dpdk.org (Postfix) with ESMTP id DF3D5467B7 for ; Thu, 22 May 2025 13:26:47 +0200 (CEST) Received: from mails.dpdk.org (localhost [127.0.0.1]) by mails.dpdk.org (Postfix) with ESMTP id D9707402D1; Thu, 22 May 2025 13:26:47 +0200 (CEST) Received: from mail-yb1-f228.google.com (mail-yb1-f228.google.com [209.85.219.228]) by mails.dpdk.org (Postfix) with ESMTP id B8ED8402AE for ; Thu, 22 May 2025 13:26:46 +0200 (CEST) Received: by mail-yb1-f228.google.com with SMTP id 3f1490d57ef6-e7d5f3e6169so1596271276.3 for ; Thu, 22 May 2025 04:26:46 -0700 (PDT) DKIM-Signature: v=1; a=rsa-sha256; c=relaxed/relaxed; d=iol.unh.edu; s=unh-iol; t=1747913206; x=1748518006; darn=dpdk.org; h=references:in-reply-to:cc:to:from:subject:message-id:date:from:to :cc:subject:date:message-id:reply-to; bh=/6qb2UUBKtpv9OkQCCqTu3lrfk8WlVxhOEE+Epagqz0=; b=hYOogIr0P3KillbI0oMBFqzJFe0iqN3tGYZV7uvmgsAfyu1IZdoTf4bTr/HCgyDGSE ygpfmjFbY80r4/x9S840UfMId4CI2lxCwJji+vzt9vnUGwCNKxAnC1BbA1HTtPkA3wRP SR5H6P+m1n6PUdUUqiMWqKPp77gq3Eo6W9Y1o= X-Google-DKIM-Signature: v=1; a=rsa-sha256; c=relaxed/relaxed; d=1e100.net; s=20230601; t=1747913206; x=1748518006; h=references:in-reply-to:cc:to:from:subject:message-id:date :x-gm-message-state:from:to:cc:subject:date:message-id:reply-to; bh=/6qb2UUBKtpv9OkQCCqTu3lrfk8WlVxhOEE+Epagqz0=; b=hQmK8exQGoReOGve64dV8A93ExUUc+NzoY7YM6pl/dNZwLoHpVL2QeIRJL8ydWwziS 8tohllJoMFs3c3TBOoYoeLtvbVIgqIjTa8w3c/7CeFIwr9yXnGglCoAYZEBsTv6U70AM qCabvIqDgmLc/dzLNPr58+mzVik5BeCMZwJ/4CJjtKaMfl6U/4IHqFcdzF4GI8Hbwle5 eAdWIKC3RhIbx5GnQlwqYNUCwjKO4jGjNb00SzEAqorJHEW1HD/7iUvIEzsv5JH8fNRS nTWJEPfcmhR/E89tp+5Kd6VqAJDhfh+y3iVkZ1OqaZUd6pQY1GBiHcWFLE61/IMj7UXz cktw== X-Gm-Message-State: AOJu0Yw9nARWFL1+D12PyO0WX43sfbF+LsbWslALl5i2TfzHbFRs+WIR 9KPChWBdjPl7SiItWgMI+MTDfVz62/KqojI3SnTv4kWLkL4lh64C99H8FO4GDQiFip4OGl1l8kK vA4bqV5pYffl4FkYkT/7Q8XhCsjM7TtqmaaRwqdL0RpbZ X-Gm-Gg: ASbGncvzrwRWvpigyPP1vFgZOGBnM0sV5Y+gYM2FUBnTlR2TXlNHBMKD7cd1HpG8h+B 0xEN0OT1MdSzf8eauyRMGoLqIKp/QgDP6urUP887u0WAOhPglPGlomePMbaxbjp8EwqN5tCyPJs YaguduuOioIItNpSguzlagObaP+xzTMHaw8M0YCLTk+KaqGXuOiO6fgT7HL064LHj937W8wsHfb xIorlFG4F8Zt/k2sXHWQkC78XFbRMBR1kc2VRg0fC2lepAJ6OBqtqXd+5q4hDMB01+ApbC8vSqE O5oFm+HKQjfhB92BU3tMt2ICdpu2Sq6vK7SCThuLWShryTIOXZ3urftSMrc= X-Google-Smtp-Source: AGHT+IEgJVjEpai3JH9EprjMZGD6BKpzK3vqtqycPXWROLGRMaMp/wVrLWs0uyMUdLdrguFsATLOm6clZg+U X-Received: by 2002:a05:6902:2386:b0:e7d:49e1:83d4 with SMTP id 3f1490d57ef6-e7d49e184b8mr16598438276.11.1747913206087; Thu, 22 May 2025 04:26:46 -0700 (PDT) Received: from postal.iol.unh.edu (postal.iol.unh.edu. [132.177.123.84]) by smtp-relay.gmail.com with ESMTPS id 3f1490d57ef6-e7d5ceb2668sm209894276.7.2025.05.22.04.26.46 (version=TLS1_2 cipher=ECDHE-ECDSA-AES128-GCM-SHA256 bits=128/128); Thu, 22 May 2025 04:26:46 -0700 (PDT) X-Relaying-Domain: iol.unh.edu Date: Thu, 22 May 2025 04:26:46 -0700 (PDT) Message-ID: <682f09f6.250a0220.2195e.b26cSMTPIN_ADDED_MISSING@mx.google.com> Received: from [172.17.0.5] (unknown [172.18.0.74]) by postal.iol.unh.edu (Postfix) with ESMTP id 760D76052471; Thu, 22 May 2025 07:26:44 -0400 (EDT) Subject: |SUCCESS| pw153579 [PATCH] net/bnxt: fix free of not allocated objec From: dpdklab@iol.unh.edu To: Test Report Cc: dpdk-test-reports@iol.unh.edu In-Reply-To: <20250521193727.382342-1-stephen@networkplumber.org> References: <20250521193727.382342-1-stephen@networkplumber.org> Content-Type: text/plain X-BeenThere: test-report@dpdk.org X-Mailman-Version: 2.1.29 Precedence: list List-Id: automatic DPDK test reports List-Unsubscribe: , List-Archive: List-Post: List-Help: List-Subscribe: , Errors-To: test-report-bounces@dpdk.org Test-Label: iol-abi-testing Test-Status: SUCCESS http://dpdk.org/patch/153579 _Testing PASS_ Submitter: Stephen Hemminger Date: Wednesday, May 21 2025 19:37:27 DPDK git baseline: Repo:dpdk Branch: master CommitID:472a978287c60af47266ebf18116907a37eec677 153579 --> testing pass Upstream job id: Generic-DPDK-Compile-ABI#127323 Test environment and result as below: +-------------------+----------+ | Environment | abi_test | +===================+==========+ | CentOS Stream 10 | PASS | +-------------------+----------+ | CentOS Stream 9 | PASS | +-------------------+----------+ | Fedora 41 | PASS | +-------------------+----------+ | Debian 12 | PASS | +-------------------+----------+ | Fedora 40 (Clang) | PASS | +-------------------+----------+ | Fedora 40 | PASS | +-------------------+----------+ | Fedora 41 (Clang) | PASS | +-------------------+----------+ | openSUSE Leap 15 | PASS | +-------------------+----------+ | RHEL8 | PASS | +-------------------+----------+ | Ubuntu 22.04 | PASS | +-------------------+----------+ | Ubuntu 24.04 | PASS | +-------------------+----------+ | RHEL9 | PASS | +-------------------+----------+ CentOS Stream 10 Kernel: Depends on container host Compiler: gcc 14.2.1 20241104 (Red Hat 14.2.1-6) CentOS Stream 9 Kernel: Depends on container host Compiler: gcc 11.5.0 20240719 (Red Hat 11.5.0-2) Fedora 41 Kernel: Depends on container host Compiler: gcc 14.2.1 20240912 (Red Hat 14.2.1-3) Debian 12 Kernel: Depends on container host Compiler: gcc (Debian 12.2.0-14) 12.2.0 Fedora 40 (Clang) Kernel: Depends on container host Compiler: clang 18.1.8 (Fedora 18.1.8-1.fc40) Fedora 40 Kernel: Depends on container host Compiler: gcc 14.2.1 20240912 (Red Hat 14.2.1-3) Fedora 41 (Clang) Kernel: Depends on container host Compiler: clang 19.1.5 (Fedora 19.1.5-1.fc41) openSUSE Leap 15 Kernel: Depends on container host Compiler: gcc (SUSE Linux) 7.5.0 RHEL8 Kernel: Depends on container host Compiler: gcc 8.5.0 20210514 (Red Hat 8.5.0-22) Ubuntu 22.04 Kernel: Depends on container host Compiler: gcc (Ubuntu 11.4.0-1ubuntu1~22.04) 11.4.0 Ubuntu 24.04 Kernel: Depends on container host Compiler: gcc (Ubuntu 13.3.0-6ubuntu2~24.04) 13.3.0 RHEL9 Kernel: Depends on container host Compiler: gcc 11.5.0 20240719 (Red Hat 11.5.0-2) To view detailed results, visit: https://lab.dpdk.org/results/dashboard/patchsets/33227/ UNH-IOL DPDK Community Lab To manage your email subscriptions, visit: https://lab.dpdk.org/results/dashboard/preferences/subscriptions/