From mboxrd@z Thu Jan 1 00:00:00 1970 Return-Path: Received: from mails.dpdk.org (mails.dpdk.org [217.70.189.124]) by inbox.dpdk.org (Postfix) with ESMTP id 5217C467B7 for ; Thu, 22 May 2025 13:41:54 +0200 (CEST) Received: from mails.dpdk.org (localhost [127.0.0.1]) by mails.dpdk.org (Postfix) with ESMTP id 2D124402E0; Thu, 22 May 2025 13:41:54 +0200 (CEST) Received: from mail-yb1-f225.google.com (mail-yb1-f225.google.com [209.85.219.225]) by mails.dpdk.org (Postfix) with ESMTP id 1C16F402D1 for ; Thu, 22 May 2025 13:41:53 +0200 (CEST) Received: by mail-yb1-f225.google.com with SMTP id 3f1490d57ef6-e740a09eb00so7002045276.0 for ; Thu, 22 May 2025 04:41:53 -0700 (PDT) DKIM-Signature: v=1; a=rsa-sha256; c=relaxed/relaxed; d=iol.unh.edu; s=unh-iol; t=1747914112; x=1748518912; darn=dpdk.org; h=cc:to:from:subject:message-id:date:from:to:cc:subject:date :message-id:reply-to; bh=x8lAFc0ZkeH2XapjlxxRI1r1l0DZpeDJKP48FWXphD0=; b=DRiM1WyfKolMr4GYNhgbghJHYhf1Hx0Br5WaRW1AKficbluEdQ/N3Qn/qMw5eSrucX ca3J0qSk3sQoXjBtsEMiFL43izXXm4xPCvLYln1l2hg0p66pViUhOk8DtPftv8ia0ahS qgkBuYPHIagA+qnTwWsF9FeIEJyuTLhwoV58Y= X-Google-DKIM-Signature: v=1; a=rsa-sha256; c=relaxed/relaxed; d=1e100.net; s=20230601; t=1747914112; x=1748518912; h=cc:to:from:subject:message-id:date:x-gm-message-state:from:to:cc :subject:date:message-id:reply-to; bh=x8lAFc0ZkeH2XapjlxxRI1r1l0DZpeDJKP48FWXphD0=; b=L8rxbE1NQPqe7ArMh1FI0JGKVl9xev18vC7XQGdK4OEJ03htWgA7QhUYm1hrN5JAMi oqnDQNgx+lGl4B2DN2FlN6llnDJ/cnIF9/yvP1G7+P9rnOQNT48aUBXYUDwK/AfP6xG9 SeUWCCr6BOqO7rHqc9J1jJtAbFMiU//oBRS2bmZQgpdCffPtUSZdFMaHfX4cLWs8JIXb 301f2cDg6sNa5gVqzKlgg7thQcVlZo/J0Hh6dzdJnMknNwpsu1dht1s00zqLrP5k/1BV vVpDJd9sj8H4m1VQX7RXQPCaeyzeI5H+2YHe/rGyFyoSwLPIkYXjGF9icSdD0wPzmIpJ HhOA== X-Gm-Message-State: AOJu0YxBVyEuQU6eTFkCrg4S3KksfZ3xEpNS90544LLxZwoWB5wx7s/N ywN73uMYDEEacrAME7hYmvXeyrnsGiEUJPCXR5OnF0biFwE7KbdFtQXsdZuSfE6xUwaHSN5jIya gRYrUFeuaaypJ9HdHd+G1G4Vvj3mzwdm0U5oWVqmqPHMK X-Gm-Gg: ASbGncv3KT1wX2vzOJwptK6i59RcnP6IynYIVahtPi46wAc6obLxnZFGRWw3unhFw9q Lfs46QD1GHKUZUS+B7w70S3+yqX6rv40x8149eER4+QQ7h52359XB/W+H/hAJUMpMbUhJcympBQ Z/AEluqRspv4PNs9xO1L4eGcE5AlLhqKA77iSJmrHJo8pbPHgIX88pl6xOz7EhxjWCyJWE/dqfn lLLFHG95K6GF6tOmNb0wrnjRtDgRy1EEzH5vmvVvo9xB/BwLzUNbYXnlrIlHz8SDLNedAvyj4qU fZyiLd6gASUnUe3JaxHsNY8VEeivsSV8ziYk67/rJ+rjxu/m9az6rMlQ098= X-Google-Smtp-Source: AGHT+IE31li7sUbPVANiyTCYuOhmEdFDUuOGP4icZEB4iDU5q6ZNEoxVqAtnrFn4aiABm6gwJlOv+7POPy40 X-Received: by 2002:a05:6902:1504:b0:e7d:73fe:c9de with SMTP id 3f1490d57ef6-e7d73feeb63mr1175525276.38.1747914112428; Thu, 22 May 2025 04:41:52 -0700 (PDT) Received: from postal.iol.unh.edu (postal.iol.unh.edu. [132.177.123.84]) by smtp-relay.gmail.com with ESMTPS id 3f1490d57ef6-e7d58711163sm105801276.27.2025.05.22.04.41.52 (version=TLS1_2 cipher=ECDHE-ECDSA-AES128-GCM-SHA256 bits=128/128); Thu, 22 May 2025 04:41:52 -0700 (PDT) X-Relaying-Domain: iol.unh.edu Date: Thu, 22 May 2025 04:41:52 -0700 (PDT) Message-ID: <682f0d80.050a0220.160d9d.5bc7SMTPIN_ADDED_MISSING@mx.google.com> Received: from [172.21.0.5] (unknown [172.18.0.240]) by postal.iol.unh.edu (Postfix) with ESMTP id 0F2EB6052471; Thu, 22 May 2025 07:41:52 -0400 (EDT) Subject: |SUCCESS| [GIT MASTER] a0ad790eb9fcef4b00366ae474132bee4bcdab75 From: dpdklab@iol.unh.edu To: Test Report Cc: dpdk-test-reports@iol.unh.edu, Stephen Hemminger Content-Type: text/plain X-BeenThere: test-report@dpdk.org X-Mailman-Version: 2.1.29 Precedence: list List-Id: automatic DPDK test reports List-Unsubscribe: , List-Archive: List-Post: List-Help: List-Subscribe: , Errors-To: test-report-bounces@dpdk.org _Testing PASS_ Branch: dpdk-next-net a0ad790eb9fcef4b00366ae474132bee4bcdab75 --> testing pass Upstream job id: Generic-VM-Unit-Test-DPDK#28685 Test environment and result as below: +---------------------+----------------+ | Environment | dpdk_unit_test | +=====================+================+ | CentOS Stream 9 | PASS | +---------------------+----------------+ | CentOS Stream 10 | PASS | +---------------------+----------------+ | Debian 12 | PASS | +---------------------+----------------+ | Fedora 40 | PASS | +---------------------+----------------+ | Fedora 40 (Clang) | PASS | +---------------------+----------------+ | RHEL8 | PASS | +---------------------+----------------+ | RHEL9 | PASS | +---------------------+----------------+ | Fedora 41 (Clang) | PASS | +---------------------+----------------+ | Fedora 41 | PASS | +---------------------+----------------+ | Ubuntu 20.04 | PASS | +---------------------+----------------+ | Ubuntu 22.04 | PASS | +---------------------+----------------+ | Ubuntu 24.04 | PASS | +---------------------+----------------+ | Windows Server 2022 | PASS | +---------------------+----------------+ CentOS Stream 9 Kernel: Depends on container host Compiler: gcc 11.5.0 20240719 (Red Hat 11.5.0-2) CentOS Stream 10 Kernel: Depends on container host Compiler: gcc 14.2.1 20241104 (Red Hat 14.2.1-6) Debian 12 Kernel: Depends on container host Compiler: gcc (Debian 12.2.0-14) 12.2.0 Fedora 40 Kernel: Depends on container host Compiler: gcc 14.2.1 20240912 (Red Hat 14.2.1-3) Fedora 40 (Clang) Kernel: Depends on container host Compiler: clang 18.1.8 (Fedora 18.1.8-1.fc40) RHEL8 Kernel: Depends on container host Compiler: gcc 8.5.0 20210514 (Red Hat 8.5.0-22) RHEL9 Kernel: Depends on container host Compiler: gcc 11.5.0 20240719 (Red Hat 11.5.0-2) Fedora 41 (Clang) Kernel: Depends on container host Compiler: clang 19.1.5 (Fedora 19.1.5-1.fc41) Fedora 41 Kernel: Depends on container host Compiler: gcc 14.2.1 20240912 (Red Hat 14.2.1-3) Ubuntu 20.04 Kernel: Depends on container host Compiler: gcc (Ubuntu 9.4.0-1ubuntu1~20.04.2) 9.4.0 Ubuntu 22.04 Kernel: Depends on container host Compiler: gcc (Ubuntu 11.4.0-1ubuntu1~22.04) 11.4.0 Ubuntu 24.04 Kernel: Depends on container host Compiler: gcc (Ubuntu 13.3.0-6ubuntu2~24.04) 13.3.0 Windows Server 2022 Kernel: 10.0.20348.2031 Compiler: clang 15.0.7, gcc 14.1.0 (MinGW), and MSVC VS 19.39.33521 To view detailed results, visit: https://lab.dpdk.org/results/dashboard/tarballs/33614/ UNH-IOL DPDK Community Lab To manage your email subscriptions, visit: https://lab.dpdk.org/results/dashboard/preferences/subscriptions/