From mboxrd@z Thu Jan 1 00:00:00 1970 Return-Path: Received: from mails.dpdk.org (mails.dpdk.org [217.70.189.124]) by inbox.dpdk.org (Postfix) with ESMTP id E14A5467B7 for ; Thu, 22 May 2025 13:47:56 +0200 (CEST) Received: from mails.dpdk.org (localhost [127.0.0.1]) by mails.dpdk.org (Postfix) with ESMTP id DB790402E0; Thu, 22 May 2025 13:47:56 +0200 (CEST) Received: from mail-yw1-f225.google.com (mail-yw1-f225.google.com [209.85.128.225]) by mails.dpdk.org (Postfix) with ESMTP id C4EA1402D1 for ; Thu, 22 May 2025 13:47:55 +0200 (CEST) Received: by mail-yw1-f225.google.com with SMTP id 00721157ae682-70dd29b0d34so33247147b3.1 for ; Thu, 22 May 2025 04:47:55 -0700 (PDT) DKIM-Signature: v=1; a=rsa-sha256; c=relaxed/relaxed; d=iol.unh.edu; s=unh-iol; t=1747914475; x=1748519275; darn=dpdk.org; h=references:in-reply-to:cc:to:from:subject:message-id:date:from:to :cc:subject:date:message-id:reply-to; bh=cqSmh7rSTTd2RfBfpn93iH4zDd7pJayPh90hWR6y+78=; b=NSivu1JDbxIjK7y1DLeFAIYe9Is7y90OTi+JZma3yljcbHhFvykvOkmfyXxS7wEMDV 5LWplowlns4Sb3klGYRnrbP+jQsJo5XKvslwNUiWIBh/HQ1T3J92iahAZba/boQY8Qcw k52BPVSmRxY4zoGBCwlvHUaryv8FqZT3dZQxQ= X-Google-DKIM-Signature: v=1; a=rsa-sha256; c=relaxed/relaxed; d=1e100.net; s=20230601; t=1747914475; x=1748519275; h=references:in-reply-to:cc:to:from:subject:message-id:date :x-gm-message-state:from:to:cc:subject:date:message-id:reply-to; bh=cqSmh7rSTTd2RfBfpn93iH4zDd7pJayPh90hWR6y+78=; b=cKGsWCuBzV6Erq9HzqkV2PTZGTnIZmDjoKLFz52ug9xXQA1Hw+mu/oT89CPCdN8WIR 33qK0Nl0igVW1Trl05/m7lsRJpbxMThHGuJmpnOPDXaetCANFVOJm9UBCtJcL+jMSVPG PBoHR5QC9/7l+MZfOZTSF9BV7H7wNKNQM6WSO/McilHJsidtd5NJ9+BXzHJPyczgGtp/ caBAf6obWB1vr/kUK9IoInQIui6+i5ic8HJCVOUda1QCafvqQCISilkE7PV6kpePbDKf 31NobOpSgC+3CYRzBT9Mqh/hPsaaNI/T4QtDSqMuZkFWa3tyYvBdb5cYVg+PZiwNEnEh 6vzA== X-Gm-Message-State: AOJu0YzdGMje/YDoSXPFXKzw0DOeHLu0swfdujYSuFhjbsuQPaapMJ1W jMsURnYYu+40Yit1ygTFb4BiEYLVbo3WmjtNhrTr8cfgBoqwdmoP1BpIY48nxUvNXBBuyVypor9 gQ550e2di28TvEASrslqyok8qmEp2A8w29oTy/5bb+Y10 X-Gm-Gg: ASbGncsTN4rPX6+my75FkU7VPku3JHzXYuCunkVGD9hpKQg7fcCNFhRzGVmKiCCVKXc +n4zqerF1LacEoSweL35Kui3PlTy1+0NTmL/lQYeF5iDVHajm6NFSplVJnwwXDbD0hp5b6xrrzl RylipRag0KYZ759Xi+1BzvauUWYka8GVPoiiRW2SV5Vyg5381ywkra/m4761aBpw6XwGOCZCB4e KKxrH5xhbqY7B3oPPnkcSxv5HxGS1fcpywCdsq/R3gYq6AdkKyd3kCLLRQ2gHiK2ijyT1D0KRyA pvWJVsjF7H5IOPAWf3uoG69+gvkF8DGW2n2d4LhfXvzvO9C1OqNwa5rBzCc= X-Google-Smtp-Source: AGHT+IGEQRe4AF6mHnTe3lairXLoGpZ/qF71c5gVOSoAppRaxFwOAkBlAifCWC7a1r2nrbYyRVJS+GPc4i48 X-Received: by 2002:a05:690c:6484:b0:70c:cd08:dc85 with SMTP id 00721157ae682-70ccd08e00dmr237616357b3.1.1747914475092; Thu, 22 May 2025 04:47:55 -0700 (PDT) Received: from postal.iol.unh.edu (postal.iol.unh.edu. [132.177.123.84]) by smtp-relay.gmail.com with ESMTPS id 00721157ae682-70ca8300009sm2858587b3.6.2025.05.22.04.47.55 (version=TLS1_2 cipher=ECDHE-ECDSA-AES128-GCM-SHA256 bits=128/128); Thu, 22 May 2025 04:47:55 -0700 (PDT) X-Relaying-Domain: iol.unh.edu Date: Thu, 22 May 2025 04:47:55 -0700 (PDT) Message-ID: <682f0eeb.050a0220.12dc84.fceeSMTPIN_ADDED_MISSING@mx.google.com> Received: from [172.21.0.5] (unknown [172.18.0.240]) by postal.iol.unh.edu (Postfix) with ESMTP id C703D6052471; Thu, 22 May 2025 07:47:54 -0400 (EDT) Subject: |WARNING| pw153580 [PATCH] [v1] compress/zsda: code formatting From: dpdklab@iol.unh.edu To: Test Report Cc: dpdk-test-reports@iol.unh.edu In-Reply-To: <20250522062351.2266776-1-li.hanxiao@zte.com.cn> References: <20250522062351.2266776-1-li.hanxiao@zte.com.cn> Content-Type: text/plain X-BeenThere: test-report@dpdk.org X-Mailman-Version: 2.1.29 Precedence: list List-Id: automatic DPDK test reports List-Unsubscribe: , List-Archive: List-Post: List-Help: List-Subscribe: , Errors-To: test-report-bounces@dpdk.org Test-Label: iol-compile-amd64-testing Test-Status: WARNING http://dpdk.org/patch/153580 _Testing issues_ Submitter: Hanxiao Li Date: Thursday, May 22 2025 06:23:51 DPDK git baseline: Repo:dpdk Branch: master CommitID:fc627d7065ba5100faa928cf2edfa1622846f542 153580 --> testing issues Upstream job id: Generic-DPDK-Compile-Meson#390425 Test environment and result as below: +-----------------------------------+--------------------+-------------------+------------------+-------------------+ | Environment | dpdk_meson_compile | dpdk_compile_spdk | dpdk_compile_ovs | dpdk_msvc_compile | +===================================+====================+===================+==================+===================+ | CentOS Stream 9 | PASS | PASS | SKIPPED | SKIPPED | +-----------------------------------+--------------------+-------------------+------------------+-------------------+ | Debian 12 | PASS | PASS | SKIPPED | SKIPPED | +-----------------------------------+--------------------+-------------------+------------------+-------------------+ | CentOS Stream 10 | PASS | SKIPPED | SKIPPED | SKIPPED | +-----------------------------------+--------------------+-------------------+------------------+-------------------+ | Fedora 40 | PASS | PASS | SKIPPED | SKIPPED | +-----------------------------------+--------------------+-------------------+------------------+-------------------+ | Fedora 40 (Clang) | PASS | WARN | SKIPPED | SKIPPED | +-----------------------------------+--------------------+-------------------+------------------+-------------------+ | Fedora 41 (Clang) | PASS | WARN | PASS | SKIPPED | +-----------------------------------+--------------------+-------------------+------------------+-------------------+ | Fedora 41 | PASS | PASS | PASS | SKIPPED | +-----------------------------------+--------------------+-------------------+------------------+-------------------+ | openSUSE Leap 15 | PASS | SKIPPED | SKIPPED | SKIPPED | +-----------------------------------+--------------------+-------------------+------------------+-------------------+ | RHEL8 | PASS | SKIPPED | SKIPPED | SKIPPED | +-----------------------------------+--------------------+-------------------+------------------+-------------------+ | Ubuntu 20.04 | PASS | SKIPPED | SKIPPED | SKIPPED | +-----------------------------------+--------------------+-------------------+------------------+-------------------+ | RHEL9 | PASS | SKIPPED | SKIPPED | SKIPPED | +-----------------------------------+--------------------+-------------------+------------------+-------------------+ | Ubuntu 24.04 | PASS | PASS | PASS | SKIPPED | +-----------------------------------+--------------------+-------------------+------------------+-------------------+ | Ubuntu 22.04 | PASS | PASS | SKIPPED | SKIPPED | +-----------------------------------+--------------------+-------------------+------------------+-------------------+ | Alpine | PASS | SKIPPED | SKIPPED | SKIPPED | +-----------------------------------+--------------------+-------------------+------------------+-------------------+ | Ubuntu 24.04 32 Bit Cross Compile | PASS | SKIPPED | SKIPPED | SKIPPED | +-----------------------------------+--------------------+-------------------+------------------+-------------------+ | FreeBSD 14.2 | PASS | SKIPPED | SKIPPED | SKIPPED | +-----------------------------------+--------------------+-------------------+------------------+-------------------+ | Windows Server 2022 | SKIPPED | SKIPPED | SKIPPED | PASS | +-----------------------------------+--------------------+-------------------+------------------+-------------------+ ==== 20 line log output for Fedora 41 (Clang) (dpdk_compile_spdk): ==== --- Failed to get log output --- ==== End log output ==== CentOS Stream 9 Kernel: Depends on container host Compiler: gcc 11.5.0 20240719 (Red Hat 11.5.0-2) Debian 12 Kernel: Depends on container host Compiler: gcc (Debian 12.2.0-14) 12.2.0 CentOS Stream 10 Kernel: Depends on container host Compiler: gcc 14.2.1 20241104 (Red Hat 14.2.1-6) Fedora 40 Kernel: Depends on container host Compiler: gcc 14.2.1 20240912 (Red Hat 14.2.1-3) Fedora 40 (Clang) Kernel: Depends on container host Compiler: clang 18.1.8 (Fedora 18.1.8-1.fc40) Fedora 41 (Clang) Kernel: Depends on container host Compiler: clang 19.1.5 (Fedora 19.1.5-1.fc41) Fedora 41 Kernel: Depends on container host Compiler: gcc 14.2.1 20240912 (Red Hat 14.2.1-3) openSUSE Leap 15 Kernel: Depends on container host Compiler: gcc (SUSE Linux) 7.5.0 RHEL8 Kernel: Depends on container host Compiler: gcc 8.5.0 20210514 (Red Hat 8.5.0-22) Ubuntu 20.04 Kernel: Depends on container host Compiler: gcc (Ubuntu 9.4.0-1ubuntu1~20.04.2) 9.4.0 RHEL9 Kernel: Depends on container host Compiler: gcc 11.5.0 20240719 (Red Hat 11.5.0-2) Ubuntu 24.04 Kernel: Depends on container host Compiler: gcc (Ubuntu 13.3.0-6ubuntu2~24.04) 13.3.0 Ubuntu 22.04 Kernel: Depends on container host Compiler: gcc (Ubuntu 11.4.0-1ubuntu1~22.04) 11.4.0 Alpine Kernel: Depends on container host Compiler: gcc (Alpine 14.2.0) 14.2.0 Ubuntu 24.04 32 Bit Cross Compile Kernel: Depends on container host Compiler: gcc (Ubuntu 13.3.0-6ubuntu2~24.04) 13.3.0 FreeBSD 14.2 Kernel: 14.2-RELEASE Compiler: clang 18.1.6 Windows Server 2022 Kernel: 10.0.20348.2031 Compiler: clang 15.0.7, gcc 14.1.0 (MinGW), and MSVC VS 19.39.33521 To view detailed results, visit: https://lab.dpdk.org/results/dashboard/patchsets/33228/ UNH-IOL DPDK Community Lab To manage your email subscriptions, visit: https://lab.dpdk.org/results/dashboard/preferences/subscriptions/