From mboxrd@z Thu Jan  1 00:00:00 1970
Return-Path: <test-report-bounces@dpdk.org>
Received: from mails.dpdk.org (mails.dpdk.org [217.70.189.124])
	by inbox.dpdk.org (Postfix) with ESMTP id 80029467B8
	for <public@inbox.dpdk.org>; Thu, 22 May 2025 14:16:30 +0200 (CEST)
Received: from mails.dpdk.org (localhost [127.0.0.1])
	by mails.dpdk.org (Postfix) with ESMTP id 574C440613;
	Thu, 22 May 2025 14:16:30 +0200 (CEST)
Received: from mail-yb1-f227.google.com (mail-yb1-f227.google.com
 [209.85.219.227])
 by mails.dpdk.org (Postfix) with ESMTP id 69E66402E0
 for <test-report@dpdk.org>; Thu, 22 May 2025 14:16:29 +0200 (CEST)
Received: by mail-yb1-f227.google.com with SMTP id
 3f1490d57ef6-e7b9a3d85b9so4070813276.0
 for <test-report@dpdk.org>; Thu, 22 May 2025 05:16:29 -0700 (PDT)
DKIM-Signature: v=1; a=rsa-sha256; c=relaxed/relaxed;
 d=iol.unh.edu; s=unh-iol; t=1747916189; x=1748520989; darn=dpdk.org;
 h=references:in-reply-to:cc:to:from:subject:message-id:date:from:to
 :cc:subject:date:message-id:reply-to;
 bh=OGJ4HZQ6NbUeFf1qe5AsfSGOuaPqrxYc0P3sMMgkr98=;
 b=EnYIYdbq1qtH7Wyl03OmtvS6HVdZHv8WXmARYd4sNgKB1eZ2SuxmhOANYzbFOT3zP0
 TqyPRC0ariu9eUXYTbLCGjk20lPknrMRPwYK7Opvae5ZwP55C4Oe1OXK4TEvxpLAfVxF
 vtcVKYDDuyQXxnU3rjqQCwW28D92CAmZNWzhU=
X-Google-DKIM-Signature: v=1; a=rsa-sha256; c=relaxed/relaxed;
 d=1e100.net; s=20230601; t=1747916189; x=1748520989;
 h=references:in-reply-to:cc:to:from:subject:message-id:date
 :x-gm-message-state:from:to:cc:subject:date:message-id:reply-to;
 bh=OGJ4HZQ6NbUeFf1qe5AsfSGOuaPqrxYc0P3sMMgkr98=;
 b=R1sAXGEAPt16x7cltCcyQFSAzmjqLOsP7wWhAEm/dTNHX6vATqzGs5wY0O4dAFIETm
 gIpXcpRV4cdJv8BlBA0DgHvuMuUO0pm7IRi6/kovKchmFUT9v6CSbIeLczO7+qjd3p/5
 YO4VVfqYSNKQLq4S2sA6l70JBK799BXr6GJJXIHTPnApgQLcgXI4wQMOGuUz/I8lmxan
 uNa09ciF058362yhi6K7fcXTAjKDGXV0SwRYOj3K4c8Rx5tip0hBeoRN/V5Dz9xT5ZTV
 1MM+wfWyIi9Q369VrmmXJrsp1dev/f/Dc8owRE7Qr4ArGf/tloGjjCuQNHe0EgHyTl8a
 7vPw==
X-Gm-Message-State: AOJu0YzxkUHfVv1MRUca/kX9aAQnZp1XdjcrAgCSvgbszCPSeao4/xGi
 Jlh1wG5gUawSd9w7pwDOhSEaE1oUU1k+sxzlmPmcVQgPSJCja+SYFkxxiWlt8GG5Q8CEpGXuDlQ
 jF5WU7RvTA9J/wBR32/BOFq1v9RCM7JaxCCpoW2NxwIIx
X-Gm-Gg: ASbGncvIFoCYtSOo2GP0zQiOw6qk54S3WAOqflqOv/DEKlziiWVBhMzq6UaPbKxtIOW
 nKKrA0Puk4MWHx+M151fScm73HiPohUPX1UR8ArmgoeGvA4hURrO7+4LPdnzevSJPqV4lbFiET/
 KZYiDm1RFaQ/03FzmHmO4GcdsSKUbHUDWVqoBZ47ewb+RoxXwzl1neRRtjNHolL5Gl3z+HhnN1p
 TI+OtGX/oedEL3h8xclunGpFM4iqdDn+9GAS35WRNlkzz6tvKQYQgWlDUR6er/CYLXWk++VPJq+
 bspC+YdLeATASXDyf707sFhwZapkVZfqwh3DhXPtFZgeNaYkGVzWf2S6yuo=
X-Google-Smtp-Source: AGHT+IHY6jCLXc5Q+aoPpPySE+8K6fm1U/a9EjqGqWx4aJFlVKHf5VuXgSe9XtWY10EnY8A0k4DIdE93Kezn
X-Received: by 2002:a05:690c:7203:b0:70e:7b3:90c3 with SMTP id
 00721157ae682-70e07b39284mr28849127b3.9.1747916188752; 
 Thu, 22 May 2025 05:16:28 -0700 (PDT)
Received: from postal.iol.unh.edu (postal.iol.unh.edu. [132.177.123.84])
 by smtp-relay.gmail.com with ESMTPS id
 00721157ae682-70e042ef532sm457817b3.63.2025.05.22.05.16.28
 (version=TLS1_2 cipher=ECDHE-ECDSA-AES128-GCM-SHA256 bits=128/128);
 Thu, 22 May 2025 05:16:28 -0700 (PDT)
X-Relaying-Domain: iol.unh.edu
Date: Thu, 22 May 2025 05:16:28 -0700 (PDT)
Message-ID: <682f159c.050a0220.53a1c.2653SMTPIN_ADDED_MISSING@mx.google.com>
Received: from [172.17.0.4] (unknown [172.18.0.74])
 by postal.iol.unh.edu (Postfix) with ESMTP id 5F9FD6052471;
 Thu, 22 May 2025 08:16:28 -0400 (EDT)
Subject: |SUCCESS| pw153579 [PATCH] net/bnxt: fix free of not allocated objec
From: dpdklab@iol.unh.edu
To: Test Report <test-report@dpdk.org>
Cc: dpdk-test-reports@iol.unh.edu
In-Reply-To: <20250521193727.382342-1-stephen@networkplumber.org>
References: <20250521193727.382342-1-stephen@networkplumber.org>
Content-Type: text/plain
X-BeenThere: test-report@dpdk.org
X-Mailman-Version: 2.1.29
Precedence: list
List-Id: automatic DPDK test reports <test-report.dpdk.org>
List-Unsubscribe: <https://mails.dpdk.org/options/test-report>,
 <mailto:test-report-request@dpdk.org?subject=unsubscribe>
List-Archive: <http://mails.dpdk.org/archives/test-report/>
List-Post: <mailto:test-report@dpdk.org>
List-Help: <mailto:test-report-request@dpdk.org?subject=help>
List-Subscribe: <https://mails.dpdk.org/listinfo/test-report>,
 <mailto:test-report-request@dpdk.org?subject=subscribe>
Errors-To: test-report-bounces@dpdk.org

Test-Label: iol-unit-amd64-testing
Test-Status: SUCCESS
http://dpdk.org/patch/153579

_Testing PASS_

Submitter: Stephen Hemminger <stephen@networkplumber.org>
Date: Wednesday, May 21 2025 19:37:27 
DPDK git baseline: Repo:dpdk
  Branch: master
  CommitID:472a978287c60af47266ebf18116907a37eec677

153579 --> testing pass

Upstream job id: Generic-Unit-Test-DPDK#339932

Test environment and result as below:

+-------------------+----------------+
|    Environment    | dpdk_unit_test |
+===================+================+
| RHEL9             | PASS           |
+-------------------+----------------+
| RHEL8             | PASS           |
+-------------------+----------------+
| CentOS Stream 9   | PASS           |
+-------------------+----------------+
| Fedora 40 (Clang) | PASS           |
+-------------------+----------------+
| Fedora 41         | PASS           |
+-------------------+----------------+
| Ubuntu 22.04      | PASS           |
+-------------------+----------------+
| Fedora 40         | PASS           |
+-------------------+----------------+
| CentOS Stream 10  | PASS           |
+-------------------+----------------+
| Debian 12         | PASS           |
+-------------------+----------------+
| Ubuntu 24.04      | PASS           |
+-------------------+----------------+
| Fedora 41 (Clang) | PASS           |
+-------------------+----------------+
| Ubuntu 20.04      | PASS           |
+-------------------+----------------+


RHEL9
	Kernel: Depends on container host
	Compiler: gcc 11.5.0 20240719 (Red Hat 11.5.0-2)

RHEL8
	Kernel: Depends on container host
	Compiler: gcc 8.5.0 20210514 (Red Hat 8.5.0-22)

CentOS Stream 9
	Kernel: Depends on container host
	Compiler: gcc 11.5.0 20240719 (Red Hat 11.5.0-2)

Fedora 40 (Clang)
	Kernel: Depends on container host
	Compiler: clang 18.1.8 (Fedora 18.1.8-1.fc40)

Fedora 41
	Kernel: Depends on container host
	Compiler: gcc 14.2.1 20240912 (Red Hat 14.2.1-3)

Ubuntu 22.04
	Kernel: Depends on container host
	Compiler: gcc (Ubuntu 11.4.0-1ubuntu1~22.04) 11.4.0

Fedora 40
	Kernel: Depends on container host
	Compiler: gcc 14.2.1 20240912 (Red Hat 14.2.1-3)

CentOS Stream 10
	Kernel: Depends on container host
	Compiler: gcc 14.2.1 20241104 (Red Hat 14.2.1-6)

Debian 12
	Kernel: Depends on container host
	Compiler: gcc (Debian 12.2.0-14) 12.2.0

Ubuntu 24.04
	Kernel: Depends on container host
	Compiler: gcc (Ubuntu 13.3.0-6ubuntu2~24.04) 13.3.0

Fedora 41 (Clang)
	Kernel: Depends on container host
	Compiler: clang 19.1.5 (Fedora 19.1.5-1.fc41)

Ubuntu 20.04
	Kernel: Depends on container host
	Compiler: gcc (Ubuntu 9.4.0-1ubuntu1~20.04.2) 9.4.0

To view detailed results, visit:
https://lab.dpdk.org/results/dashboard/patchsets/33227/

UNH-IOL DPDK Community Lab

To manage your email subscriptions, visit: 
https://lab.dpdk.org/results/dashboard/preferences/subscriptions/