From mboxrd@z Thu Jan 1 00:00:00 1970 Return-Path: Received: from mails.dpdk.org (mails.dpdk.org [217.70.189.124]) by inbox.dpdk.org (Postfix) with ESMTP id 31B0E467B8 for ; Thu, 22 May 2025 14:43:33 +0200 (CEST) Received: from mails.dpdk.org (localhost [127.0.0.1]) by mails.dpdk.org (Postfix) with ESMTP id 1A1D6402E5; Thu, 22 May 2025 14:43:33 +0200 (CEST) Received: from mail-il1-f228.google.com (mail-il1-f228.google.com [209.85.166.228]) by mails.dpdk.org (Postfix) with ESMTP id 7065F402E0 for ; Thu, 22 May 2025 14:43:31 +0200 (CEST) Received: by mail-il1-f228.google.com with SMTP id e9e14a558f8ab-3da73998419so22721435ab.0 for ; Thu, 22 May 2025 05:43:31 -0700 (PDT) DKIM-Signature: v=1; a=rsa-sha256; c=relaxed/relaxed; d=iol.unh.edu; s=unh-iol; t=1747917811; x=1748522611; darn=dpdk.org; h=references:in-reply-to:cc:to:from:subject:message-id:date:from:to :cc:subject:date:message-id:reply-to; bh=C0bcyVQXwpXnJxZzDTAQrFghUEUNHHP2i6dsGFsC0iA=; b=QvKWeVlll/GlF2qsjBeO7MXljhmihViagbyOjUnr+tCph3Zc8nIqPizdMcfWgnMsUI uW9bjR+4Oae+vb9dwdnqxJbx1PC95MLQVF4ZSW6YRgGx0eHGKPYDGvn1qYm2ezKsb6JM q/gpMVlVF/PzxDG/z6qb63/8X1lCJCAdsjv18= X-Google-DKIM-Signature: v=1; a=rsa-sha256; c=relaxed/relaxed; d=1e100.net; s=20230601; t=1747917811; x=1748522611; h=references:in-reply-to:cc:to:from:subject:message-id:date :x-gm-message-state:from:to:cc:subject:date:message-id:reply-to; bh=C0bcyVQXwpXnJxZzDTAQrFghUEUNHHP2i6dsGFsC0iA=; b=kdI1t/qmqObHnwbAD0gvRc6iiltgPWefpx8jwrOfyhQVzsx8oCrrrXoNJWrXFKJqxO 8Vt/rqhzrKlxVxDjQiYmQafGWre7VWqBvkh1tx8EHEcmnRa/Px247mId6/R0c80TKWGe 9wI06l0bvtakciy1vy8OpRJa6yo8z+Qv7jqzkL/JBeL4T+wCh0MnkGCyELc4pT2F5pL8 pKhYyWdKVSM8neuXUZ6mH+PXfABGo2qyHCfIA/FspioqJERVZ7pttPN5q+bMALN3aohF brDHkfEQpzztkYgunMYxorf5juANKH/z6qyoZ+AHlGy0WscUmsX8ufzY4Wilmt61lILy kQ1w== X-Gm-Message-State: AOJu0YwsNbY03fd814pjBOTia9Uu03ID8Nmub1y9fA9v7mivdv/Ebmwd zEwZF2Qo5qb1EHIdCn9J7a3qhcHJrOcqTPvMfTwWl802K8hRs10ygZeLK53ObicVcAshgK2hXws SK3he9BkFqHS4FkqDzY3O+vSeLSVDUIdg9jp87QZlQojQxy6kU2eycC/yYO+N X-Gm-Gg: ASbGncv2Gv3DgpxCoIQ5GqO95NYDVLpbrEbXWaP09I+aFltBYipu7Gd7Lo25/xZ4HkN EUrWOgMAXH/oUUMaCB3Tnlt3Ya4aNlavqU9JOWrHaqgGT1M1J96WusYKZKucybxKq6ZjbwhNYeX e0KvXottNqstMTWOtXTc453WHfz7EdNzSvROmweBvF0xCx1OYgpGV7O5EO6pSn1lEi3xWPjqdSQ BwmM6aVEPF9JtQVYt2d87k1fJLJBhWXAf0DdWyfKhrpoLT5DEfgkfA74veuqWUc5AEE2G6ZvNDV sG4MNIDSuUiiTU9g35+Zy5TaeuUrnHYgVFsm X-Google-Smtp-Source: AGHT+IGuCYIrWiyZ2G5VCu3mSKnjr6qr2ncAfz6UlY8AjUhYXUDdtl8FbyHmswp6/MAtFXTeUY+IkLLOi4um X-Received: by 2002:a05:6e02:380c:b0:3dc:7df8:c830 with SMTP id e9e14a558f8ab-3dc7df8cfd2mr99213405ab.7.1747917810664; Thu, 22 May 2025 05:43:30 -0700 (PDT) Received: from postal.iol.unh.edu (postal.iol.unh.edu. [2606:4100:3880:1234::84]) by smtp-relay.gmail.com with ESMTPS id e9e14a558f8ab-3dc87651ba9sm1595515ab.36.2025.05.22.05.43.30 (version=TLS1_2 cipher=ECDHE-ECDSA-AES128-GCM-SHA256 bits=128/128); Thu, 22 May 2025 05:43:30 -0700 (PDT) X-Relaying-Domain: iol.unh.edu Date: Thu, 22 May 2025 05:43:30 -0700 (PDT) Message-ID: <682f1bf2.050a0220.201005.8b3dSMTPIN_ADDED_MISSING@mx.google.com> Received: from [172.21.0.6] (unknown [172.18.0.240]) by postal.iol.unh.edu (Postfix) with ESMTP id 28BC56052471; Thu, 22 May 2025 08:43:30 -0400 (EDT) Subject: |SUCCESS| pw153580 [PATCH] [v1] compress/zsda: code formatting From: dpdklab@iol.unh.edu To: Test Report Cc: dpdk-test-reports@iol.unh.edu In-Reply-To: <20250522062351.2266776-1-li.hanxiao@zte.com.cn> References: <20250522062351.2266776-1-li.hanxiao@zte.com.cn> Content-Type: text/plain X-BeenThere: test-report@dpdk.org X-Mailman-Version: 2.1.29 Precedence: list List-Id: automatic DPDK test reports List-Unsubscribe: , List-Archive: List-Post: List-Help: List-Subscribe: , Errors-To: test-report-bounces@dpdk.org Test-Label: iol-unit-arm64-testing Test-Status: SUCCESS http://dpdk.org/patch/153580 _Testing PASS_ Submitter: Hanxiao Li Date: Thursday, May 22 2025 06:23:51 DPDK git baseline: Repo:dpdk Branch: master CommitID:fc627d7065ba5100faa928cf2edfa1622846f542 153580 --> testing pass Upstream job id: Generic-Unit-Test-DPDK#339912 Test environment and result as below: +-----------------------------+----------------+------------------------------+--------------+---------------------------+ | Environment | dpdk_unit_test | cryptodev_sw_snow3g_autotest | lpm_autotest | cryptodev_sw_zuc_autotest | +=============================+================+==============================+==============+===========================+ | CentOS Stream 9 (ARM) | PASS | SKIPPED | SKIPPED | SKIPPED | +-----------------------------+----------------+------------------------------+--------------+---------------------------+ | CentOS Stream 10 (ARM) | PASS | SKIPPED | SKIPPED | SKIPPED | +-----------------------------+----------------+------------------------------+--------------+---------------------------+ | Fedora 40 (ARM Clang) | PASS | SKIPPED | SKIPPED | SKIPPED | +-----------------------------+----------------+------------------------------+--------------+---------------------------+ | Debian 12 (arm) | PASS | PASS | SKIPPED | PASS | +-----------------------------+----------------+------------------------------+--------------+---------------------------+ | Fedora 40 (ARM) | PASS | SKIPPED | SKIPPED | SKIPPED | +-----------------------------+----------------+------------------------------+--------------+---------------------------+ | RHEL9 (ARM) | PASS | SKIPPED | SKIPPED | SKIPPED | +-----------------------------+----------------+------------------------------+--------------+---------------------------+ | Fedora 41 (ARM Clang) | PASS | SKIPPED | SKIPPED | SKIPPED | +-----------------------------+----------------+------------------------------+--------------+---------------------------+ | Fedora 41 (ARM) | PASS | SKIPPED | SKIPPED | SKIPPED | +-----------------------------+----------------+------------------------------+--------------+---------------------------+ | Ubuntu 20.04 (ARM) | PASS | SKIPPED | SKIPPED | SKIPPED | +-----------------------------+----------------+------------------------------+--------------+---------------------------+ | Ubuntu 24.04 (ARM) | PASS | SKIPPED | SKIPPED | SKIPPED | +-----------------------------+----------------+------------------------------+--------------+---------------------------+ | Ubuntu 22.04 (ARM) | PASS | SKIPPED | SKIPPED | SKIPPED | +-----------------------------+----------------+------------------------------+--------------+---------------------------+ | 32-bit Ubuntu 22.04.4 (ARM) | PASS | SKIPPED | SKIPPED | SKIPPED | +-----------------------------+----------------+------------------------------+--------------+---------------------------+ | Ubuntu 20.04 ARM SVE | SKIPPED | SKIPPED | PASS | SKIPPED | +-----------------------------+----------------+------------------------------+--------------+---------------------------+ CentOS Stream 9 (ARM) Kernel: Depends on container host Compiler: gcc 11.5.0 20240719 (Red Hat 11.5.0-2) CentOS Stream 10 (ARM) Kernel: Depends on container host Compiler: gcc 14.2.1 20241104 (Red Hat 14.2.1-6) Fedora 40 (ARM Clang) Kernel: Depends on container host Compiler: clang 18.1.8 (Fedora 18.1.8-1.fc40) Debian 12 (arm) Kernel: Depends on container host Compiler: gcc (Debian 12.2.0-14) 12.2.0 Fedora 40 (ARM) Kernel: Depends on container host Compiler: gcc 14.2.1 20240912 (Red Hat 14.2.1-3) RHEL9 (ARM) Kernel: Depends on container host Compiler: gcc 11.5.0 20240719 (Red Hat 11.5.0-2) Fedora 41 (ARM Clang) Kernel: Depends on container host Compiler: clang 19.1.5 (Fedora 19.1.5-1.fc41) Fedora 41 (ARM) Kernel: Depends on container host Compiler: gcc 14.2.1 20240912 (Red Hat 14.2.1-3) Ubuntu 20.04 (ARM) Kernel: Depends on container host Compiler: gcc (Ubuntu 9.4.0-1ubuntu1~20.04.2) 9.4.0 Ubuntu 24.04 (ARM) Kernel: Depends on container host Compiler: gcc (Ubuntu 13.3.0-6ubuntu2~24.04) 13.3.0 Ubuntu 22.04 (ARM) Kernel: Depends on container host Compiler: gcc (Ubuntu 11.4.0-1ubuntu1~22.04) 11.4.0 32-bit Ubuntu 22.04.4 (ARM) Kernel: 5.15.83+ aarch64 Compiler: gcc (Ubuntu 11.4.0-1ubuntu1~22.04) 11.4.0 Ubuntu 20.04 ARM SVE Kernel: Depends on container host Compiler: gcc (Ubuntu 10.5.0-1ubuntu1~20.04) 10.5.0 To view detailed results, visit: https://lab.dpdk.org/results/dashboard/patchsets/33228/ UNH-IOL DPDK Community Lab To manage your email subscriptions, visit: https://lab.dpdk.org/results/dashboard/preferences/subscriptions/