From mboxrd@z Thu Jan 1 00:00:00 1970 Return-Path: Received: from mails.dpdk.org (mails.dpdk.org [217.70.189.124]) by inbox.dpdk.org (Postfix) with ESMTP id 755FB467B8 for ; Thu, 22 May 2025 14:46:40 +0200 (CEST) Received: from mails.dpdk.org (localhost [127.0.0.1]) by mails.dpdk.org (Postfix) with ESMTP id 6E72B402E5; Thu, 22 May 2025 14:46:40 +0200 (CEST) Received: from mail-oa1-f98.google.com (mail-oa1-f98.google.com [209.85.160.98]) by mails.dpdk.org (Postfix) with ESMTP id 5969F402E0 for ; Thu, 22 May 2025 14:46:39 +0200 (CEST) Received: by mail-oa1-f98.google.com with SMTP id 586e51a60fabf-2d0920ce388so3087460fac.0 for ; Thu, 22 May 2025 05:46:39 -0700 (PDT) DKIM-Signature: v=1; a=rsa-sha256; c=relaxed/relaxed; d=iol.unh.edu; s=unh-iol; t=1747917998; x=1748522798; darn=dpdk.org; h=references:in-reply-to:cc:to:from:subject:message-id:date:from:to :cc:subject:date:message-id:reply-to; bh=OZANFvVeyiaCVi5BE4scF1fvpafSNn2NQBcqKD2md/c=; b=fo2uuj7fyAeYw4r9eVlLJM4z2oSOn2M5POY/o9fEr0x2wnPNSGr/Mle/L/uccPPh2x 5naSz+sAFXdyS38OYVu5IDGzwmExtDg8W7TzHjjlXXp1ni0hAobB6T7yFumtmwodd+zG 9ouSTb1bY/fA0TPcuwFZ5XwHmqw4o5j0opH/I= X-Google-DKIM-Signature: v=1; a=rsa-sha256; c=relaxed/relaxed; d=1e100.net; s=20230601; t=1747917998; x=1748522798; h=references:in-reply-to:cc:to:from:subject:message-id:date :x-gm-message-state:from:to:cc:subject:date:message-id:reply-to; bh=OZANFvVeyiaCVi5BE4scF1fvpafSNn2NQBcqKD2md/c=; b=S2CxDi90z1womc0Chn0Ax1CfsNC8UNCtTIn7Vg7SBtOy4qOfInVoDPAqRA9xnpsrWm +KF8iEnG5h70kwFrSkcZBIpb50OcR04ifhtqCQD+oBx8eDTPpxmd6/azOiH6mLu3oOa4 RZy7EQ6JO3cCKqrjuWnYtG0colIbUMxPBtuMH+n5WIB4DxtkyDRbuplwnwVl6O/XqDDv h7plL46ppNxN1XeFaYmiy1ZmlCSmw/MCLr2u2w2pLaawMumofxsLrRdyDtfpbGnLoLIf uwDwsf/77JPsmnQA8kL7M0PK/WFJsN9W6Pcz4opXxhMn3T+c78alPr1wmCjJCg331kV5 dg0Q== X-Gm-Message-State: AOJu0Yx63QS0DngrbUay1cIDzzPukV5k8hWfwasMV+VXqEm9ZbGHNxVG /NmoEyLrGSEWvEpmCg9WxknHOab2YxK2iPx4OF+ckixmvwhCigI8fHSFMf5armjtKhTcS8ZFRua GtXhzF5IRU8yWhUrMpd5ZOy2sdgLTY4rlBhlb1Nm1h/mOpLhR61cft7Gy5SGi X-Gm-Gg: ASbGncsZYYBX6rCTOe9Y+E25/F/Vra4SOpd5EKNt1vPWYqxXs2icNxKpc1fJsrjgbaI rWHFdVbQQwQL4REcKJ9zq0eVsXo57XnWcnCmHN0eUxEnUFAQX7f3haWUN/OX0dnaaBJNq1jideD BK2TV77jkzxT2luTzCOxzK7DB+z5FsP0waa8YoX2QwjkWp8oWySv3eW6o1XAelV2eI677JgHaSy rFT0cfowMcBFghhNLWE2PVFA1K631rYws1UAfFWu4vldIMky2l3xv14l8QwOG5BqL0RJU330A+D Q1/R1BjkWfVpktf74hPDzoXQl4fYLqRVODwF X-Google-Smtp-Source: AGHT+IH3HXE5Oz6KKY5Os9uO66NsmBm+BMno7rfE5SXZi4HV7x5sHDZpkyL04Z+OTZDDrgzky36vhqK/dTLJ X-Received: by 2002:a05:6870:3508:b0:2bc:7007:5145 with SMTP id 586e51a60fabf-2e3c1c098f3mr15045343fac.9.1747917998309; Thu, 22 May 2025 05:46:38 -0700 (PDT) Received: from postal.iol.unh.edu (postal.iol.unh.edu. [2606:4100:3880:1234::84]) by smtp-relay.gmail.com with ESMTPS id 586e51a60fabf-2e3c0604c45sm724303fac.1.2025.05.22.05.46.38 (version=TLS1_2 cipher=ECDHE-ECDSA-AES128-GCM-SHA256 bits=128/128); Thu, 22 May 2025 05:46:38 -0700 (PDT) X-Relaying-Domain: iol.unh.edu Date: Thu, 22 May 2025 05:46:38 -0700 (PDT) Message-ID: <682f1cae.050a0220.19484e.a67bSMTPIN_ADDED_MISSING@mx.google.com> Received: from [172.17.0.2] (unknown [172.18.0.75]) by postal.iol.unh.edu (Postfix) with ESMTP id C261C6052471; Thu, 22 May 2025 08:46:37 -0400 (EDT) Subject: |WARNING| pw153580 [PATCH] [v1] compress/zsda: code formatting From: dpdklab@iol.unh.edu To: Test Report Cc: dpdk-test-reports@iol.unh.edu In-Reply-To: <20250522062351.2266776-1-li.hanxiao@zte.com.cn> References: <20250522062351.2266776-1-li.hanxiao@zte.com.cn> Content-Type: text/plain X-BeenThere: test-report@dpdk.org X-Mailman-Version: 2.1.29 Precedence: list List-Id: automatic DPDK test reports List-Unsubscribe: , List-Archive: List-Post: List-Help: List-Subscribe: , Errors-To: test-report-bounces@dpdk.org Test-Label: iol-compile-amd64-testing Test-Status: WARNING http://dpdk.org/patch/153580 _Testing issues_ Submitter: Hanxiao Li Date: Thursday, May 22 2025 06:23:51 DPDK git baseline: Repo:dpdk Branch: master CommitID:fc627d7065ba5100faa928cf2edfa1622846f542 153580 --> testing issues Upstream job id: Windows-Compile-DPDK-Native#28560 Test environment and result as below: +-----------------------------------+--------------------+-------------------+------------------+-------------------+-------------------------+ | Environment | dpdk_meson_compile | dpdk_compile_spdk | dpdk_compile_ovs | dpdk_msvc_compile | dpdk_llvm_clang_compile | +===================================+====================+===================+==================+===================+=========================+ | CentOS Stream 9 | PASS | PASS | SKIPPED | SKIPPED | SKIPPED | +-----------------------------------+--------------------+-------------------+------------------+-------------------+-------------------------+ | Debian 12 | PASS | PASS | SKIPPED | SKIPPED | SKIPPED | +-----------------------------------+--------------------+-------------------+------------------+-------------------+-------------------------+ | CentOS Stream 10 | PASS | SKIPPED | SKIPPED | SKIPPED | SKIPPED | +-----------------------------------+--------------------+-------------------+------------------+-------------------+-------------------------+ | Fedora 40 | PASS | PASS | SKIPPED | SKIPPED | SKIPPED | +-----------------------------------+--------------------+-------------------+------------------+-------------------+-------------------------+ | Fedora 40 (Clang) | PASS | WARN | SKIPPED | SKIPPED | SKIPPED | +-----------------------------------+--------------------+-------------------+------------------+-------------------+-------------------------+ | Fedora 41 (Clang) | PASS | WARN | PASS | SKIPPED | SKIPPED | +-----------------------------------+--------------------+-------------------+------------------+-------------------+-------------------------+ | Fedora 41 | PASS | PASS | PASS | SKIPPED | SKIPPED | +-----------------------------------+--------------------+-------------------+------------------+-------------------+-------------------------+ | openSUSE Leap 15 | PASS | SKIPPED | SKIPPED | SKIPPED | SKIPPED | +-----------------------------------+--------------------+-------------------+------------------+-------------------+-------------------------+ | RHEL8 | PASS | SKIPPED | SKIPPED | SKIPPED | SKIPPED | +-----------------------------------+--------------------+-------------------+------------------+-------------------+-------------------------+ | Ubuntu 20.04 | PASS | SKIPPED | SKIPPED | SKIPPED | SKIPPED | +-----------------------------------+--------------------+-------------------+------------------+-------------------+-------------------------+ | RHEL9 | PASS | SKIPPED | SKIPPED | SKIPPED | SKIPPED | +-----------------------------------+--------------------+-------------------+------------------+-------------------+-------------------------+ | Ubuntu 24.04 | PASS | PASS | PASS | SKIPPED | SKIPPED | +-----------------------------------+--------------------+-------------------+------------------+-------------------+-------------------------+ | Ubuntu 22.04 | PASS | PASS | SKIPPED | SKIPPED | SKIPPED | +-----------------------------------+--------------------+-------------------+------------------+-------------------+-------------------------+ | Alpine | PASS | SKIPPED | SKIPPED | SKIPPED | SKIPPED | +-----------------------------------+--------------------+-------------------+------------------+-------------------+-------------------------+ | Ubuntu 24.04 32 Bit Cross Compile | PASS | SKIPPED | SKIPPED | SKIPPED | SKIPPED | +-----------------------------------+--------------------+-------------------+------------------+-------------------+-------------------------+ | FreeBSD 14.2 | PASS | SKIPPED | SKIPPED | SKIPPED | SKIPPED | +-----------------------------------+--------------------+-------------------+------------------+-------------------+-------------------------+ | Windows Server 2022 | SKIPPED | SKIPPED | SKIPPED | PASS | PASS | +-----------------------------------+--------------------+-------------------+------------------+-------------------+-------------------------+ ==== 20 line log output for Fedora 41 (Clang) (dpdk_compile_spdk): ==== --- Failed to get log output --- ==== End log output ==== CentOS Stream 9 Kernel: Depends on container host Compiler: gcc 11.5.0 20240719 (Red Hat 11.5.0-2) Debian 12 Kernel: Depends on container host Compiler: gcc (Debian 12.2.0-14) 12.2.0 CentOS Stream 10 Kernel: Depends on container host Compiler: gcc 14.2.1 20241104 (Red Hat 14.2.1-6) Fedora 40 Kernel: Depends on container host Compiler: gcc 14.2.1 20240912 (Red Hat 14.2.1-3) Fedora 40 (Clang) Kernel: Depends on container host Compiler: clang 18.1.8 (Fedora 18.1.8-1.fc40) Fedora 41 (Clang) Kernel: Depends on container host Compiler: clang 19.1.5 (Fedora 19.1.5-1.fc41) Fedora 41 Kernel: Depends on container host Compiler: gcc 14.2.1 20240912 (Red Hat 14.2.1-3) openSUSE Leap 15 Kernel: Depends on container host Compiler: gcc (SUSE Linux) 7.5.0 RHEL8 Kernel: Depends on container host Compiler: gcc 8.5.0 20210514 (Red Hat 8.5.0-22) Ubuntu 20.04 Kernel: Depends on container host Compiler: gcc (Ubuntu 9.4.0-1ubuntu1~20.04.2) 9.4.0 RHEL9 Kernel: Depends on container host Compiler: gcc 11.5.0 20240719 (Red Hat 11.5.0-2) Ubuntu 24.04 Kernel: Depends on container host Compiler: gcc (Ubuntu 13.3.0-6ubuntu2~24.04) 13.3.0 Ubuntu 22.04 Kernel: Depends on container host Compiler: gcc (Ubuntu 11.4.0-1ubuntu1~22.04) 11.4.0 Alpine Kernel: Depends on container host Compiler: gcc (Alpine 14.2.0) 14.2.0 Ubuntu 24.04 32 Bit Cross Compile Kernel: Depends on container host Compiler: gcc (Ubuntu 13.3.0-6ubuntu2~24.04) 13.3.0 FreeBSD 14.2 Kernel: 14.2-RELEASE Compiler: clang 18.1.6 Windows Server 2022 Kernel: 10.0.20348.2031 Compiler: clang 15.0.7, gcc 14.1.0 (MinGW), and MSVC VS 19.39.33521 To view detailed results, visit: https://lab.dpdk.org/results/dashboard/patchsets/33228/ UNH-IOL DPDK Community Lab To manage your email subscriptions, visit: https://lab.dpdk.org/results/dashboard/preferences/subscriptions/