From mboxrd@z Thu Jan 1 00:00:00 1970 Return-Path: Received: from mails.dpdk.org (mails.dpdk.org [217.70.189.124]) by inbox.dpdk.org (Postfix) with ESMTP id 311B8467B8 for ; Thu, 22 May 2025 15:08:12 +0200 (CEST) Received: from mails.dpdk.org (localhost [127.0.0.1]) by mails.dpdk.org (Postfix) with ESMTP id 2B84B4066C; Thu, 22 May 2025 15:08:12 +0200 (CEST) Received: from mail-il1-f226.google.com (mail-il1-f226.google.com [209.85.166.226]) by mails.dpdk.org (Postfix) with ESMTP id 5DC91402E5 for ; Thu, 22 May 2025 15:08:11 +0200 (CEST) Received: by mail-il1-f226.google.com with SMTP id e9e14a558f8ab-3da82c6c5d4so57815115ab.1 for ; Thu, 22 May 2025 06:08:11 -0700 (PDT) DKIM-Signature: v=1; a=rsa-sha256; c=relaxed/relaxed; d=iol.unh.edu; s=unh-iol; t=1747919291; x=1748524091; darn=dpdk.org; h=references:in-reply-to:cc:to:from:subject:message-id:date:from:to :cc:subject:date:message-id:reply-to; bh=kluKmGetbHR+kxxUYmZ681vF6Afd3Zvg8s4Kl0Mdkgo=; b=bRfQ0sjiwQAZoQHZgJKCk+XPiD0Irp3YEbtKjw4dMm1I+QxIGiIKEaooHtT98tZocq kNdS/mFHg2E/0agKygOay9dJsQ2ZQi9lZLF0eVPcdzRdqbeir+VzA0xR/dncshadf6dE 55r5bhfe9/+Jnd8Ykm6NosNRWA20iJtJQ+ACs= X-Google-DKIM-Signature: v=1; a=rsa-sha256; c=relaxed/relaxed; d=1e100.net; s=20230601; t=1747919291; x=1748524091; h=references:in-reply-to:cc:to:from:subject:message-id:date :x-gm-message-state:from:to:cc:subject:date:message-id:reply-to; bh=kluKmGetbHR+kxxUYmZ681vF6Afd3Zvg8s4Kl0Mdkgo=; b=tGQgKfmgtJTPrSOlbaDNy4BEeKDnL62/FG9xc5ARHCoVf/UsAFP/vvR+Gv1zCN3dbM D5R6hBhyMXcurRfOQE7t/plmn9DBiMWwhP5bWxbGTL0RvCF3OHLQC4qmhDUiU4zmxMmp HHNY62Ot8EeQCvQtO8+Wi1i1ZuqfwtY4XhhboPRYO0gWFfHtCimkPujYATWw27FMUE4y L7Ica7XMx1AkoCA6BYkuwpvArBUw7x2KfBkF5GBz2iFW1cOSxJvXIgzkoD5ufpvAXGWV LZNGwyhL1K/fTuMRCIRJ40nfukrn07V+LkNH0sZaJmQd6E624IE/Ck8HMjFR6kzAquvf KyQg== X-Gm-Message-State: AOJu0YzPEwkxS7cj3qhzkyAE/inFYf0p1NnWe/4vSn5T+tRHW8WcPOoL dtNeM8okLz0gRzW2VIQgTjF1OkyhBWV9OB5cLZbAEo9tX+fJo2PIfCsZga6rx18BRirh7SuVQqA 4uV/WXxxxBtWdM/E6auRQtT1MoUi8CTsHBv8Z6U7AzYMJe43eGpjlPRFQic1x X-Gm-Gg: ASbGncu3qQTEfg6qrFdfzAjrPoZR8gPn0s1s/KhZvpTAzKYnsRTQBChbgzt5yH8NJyG I/MO+DZyJn0cT8NZcORijcBDNXc6fRaIDF6FxmwFhP5+Rg5cEk4bzqZRhflbp5dv54v3PYlUN2z spRHAoa2+G0LvlLiCUPlRgTKhu3TkWUGmxcFisJGrTbXA8xK3JyJS9vWQ/1xLw8W3wpqrXseqmc TzH+rPJD+o5u49YSLbJbLJWFQ5fzzLl0WfNzgXx4UvzOlrCpap4NI2YfoDTz5t+lSQSHHa5XJbh F6hQKsYs7wT11aZDAaubYPVh0irIfBpx9C6t X-Google-Smtp-Source: AGHT+IGBLSp64cE1BPTUXfGI2bjsJ0PNRNKS234nRnCPmJhIwUE/kXgyjMNkH2kan2RX+vhZz1GfY/TTQV/m X-Received: by 2002:a05:6e02:3a01:b0:3d8:1b25:cc2 with SMTP id e9e14a558f8ab-3db842a6e18mr284590075ab.8.1747919290633; Thu, 22 May 2025 06:08:10 -0700 (PDT) Received: from postal.iol.unh.edu (postal.iol.unh.edu. [2606:4100:3880:1234::84]) by smtp-relay.gmail.com with ESMTPS id e9e14a558f8ab-3dc76b0d263sm3467625ab.54.2025.05.22.06.08.10 (version=TLS1_2 cipher=ECDHE-ECDSA-AES128-GCM-SHA256 bits=128/128); Thu, 22 May 2025 06:08:10 -0700 (PDT) X-Relaying-Domain: iol.unh.edu Date: Thu, 22 May 2025 06:08:10 -0700 (PDT) Message-ID: <682f21ba.050a0220.3860bc.20b1SMTPIN_ADDED_MISSING@mx.google.com> Received: from [172.21.0.6] (unknown [172.18.0.240]) by postal.iol.unh.edu (Postfix) with ESMTP id 231366052471; Thu, 22 May 2025 09:08:10 -0400 (EDT) Subject: |WARNING| pw153579 [PATCH] net/bnxt: fix free of not allocated objec From: dpdklab@iol.unh.edu To: Test Report Cc: dpdk-test-reports@iol.unh.edu In-Reply-To: <20250521193727.382342-1-stephen@networkplumber.org> References: <20250521193727.382342-1-stephen@networkplumber.org> Content-Type: text/plain X-BeenThere: test-report@dpdk.org X-Mailman-Version: 2.1.29 Precedence: list List-Id: automatic DPDK test reports List-Unsubscribe: , List-Archive: List-Post: List-Help: List-Subscribe: , Errors-To: test-report-bounces@dpdk.org Test-Label: iol-compile-amd64-testing Test-Status: WARNING http://dpdk.org/patch/153579 _Testing issues_ Submitter: Stephen Hemminger Date: Wednesday, May 21 2025 19:37:27 DPDK git baseline: Repo:dpdk Branch: master CommitID:472a978287c60af47266ebf18116907a37eec677 153579 --> testing issues Upstream job id: Generic-DPDK-Compile-Meson#390463 Test environment and result as below: +-----------------------------------+--------------------+-------------------+------------------+-------------------+ | Environment | dpdk_meson_compile | dpdk_compile_spdk | dpdk_compile_ovs | dpdk_msvc_compile | +===================================+====================+===================+==================+===================+ | CentOS Stream 10 | PASS | SKIPPED | SKIPPED | SKIPPED | +-----------------------------------+--------------------+-------------------+------------------+-------------------+ | CentOS Stream 9 | PASS | PASS | SKIPPED | SKIPPED | +-----------------------------------+--------------------+-------------------+------------------+-------------------+ | Fedora 40 (Clang) | PASS | WARN | SKIPPED | SKIPPED | +-----------------------------------+--------------------+-------------------+------------------+-------------------+ | Debian 12 | PASS | PASS | SKIPPED | SKIPPED | +-----------------------------------+--------------------+-------------------+------------------+-------------------+ | Fedora 40 | PASS | PASS | SKIPPED | SKIPPED | +-----------------------------------+--------------------+-------------------+------------------+-------------------+ | Fedora 41 (Clang) | PASS | WARN | PASS | SKIPPED | +-----------------------------------+--------------------+-------------------+------------------+-------------------+ | Fedora 41 | PASS | PASS | PASS | SKIPPED | +-----------------------------------+--------------------+-------------------+------------------+-------------------+ | openSUSE Leap 15 | PASS | SKIPPED | SKIPPED | SKIPPED | +-----------------------------------+--------------------+-------------------+------------------+-------------------+ | RHEL8 | PASS | SKIPPED | SKIPPED | SKIPPED | +-----------------------------------+--------------------+-------------------+------------------+-------------------+ | RHEL9 | PASS | SKIPPED | SKIPPED | SKIPPED | +-----------------------------------+--------------------+-------------------+------------------+-------------------+ | Ubuntu 20.04 | PASS | SKIPPED | SKIPPED | SKIPPED | +-----------------------------------+--------------------+-------------------+------------------+-------------------+ | Ubuntu 22.04 | PASS | PASS | SKIPPED | SKIPPED | +-----------------------------------+--------------------+-------------------+------------------+-------------------+ | Ubuntu 24.04 | PASS | PASS | PASS | SKIPPED | +-----------------------------------+--------------------+-------------------+------------------+-------------------+ | Alpine | PASS | SKIPPED | SKIPPED | SKIPPED | +-----------------------------------+--------------------+-------------------+------------------+-------------------+ | Ubuntu 24.04 32 Bit Cross Compile | PASS | SKIPPED | SKIPPED | SKIPPED | +-----------------------------------+--------------------+-------------------+------------------+-------------------+ | FreeBSD 14.2 | PASS | SKIPPED | SKIPPED | SKIPPED | +-----------------------------------+--------------------+-------------------+------------------+-------------------+ | Windows Server 2022 | SKIPPED | SKIPPED | SKIPPED | PASS | +-----------------------------------+--------------------+-------------------+------------------+-------------------+ ==== 20 line log output for Fedora 41 (Clang) (dpdk_compile_spdk): ==== --- Failed to get log output --- ==== End log output ==== CentOS Stream 10 Kernel: Depends on container host Compiler: gcc 14.2.1 20241104 (Red Hat 14.2.1-6) CentOS Stream 9 Kernel: Depends on container host Compiler: gcc 11.5.0 20240719 (Red Hat 11.5.0-2) Fedora 40 (Clang) Kernel: Depends on container host Compiler: clang 18.1.8 (Fedora 18.1.8-1.fc40) Debian 12 Kernel: Depends on container host Compiler: gcc (Debian 12.2.0-14) 12.2.0 Fedora 40 Kernel: Depends on container host Compiler: gcc 14.2.1 20240912 (Red Hat 14.2.1-3) Fedora 41 (Clang) Kernel: Depends on container host Compiler: clang 19.1.5 (Fedora 19.1.5-1.fc41) Fedora 41 Kernel: Depends on container host Compiler: gcc 14.2.1 20240912 (Red Hat 14.2.1-3) openSUSE Leap 15 Kernel: Depends on container host Compiler: gcc (SUSE Linux) 7.5.0 RHEL8 Kernel: Depends on container host Compiler: gcc 8.5.0 20210514 (Red Hat 8.5.0-22) RHEL9 Kernel: Depends on container host Compiler: gcc 11.5.0 20240719 (Red Hat 11.5.0-2) Ubuntu 20.04 Kernel: Depends on container host Compiler: gcc (Ubuntu 9.4.0-1ubuntu1~20.04.2) 9.4.0 Ubuntu 22.04 Kernel: Depends on container host Compiler: gcc (Ubuntu 11.4.0-1ubuntu1~22.04) 11.4.0 Ubuntu 24.04 Kernel: Depends on container host Compiler: gcc (Ubuntu 13.3.0-6ubuntu2~24.04) 13.3.0 Alpine Kernel: Depends on container host Compiler: gcc (Alpine 14.2.0) 14.2.0 Ubuntu 24.04 32 Bit Cross Compile Kernel: Depends on container host Compiler: gcc (Ubuntu 13.3.0-6ubuntu2~24.04) 13.3.0 FreeBSD 14.2 Kernel: 14.2-RELEASE Compiler: clang 18.1.6 Windows Server 2022 Kernel: 10.0.20348.2031 Compiler: clang 15.0.7, gcc 14.1.0 (MinGW), and MSVC VS 19.39.33521 To view detailed results, visit: https://lab.dpdk.org/results/dashboard/patchsets/33227/ UNH-IOL DPDK Community Lab To manage your email subscriptions, visit: https://lab.dpdk.org/results/dashboard/preferences/subscriptions/