From mboxrd@z Thu Jan 1 00:00:00 1970 Return-Path: Received: from mails.dpdk.org (mails.dpdk.org [217.70.189.124]) by inbox.dpdk.org (Postfix) with ESMTP id 7EC91467B8 for ; Thu, 22 May 2025 15:21:40 +0200 (CEST) Received: from mails.dpdk.org (localhost [127.0.0.1]) by mails.dpdk.org (Postfix) with ESMTP id 76ACE4064F; Thu, 22 May 2025 15:21:40 +0200 (CEST) Received: from mail-qv1-f100.google.com (mail-qv1-f100.google.com [209.85.219.100]) by mails.dpdk.org (Postfix) with ESMTP id 035E3402E5 for ; Thu, 22 May 2025 15:21:39 +0200 (CEST) Received: by mail-qv1-f100.google.com with SMTP id 6a1803df08f44-6f5373067b3so101374806d6.2 for ; Thu, 22 May 2025 06:21:38 -0700 (PDT) DKIM-Signature: v=1; a=rsa-sha256; c=relaxed/relaxed; d=iol.unh.edu; s=unh-iol; t=1747920098; x=1748524898; darn=dpdk.org; h=references:in-reply-to:cc:to:from:subject:message-id:date:from:to :cc:subject:date:message-id:reply-to; bh=gaXOtnk7Po/47TMCjnxpmeJcjraxR3DFI5uVQgb7+sw=; b=Mq0q73BVFgc0Lo9DOQLNs93pGzOq7qdnx+4lPBgz6e4Gpo0DtG920ami6/1a0xAUde DRQMRMp66mhoXyoTZDWfd5FDbmXAAhIr/jopT+J2KqXV5cZFOa9Xo2mBWINODnVtPRoU Taqm4a61+xNlwfdGswKE/pgkXH1B5daL1rV7M= X-Google-DKIM-Signature: v=1; a=rsa-sha256; c=relaxed/relaxed; d=1e100.net; s=20230601; t=1747920098; x=1748524898; h=references:in-reply-to:cc:to:from:subject:message-id:date :x-gm-message-state:from:to:cc:subject:date:message-id:reply-to; bh=gaXOtnk7Po/47TMCjnxpmeJcjraxR3DFI5uVQgb7+sw=; b=HyCFT24SpWjNijnbpAU0nVRssM4yz/OLNnP409JzDoY4Q5+erLDdUS0cTKPqMQJRYe EnCSW+gPRZckCIXLw74H0UCwDubYxGxOtoZ8k8UC9p4pOW1yHM/P2rQMwj9ufuW4/CuG fyWATG45JQ5f/bsVOnnKROLrzU41WZFZh5OVpK8nCouV5uFcMaZif8kGt2VXHUaAERi3 58r3TIaRAywjPskTVdQ1oWskh2iVwBI+sWBeAYRSjGcjh7xBXHoTNOXyGQLe5y4EXuSp g+tb9QXVzFjw8qCw7oryJxf91lSclaRPyjMHlnHOh1TM0CT3Tnp+Vrxv/Av30xXVcKn6 2xWA== X-Gm-Message-State: AOJu0Yxe1g8FRPbkqDwfZBfXDdMMAHiFXzMpaUF4Abf3araojqJ4tP+j mIietCMsipZnG7Imzny7e5620nLUsUL+javLaE14Sk5WVc1pRH5qwvkx1FDd6deeRu9G7alJ+Ld 536uWKhy9fZ8RXXXG+dXNGD2JXFoaeNJ0ZRwYwCNeMir/io7JgDkG/wnhLy1i X-Gm-Gg: ASbGncvvvGRIVyR4mg4jE6FqK6OQv1P5629X/W+p8e4E5oJuOm4Vk7dJ2ScsGCTbbjO dqU6dcmPpLVWBd6VJIRaNWYTQ3o/VN6dM2B5kpyU7P1DkXkTNXwpQbPAvI0JDRD888qU7vQv4PU SUuUMAwK4Fc5HhEiIUNcxXdornZPu1yiO6lRXesh+56BOYfLOt5YpILs70+tQqNuP7LrxY1vSjk glUTMboNVqcueGwapBIl/zGeD9X+tZRQjhu3ffkSApJJETCHXGElW30LJeRaoyVyRCXThHtN5qG JMVg6hKFGd5S84moCy4THpbAtLO6Xuqn+PMO X-Google-Smtp-Source: AGHT+IH93DhBOSgM5u4NumJykIoJCQMOs4uuNJRb7doIIhqvRZYF2rxoRdaVQQHg85ee6dOtgHNa7nVA3R+D X-Received: by 2002:ad4:5943:0:b0:6f8:d76c:5869 with SMTP id 6a1803df08f44-6f8d76c6114mr240551536d6.0.1747920098254; Thu, 22 May 2025 06:21:38 -0700 (PDT) Received: from postal.iol.unh.edu (postal.iol.unh.edu. [2606:4100:3880:1234::84]) by smtp-relay.gmail.com with ESMTPS id 6a1803df08f44-6f8b089cc8csm5322736d6.9.2025.05.22.06.21.38 (version=TLS1_2 cipher=ECDHE-ECDSA-AES128-GCM-SHA256 bits=128/128); Thu, 22 May 2025 06:21:38 -0700 (PDT) X-Relaying-Domain: iol.unh.edu Date: Thu, 22 May 2025 06:21:38 -0700 (PDT) Message-ID: <682f24e2.050a0220.261217.b23eSMTPIN_ADDED_MISSING@mx.google.com> Received: from [172.17.0.4] (unknown [172.18.0.74]) by postal.iol.unh.edu (Postfix) with ESMTP id CF28A6052471; Thu, 22 May 2025 09:21:37 -0400 (EDT) Subject: |SUCCESS| pw153593-153595 [PATCH] [v6,9/9] app/test: add zsda crypto From: dpdklab@iol.unh.edu To: Test Report Cc: dpdk-test-reports@iol.unh.edu In-Reply-To: <20250522093037.2274245-10-li.hanxiao@zte.com.cn> References: <20250522093037.2274245-10-li.hanxiao@zte.com.cn> Content-Type: text/plain X-BeenThere: test-report@dpdk.org X-Mailman-Version: 2.1.29 Precedence: list List-Id: automatic DPDK test reports List-Unsubscribe: , List-Archive: List-Post: List-Help: List-Subscribe: , Errors-To: test-report-bounces@dpdk.org Test-Label: iol-abi-testing Test-Status: SUCCESS http://dpdk.org/patch/153595 _Testing PASS_ Submitter: Hanxiao Li Date: Thursday, May 22 2025 09:30:35 DPDK git baseline: Repo:dpdk Branch: master CommitID:fc627d7065ba5100faa928cf2edfa1622846f542 153593-153595 --> testing pass Upstream job id: Generic-DPDK-Compile-ABI#127335 Test environment and result as below: +-------------------+----------+ | Environment | abi_test | +===================+==========+ | CentOS Stream 9 | PASS | +-------------------+----------+ | Debian 12 | PASS | +-------------------+----------+ | CentOS Stream 10 | PASS | +-------------------+----------+ | Fedora 40 | PASS | +-------------------+----------+ | Fedora 41 (Clang) | PASS | +-------------------+----------+ | Fedora 40 (Clang) | PASS | +-------------------+----------+ | Fedora 41 | PASS | +-------------------+----------+ | Ubuntu 22.04 | PASS | +-------------------+----------+ | openSUSE Leap 15 | PASS | +-------------------+----------+ | RHEL8 | PASS | +-------------------+----------+ | RHEL9 | PASS | +-------------------+----------+ | Ubuntu 24.04 | PASS | +-------------------+----------+ CentOS Stream 9 Kernel: Depends on container host Compiler: gcc 11.5.0 20240719 (Red Hat 11.5.0-2) Debian 12 Kernel: Depends on container host Compiler: gcc (Debian 12.2.0-14) 12.2.0 CentOS Stream 10 Kernel: Depends on container host Compiler: gcc 14.2.1 20241104 (Red Hat 14.2.1-6) Fedora 40 Kernel: Depends on container host Compiler: gcc 14.2.1 20240912 (Red Hat 14.2.1-3) Fedora 41 (Clang) Kernel: Depends on container host Compiler: clang 19.1.5 (Fedora 19.1.5-1.fc41) Fedora 40 (Clang) Kernel: Depends on container host Compiler: clang 18.1.8 (Fedora 18.1.8-1.fc40) Fedora 41 Kernel: Depends on container host Compiler: gcc 14.2.1 20240912 (Red Hat 14.2.1-3) Ubuntu 22.04 Kernel: Depends on container host Compiler: gcc (Ubuntu 11.4.0-1ubuntu1~22.04) 11.4.0 openSUSE Leap 15 Kernel: Depends on container host Compiler: gcc (SUSE Linux) 7.5.0 RHEL8 Kernel: Depends on container host Compiler: gcc 8.5.0 20210514 (Red Hat 8.5.0-22) RHEL9 Kernel: Depends on container host Compiler: gcc 11.5.0 20240719 (Red Hat 11.5.0-2) Ubuntu 24.04 Kernel: Depends on container host Compiler: gcc (Ubuntu 13.3.0-6ubuntu2~24.04) 13.3.0 To view detailed results, visit: https://lab.dpdk.org/results/dashboard/patchsets/33231/ UNH-IOL DPDK Community Lab To manage your email subscriptions, visit: https://lab.dpdk.org/results/dashboard/preferences/subscriptions/