From mboxrd@z Thu Jan 1 00:00:00 1970 Return-Path: Received: from mails.dpdk.org (mails.dpdk.org [217.70.189.124]) by inbox.dpdk.org (Postfix) with ESMTP id 9A26B467B8 for ; Thu, 22 May 2025 15:22:21 +0200 (CEST) Received: from mails.dpdk.org (localhost [127.0.0.1]) by mails.dpdk.org (Postfix) with ESMTP id 944734064F; Thu, 22 May 2025 15:22:21 +0200 (CEST) Received: from mail-il1-f227.google.com (mail-il1-f227.google.com [209.85.166.227]) by mails.dpdk.org (Postfix) with ESMTP id 2CC17402E5 for ; Thu, 22 May 2025 15:22:20 +0200 (CEST) Received: by mail-il1-f227.google.com with SMTP id e9e14a558f8ab-3dc6b2a8647so16209895ab.2 for ; Thu, 22 May 2025 06:22:20 -0700 (PDT) DKIM-Signature: v=1; a=rsa-sha256; c=relaxed/relaxed; d=iol.unh.edu; s=unh-iol; t=1747920139; x=1748524939; darn=dpdk.org; h=references:in-reply-to:cc:to:from:subject:message-id:date:from:to :cc:subject:date:message-id:reply-to; bh=4v28SgFSQMPYdOohG4UrO61vZZtIAFyQL1YSyMXVJ4U=; b=Ty/hp2MiwDMugNmb6hYi/M93lKCAcKwibCBhzxru+o+nlcCE5USyGEii7WIczc3i34 atVApJ5OJf5zW+1ImKq1793OGAu2KD94wtiP24prccZGXqwuCW/kituAcssvJGfWnisz gFnmOtWRTfjXU8F4sNS9PQITb8Z8uD3WVt/zE= X-Google-DKIM-Signature: v=1; a=rsa-sha256; c=relaxed/relaxed; d=1e100.net; s=20230601; t=1747920139; x=1748524939; h=references:in-reply-to:cc:to:from:subject:message-id:date :x-gm-message-state:from:to:cc:subject:date:message-id:reply-to; bh=4v28SgFSQMPYdOohG4UrO61vZZtIAFyQL1YSyMXVJ4U=; b=VOy460nNOyFNKSvKd6SpRM5GcyyDeHx4gjVHbiFkI4zP3XFMVqKOnHKmzgTXkDEEkw I0ncWcMDUgxhORHv1JcGFFE2w6GrhYsMBSgcCxxVHopsfPKfsVfVVF/IoJ71Zr+2IWc1 z/A9XfFaVM4JJiAgwmF9gUHbNIJsClvLcrGlsOXj66E2ZidKnLI3x0wRBWT5Qzj1kReV CLAHwbrpEIWy/AXD9x7NOwgAtxXWEhAEkaOcySXY4M+gNONtwQueJIGfSvk/ZqATN/CX 9EDwNRRU7QmwLQa/K9YmJRyczJWWHgK/6fMB4+fyS7qONaUziHvfhCU8T1YpjCC7dxCr GkVA== X-Gm-Message-State: AOJu0Yyy6W9SVvFAbdqNURdXX3G/7ySdpgvT8HPHs0q8yf4ecIcbPVIh zkKF1RnSMqiKxCzhLxdcXKz6GevdiZjxyNq5OWLdXqV2Q88trrk5tqPb5bKVrPTXJezZrl3EYY3 d2Djhw3/Nqz+GgT5iFAz9ub8i8KIHsWWeoDATMDKbYzU3X9qTEpWKMe0y+qNR X-Gm-Gg: ASbGnctylT7Cn578/1J3SEgeRkL2xbgPN2iR91J1NCWPTxyw4kZtGAsCLMkI1dqQkmH y8zlL250PwaMx/x59RVfvvY4m1RuviIqZuGDo187e+d/PkIWKHX8kPewfvHmwlAkWBTs99wa4W0 9UZxABpmqMuERc+Dx5RUiYgtdTTkVC2aHRwYeztdLrCpjiqDyGA5Z0UQ7p0ddMcvsVIeGWbRVkp 8Z7vGytF6DXiEnWyTM+7ZyPrXx1p9LwO6o3tDwrcPe9cdwmmgCwxB97fv9DUj71/vE6CFceb//w O1QI9G3Pb5Y/PwWwYXY92ZWCFy3K6uK144Qw X-Google-Smtp-Source: AGHT+IFn1ufWxjVpgxoNs77F2j3doOTFlT+a+IJm89FI5Xlkk/R8Kx9GuyjE+WxskAEl7dPfao5hx+SpXy5i X-Received: by 2002:a92:ca0b:0:b0:3dc:8b80:570b with SMTP id e9e14a558f8ab-3dc8b8058d4mr41371615ab.18.1747920139476; Thu, 22 May 2025 06:22:19 -0700 (PDT) Received: from postal.iol.unh.edu (postal.iol.unh.edu. [2606:4100:3880:1234::84]) by smtp-relay.gmail.com with ESMTPS id e9e14a558f8ab-3dc760ec0eesm3741105ab.46.2025.05.22.06.22.19 (version=TLS1_2 cipher=ECDHE-ECDSA-AES128-GCM-SHA256 bits=128/128); Thu, 22 May 2025 06:22:19 -0700 (PDT) X-Relaying-Domain: iol.unh.edu Date: Thu, 22 May 2025 06:22:19 -0700 (PDT) Message-ID: <682f250b.050a0220.18e2d6.7b42SMTPIN_ADDED_MISSING@mx.google.com> Received: from [172.17.0.4] (unknown [172.18.0.74]) by postal.iol.unh.edu (Postfix) with ESMTP id 007326052471; Thu, 22 May 2025 09:22:19 -0400 (EDT) Subject: |SUCCESS| pw153593-153595 [PATCH] [v6,9/9] app/test: add zsda crypto From: dpdklab@iol.unh.edu To: Test Report Cc: dpdk-test-reports@iol.unh.edu In-Reply-To: <20250522093037.2274245-10-li.hanxiao@zte.com.cn> References: <20250522093037.2274245-10-li.hanxiao@zte.com.cn> Content-Type: text/plain X-BeenThere: test-report@dpdk.org X-Mailman-Version: 2.1.29 Precedence: list List-Id: automatic DPDK test reports List-Unsubscribe: , List-Archive: List-Post: List-Help: List-Subscribe: , Errors-To: test-report-bounces@dpdk.org Test-Label: iol-abi-testing Test-Status: SUCCESS http://dpdk.org/patch/153595 _Testing PASS_ Submitter: Hanxiao Li Date: Thursday, May 22 2025 09:30:35 DPDK git baseline: Repo:dpdk Branch: master CommitID:fc627d7065ba5100faa928cf2edfa1622846f542 153593-153595 --> testing pass Upstream job id: Generic-DPDK-Compile-ABI#127332 Test environment and result as below: +-------------------+----------+ | Environment | abi_test | +===================+==========+ | CentOS Stream 9 | PASS | +-------------------+----------+ | Debian 12 | PASS | +-------------------+----------+ | CentOS Stream 10 | PASS | +-------------------+----------+ | Fedora 40 | PASS | +-------------------+----------+ | Fedora 41 (Clang) | PASS | +-------------------+----------+ | Fedora 40 (Clang) | PASS | +-------------------+----------+ | Fedora 41 | PASS | +-------------------+----------+ | Ubuntu 22.04 | PASS | +-------------------+----------+ | openSUSE Leap 15 | PASS | +-------------------+----------+ | RHEL8 | PASS | +-------------------+----------+ | RHEL9 | PASS | +-------------------+----------+ | Ubuntu 24.04 | PASS | +-------------------+----------+ CentOS Stream 9 Kernel: Depends on container host Compiler: gcc 11.5.0 20240719 (Red Hat 11.5.0-2) Debian 12 Kernel: Depends on container host Compiler: gcc (Debian 12.2.0-14) 12.2.0 CentOS Stream 10 Kernel: Depends on container host Compiler: gcc 14.2.1 20241104 (Red Hat 14.2.1-6) Fedora 40 Kernel: Depends on container host Compiler: gcc 14.2.1 20240912 (Red Hat 14.2.1-3) Fedora 41 (Clang) Kernel: Depends on container host Compiler: clang 19.1.5 (Fedora 19.1.5-1.fc41) Fedora 40 (Clang) Kernel: Depends on container host Compiler: clang 18.1.8 (Fedora 18.1.8-1.fc40) Fedora 41 Kernel: Depends on container host Compiler: gcc 14.2.1 20240912 (Red Hat 14.2.1-3) Ubuntu 22.04 Kernel: Depends on container host Compiler: gcc (Ubuntu 11.4.0-1ubuntu1~22.04) 11.4.0 openSUSE Leap 15 Kernel: Depends on container host Compiler: gcc (SUSE Linux) 7.5.0 RHEL8 Kernel: Depends on container host Compiler: gcc 8.5.0 20210514 (Red Hat 8.5.0-22) RHEL9 Kernel: Depends on container host Compiler: gcc 11.5.0 20240719 (Red Hat 11.5.0-2) Ubuntu 24.04 Kernel: Depends on container host Compiler: gcc (Ubuntu 13.3.0-6ubuntu2~24.04) 13.3.0 To view detailed results, visit: https://lab.dpdk.org/results/dashboard/patchsets/33231/ UNH-IOL DPDK Community Lab To manage your email subscriptions, visit: https://lab.dpdk.org/results/dashboard/preferences/subscriptions/