From mboxrd@z Thu Jan 1 00:00:00 1970 Return-Path: Received: from mails.dpdk.org (mails.dpdk.org [217.70.189.124]) by inbox.dpdk.org (Postfix) with ESMTP id B8A65467B8 for ; Thu, 22 May 2025 15:22:41 +0200 (CEST) Received: from mails.dpdk.org (localhost [127.0.0.1]) by mails.dpdk.org (Postfix) with ESMTP id B34FB4064F; Thu, 22 May 2025 15:22:41 +0200 (CEST) Received: from mail-il1-f226.google.com (mail-il1-f226.google.com [209.85.166.226]) by mails.dpdk.org (Postfix) with ESMTP id CCCBD402E5 for ; Thu, 22 May 2025 15:22:39 +0200 (CEST) Received: by mail-il1-f226.google.com with SMTP id e9e14a558f8ab-3d91db4f0c3so36709035ab.3 for ; Thu, 22 May 2025 06:22:39 -0700 (PDT) DKIM-Signature: v=1; a=rsa-sha256; c=relaxed/relaxed; d=iol.unh.edu; s=unh-iol; t=1747920159; x=1748524959; darn=dpdk.org; h=references:in-reply-to:cc:to:from:subject:message-id:date:from:to :cc:subject:date:message-id:reply-to; bh=Xv6bnGcMfRUe8q97pPukDX8vfCt6+s7SrA3EzIXNE2Q=; b=PTwFPTL12I5tBt0K+joFOLb2q5Mgxl1cbcheITJhS6kdNsOiM/FNMOfoeKTygz+5Kp ihqlr+p1AJPI5oLPBv+9kVafU0my3cd0qoovWmPBUnAK7F+mfR9MCyx7LTCD8hKwLxlT W+j/X73WtFhjih3xXygCTDtVFa/AGyMtmkwfE= X-Google-DKIM-Signature: v=1; a=rsa-sha256; c=relaxed/relaxed; d=1e100.net; s=20230601; t=1747920159; x=1748524959; h=references:in-reply-to:cc:to:from:subject:message-id:date :x-gm-message-state:from:to:cc:subject:date:message-id:reply-to; bh=Xv6bnGcMfRUe8q97pPukDX8vfCt6+s7SrA3EzIXNE2Q=; b=czt8YPtzO4lM+yxFVb681Un3kTZaneG0NWUcI+tYVQdrhNmctzLngu0tFf909NHSIP 2JadhQHGIAUa47BQwIUK+hN20pObB4WwbzUSE0e8aKRXB5akxjcI0xP8fTwTpz3VGBe1 U5PPCNaiTyYU3tKGceVqyuLG9HngZHv20NfQrB48bKWmf04cr+bI1s2qbF808bZnW9qj Lg9Tq3WTuNZHCbAgSNWWZGYhgrj6fbya3A4rQD9+qWrwwBRAS9K5mTQ5PpNEdLBUdJ/d l4oRNZCEKvKjfKGp+M7tQx97vZmbg1vZE+9mAuCZn5PFOnvw7M1qg/quSNLEPQJ2SOl5 3IJA== X-Gm-Message-State: AOJu0YxrFYVB+NWnoVCgmoycD4XWbDcXpab4Wd5ocO9d+z22wmE76A/o junaGLVuxyWU0UFxaMknACSnSSEscwkuqTV1vVFpRWDV6lok9YvNOr0zxPh8yFCaqMhsnjrc8+S wGLnV5xwROpiZyQeJogPxM9b8dF3R1ttBcVM2SH1goxDXcsuwdOKfSOrjQ2sJ X-Gm-Gg: ASbGncuizKDyAeprigWXSspNQbVBRblbs9xGnH/BSD4WxPsaTclvz3fT0tXkGvkUo/C kiZcMJPEIFabkQjmreYetqIepY1ZLb6Ft3MhErEMZ0QjwcEF7ZJC4GazyRwhNU3AnJfmepM1W2B pYCnikZeVh98EGR9WmHr5dY3v1h5qDfIBY1Nr0dtjtl3Jo6ePpIrC2fsdHoQyriVQ06SoAt4EY+ He7rBrXrwJok4yZYAECNPCLznDnf5Vzr/Dz0o30Ykk8vieyxh+eN5IGQ8GjVyRzJnxXSonRGiIZ IekwPiZ08k9chc0oTuCLh1sWypJNA4tZgZ6T X-Google-Smtp-Source: AGHT+IG7EXl9rw6/MhTeKOEG0nTsCvFiFUfmRy/ssznKB/02fEnizdXt6rcxUSJdH4Fwu8ZvJYP0U+bKX64J X-Received: by 2002:a05:6e02:1a65:b0:3dc:8109:d63a with SMTP id e9e14a558f8ab-3dc8109e456mr71663695ab.5.1747920159132; Thu, 22 May 2025 06:22:39 -0700 (PDT) Received: from postal.iol.unh.edu (postal.iol.unh.edu. [2606:4100:3880:1234::84]) by smtp-relay.gmail.com with ESMTPS id 8926c6da1cb9f-4fbecff1052sm453250173.49.2025.05.22.06.22.39 (version=TLS1_2 cipher=ECDHE-ECDSA-AES128-GCM-SHA256 bits=128/128); Thu, 22 May 2025 06:22:39 -0700 (PDT) X-Relaying-Domain: iol.unh.edu Date: Thu, 22 May 2025 06:22:39 -0700 (PDT) Message-ID: <682f251f.050a0220.10a1dc.8907SMTPIN_ADDED_MISSING@mx.google.com> Received: from [172.21.0.6] (unknown [172.18.0.240]) by postal.iol.unh.edu (Postfix) with ESMTP id 9D6326052471; Thu, 22 May 2025 09:22:38 -0400 (EDT) Subject: |SUCCESS| pw153593-153595 [PATCH] [v6,9/9] app/test: add zsda crypto From: dpdklab@iol.unh.edu To: Test Report Cc: dpdk-test-reports@iol.unh.edu In-Reply-To: <20250522093037.2274245-10-li.hanxiao@zte.com.cn> References: <20250522093037.2274245-10-li.hanxiao@zte.com.cn> Content-Type: text/plain X-BeenThere: test-report@dpdk.org X-Mailman-Version: 2.1.29 Precedence: list List-Id: automatic DPDK test reports List-Unsubscribe: , List-Archive: List-Post: List-Help: List-Subscribe: , Errors-To: test-report-bounces@dpdk.org Test-Label: iol-abi-testing Test-Status: SUCCESS http://dpdk.org/patch/153595 _Testing PASS_ Submitter: Hanxiao Li Date: Thursday, May 22 2025 09:30:35 DPDK git baseline: Repo:dpdk Branch: master CommitID:fc627d7065ba5100faa928cf2edfa1622846f542 153593-153595 --> testing pass Upstream job id: Generic-DPDK-Compile-ABI#127342 Test environment and result as below: +-------------------+----------+ | Environment | abi_test | +===================+==========+ | CentOS Stream 9 | PASS | +-------------------+----------+ | Debian 12 | PASS | +-------------------+----------+ | CentOS Stream 10 | PASS | +-------------------+----------+ | Fedora 40 | PASS | +-------------------+----------+ | Fedora 41 (Clang) | PASS | +-------------------+----------+ | Fedora 40 (Clang) | PASS | +-------------------+----------+ | Fedora 41 | PASS | +-------------------+----------+ | Ubuntu 22.04 | PASS | +-------------------+----------+ | openSUSE Leap 15 | PASS | +-------------------+----------+ | RHEL8 | PASS | +-------------------+----------+ | RHEL9 | PASS | +-------------------+----------+ | Ubuntu 24.04 | PASS | +-------------------+----------+ CentOS Stream 9 Kernel: Depends on container host Compiler: gcc 11.5.0 20240719 (Red Hat 11.5.0-2) Debian 12 Kernel: Depends on container host Compiler: gcc (Debian 12.2.0-14) 12.2.0 CentOS Stream 10 Kernel: Depends on container host Compiler: gcc 14.2.1 20241104 (Red Hat 14.2.1-6) Fedora 40 Kernel: Depends on container host Compiler: gcc 14.2.1 20240912 (Red Hat 14.2.1-3) Fedora 41 (Clang) Kernel: Depends on container host Compiler: clang 19.1.5 (Fedora 19.1.5-1.fc41) Fedora 40 (Clang) Kernel: Depends on container host Compiler: clang 18.1.8 (Fedora 18.1.8-1.fc40) Fedora 41 Kernel: Depends on container host Compiler: gcc 14.2.1 20240912 (Red Hat 14.2.1-3) Ubuntu 22.04 Kernel: Depends on container host Compiler: gcc (Ubuntu 11.4.0-1ubuntu1~22.04) 11.4.0 openSUSE Leap 15 Kernel: Depends on container host Compiler: gcc (SUSE Linux) 7.5.0 RHEL8 Kernel: Depends on container host Compiler: gcc 8.5.0 20210514 (Red Hat 8.5.0-22) RHEL9 Kernel: Depends on container host Compiler: gcc 11.5.0 20240719 (Red Hat 11.5.0-2) Ubuntu 24.04 Kernel: Depends on container host Compiler: gcc (Ubuntu 13.3.0-6ubuntu2~24.04) 13.3.0 To view detailed results, visit: https://lab.dpdk.org/results/dashboard/patchsets/33231/ UNH-IOL DPDK Community Lab To manage your email subscriptions, visit: https://lab.dpdk.org/results/dashboard/preferences/subscriptions/