From mboxrd@z Thu Jan 1 00:00:00 1970 Return-Path: Received: from mails.dpdk.org (mails.dpdk.org [217.70.189.124]) by inbox.dpdk.org (Postfix) with ESMTP id B9B67467B8 for ; Thu, 22 May 2025 15:32:35 +0200 (CEST) Received: from mails.dpdk.org (localhost [127.0.0.1]) by mails.dpdk.org (Postfix) with ESMTP id B31C94064F; Thu, 22 May 2025 15:32:35 +0200 (CEST) Received: from mail-pg1-f228.google.com (mail-pg1-f228.google.com [209.85.215.228]) by mails.dpdk.org (Postfix) with ESMTP id 231C8402E5 for ; Thu, 22 May 2025 15:32:34 +0200 (CEST) Received: by mail-pg1-f228.google.com with SMTP id 41be03b00d2f7-b26d7ddbfd7so8229820a12.0 for ; Thu, 22 May 2025 06:32:34 -0700 (PDT) DKIM-Signature: v=1; a=rsa-sha256; c=relaxed/relaxed; d=iol.unh.edu; s=unh-iol; t=1747920753; x=1748525553; darn=dpdk.org; h=cc:to:from:subject:message-id:date:from:to:cc:subject:date :message-id:reply-to; bh=uStGNfVXAxCsP5oyG6xmtnHTd7jpfnXlbWO+4dxlPyo=; b=dgqW78AuYmoMJzxiShQYDGb4UfD6Qpu5qRGRs29DRBa5BL7TI9gq1r+CsVfZwfYhR+ QsYfaZ362BR9DmrreHRzEepIDCBaUuC73lc6yznJktD/jjURcHTmznITGiAFc+RGb2pY 1le7/vvqdjpORmiAeglwzlGPYHZNqktvWYuoA= X-Google-DKIM-Signature: v=1; a=rsa-sha256; c=relaxed/relaxed; d=1e100.net; s=20230601; t=1747920753; x=1748525553; h=cc:to:from:subject:message-id:date:x-gm-message-state:from:to:cc :subject:date:message-id:reply-to; bh=uStGNfVXAxCsP5oyG6xmtnHTd7jpfnXlbWO+4dxlPyo=; b=ipF44K9PeTxD/vdzMfz4W1PwF14rG1j8F9haZRxrRkYVD5m4K7VpTSlhDjX8SvXHEv Iyvr3OvdU1PXPbzHtgpRKcLOWVBK6ySJTCgu6sEZg2LmcYVv6l2OD3GhFlnR41geJy3c Lqs4HhO+aUc4XN4STh8MkAh+F3uPR5pNJyxFpusijtxxXMgMyzaJaSd/dkCRIfQSbkFP riWxhI4rzuUq7ykeKWNmiZOR8WJcF351tXbv1ZLg3z/tulnHiZtlbng9rQiqSeWssuhN z/9GRg/4HweVyLHTg70FEOhzsfCpXjmlQZQPIncsPuTt35AIMh71npdDK9NvBn+1uwXM HmKw== X-Gm-Message-State: AOJu0YwGOxnbDOYGX4y+i37r8ks0lDzfQmcmP0Bri73EqIOfHyvVkoR9 Z3tDcolsVHE1MeLatpzLaL58RqMTHmmvKlTlmMNOCQUsYv/4TY8p7Z1GvAcGMi4bFqVXPhdMcyR jvD0qylFHxipiTBX2NWWRO3lWGnlYZyh3B6eujum2woHS X-Gm-Gg: ASbGncsag6hUY4kAk8ibRHIHQ4IviBhJZ4ZnHph+S7zhPEwLAUm6DdQQkJpaFc9SyPE kwu7vmhdEFQqPKzwqatSN9HTmamV2sMTX50aInIhE07l/M0McMVR6Trt9pn/xK+2SkIsyaXnQCw HIPOv/c5P+94a3H68fzju510JFZGu3wcPArqmxg5Mt0wJEVxC2wpgdARo1kyKQrDfXw6bM1NrqZ RH5Twa3zmSMAXzYiK9FNUfK1Zk9YU+XMD63rG/f5N1dDm5asC/6FEuzVHKfykYe57hFxBYqfC9B ip+v4IvCj+YticzGppdZiVvVO7LfG2FwUpnt+eepzGQ7I0hXAHaTV4OZ0Zw= X-Google-Smtp-Source: AGHT+IHKeJWtv4sPyADI8GSSJfUkjmfl3jZnXVbdU32mGDrZiEQvNoANPpVa5pRGWmNMBbaCST6nFRsDhhlL X-Received: by 2002:a17:902:f643:b0:224:1294:1d24 with SMTP id d9443c01a7336-231d43dc980mr293876865ad.3.1747920752847; Thu, 22 May 2025 06:32:32 -0700 (PDT) Received: from postal.iol.unh.edu (postal.iol.unh.edu. [132.177.123.84]) by smtp-relay.gmail.com with ESMTPS id d9443c01a7336-231d4abe188sm7417505ad.33.2025.05.22.06.32.32 (version=TLS1_2 cipher=ECDHE-ECDSA-AES128-GCM-SHA256 bits=128/128); Thu, 22 May 2025 06:32:32 -0700 (PDT) X-Relaying-Domain: iol.unh.edu Date: Thu, 22 May 2025 06:32:32 -0700 (PDT) Message-ID: <682f2770.170a0220.1b31c4.6b13SMTPIN_ADDED_MISSING@mx.google.com> Received: from [172.17.0.5] (unknown [172.18.0.74]) by postal.iol.unh.edu (Postfix) with ESMTP id 3E58C6052471; Thu, 22 May 2025 09:32:32 -0400 (EDT) Subject: |WARNING| [GIT MASTER] 3fea4e6b376fe7c0be0103e0ca238761f5e22457 From: dpdklab@iol.unh.edu To: Test Report Cc: dpdk-test-reports@iol.unh.edu, Bruce Richardson Content-Type: text/plain X-BeenThere: test-report@dpdk.org X-Mailman-Version: 2.1.29 Precedence: list List-Id: automatic DPDK test reports List-Unsubscribe: , List-Archive: List-Post: List-Help: List-Subscribe: , Errors-To: test-report-bounces@dpdk.org _Testing issues_ Branch: dpdk-next-net-intel 3fea4e6b376fe7c0be0103e0ca238761f5e22457 --> testing issues Upstream job id: Generic-DPDK-Compile-Meson#390481 Test environment and result as below: +-----------------------------------+--------------------+-------------------------+-------------------+-------------------+------------------+----------------------+ | Environment | dpdk_meson_compile | dpdk_llvm_clang_compile | dpdk_msvc_compile | dpdk_compile_spdk | dpdk_compile_ovs | dpdk_mingw64_compile | +===================================+====================+=========================+===================+===================+==================+======================+ | Ubuntu 20.04 | PASS | SKIPPED | SKIPPED | SKIPPED | SKIPPED | SKIPPED | +-----------------------------------+--------------------+-------------------------+-------------------+-------------------+------------------+----------------------+ | FreeBSD 13.5 | PASS | SKIPPED | SKIPPED | SKIPPED | SKIPPED | SKIPPED | +-----------------------------------+--------------------+-------------------------+-------------------+-------------------+------------------+----------------------+ | FreeBSD 14.2 | PASS | SKIPPED | SKIPPED | SKIPPED | SKIPPED | SKIPPED | +-----------------------------------+--------------------+-------------------------+-------------------+-------------------+------------------+----------------------+ | CentOS Stream 9 | PASS | SKIPPED | SKIPPED | PASS | SKIPPED | SKIPPED | +-----------------------------------+--------------------+-------------------------+-------------------+-------------------+------------------+----------------------+ | CentOS Stream 10 | PASS | SKIPPED | SKIPPED | SKIPPED | SKIPPED | SKIPPED | +-----------------------------------+--------------------+-------------------------+-------------------+-------------------+------------------+----------------------+ | Debian 12 | PASS | SKIPPED | SKIPPED | PASS | SKIPPED | SKIPPED | +-----------------------------------+--------------------+-------------------------+-------------------+-------------------+------------------+----------------------+ | Fedora 40 (Clang) | PASS | SKIPPED | SKIPPED | WARN | SKIPPED | SKIPPED | +-----------------------------------+--------------------+-------------------------+-------------------+-------------------+------------------+----------------------+ | Fedora 40 | PASS | SKIPPED | SKIPPED | PASS | SKIPPED | SKIPPED | +-----------------------------------+--------------------+-------------------------+-------------------+-------------------+------------------+----------------------+ | Fedora 41 (Clang) | PASS | SKIPPED | SKIPPED | WARN | PASS | SKIPPED | +-----------------------------------+--------------------+-------------------------+-------------------+-------------------+------------------+----------------------+ | Fedora 41 | PASS | SKIPPED | SKIPPED | PASS | PASS | SKIPPED | +-----------------------------------+--------------------+-------------------------+-------------------+-------------------+------------------+----------------------+ | RHEL8 | PASS | SKIPPED | SKIPPED | SKIPPED | SKIPPED | SKIPPED | +-----------------------------------+--------------------+-------------------------+-------------------+-------------------+------------------+----------------------+ | RHEL9 | PASS | SKIPPED | SKIPPED | SKIPPED | SKIPPED | SKIPPED | +-----------------------------------+--------------------+-------------------------+-------------------+-------------------+------------------+----------------------+ | Ubuntu 22.04 | PASS | SKIPPED | SKIPPED | PASS | SKIPPED | SKIPPED | +-----------------------------------+--------------------+-------------------------+-------------------+-------------------+------------------+----------------------+ | Ubuntu 24.04 | PASS | SKIPPED | SKIPPED | PASS | PASS | SKIPPED | +-----------------------------------+--------------------+-------------------------+-------------------+-------------------+------------------+----------------------+ | Alpine | PASS | SKIPPED | SKIPPED | SKIPPED | SKIPPED | SKIPPED | +-----------------------------------+--------------------+-------------------------+-------------------+-------------------+------------------+----------------------+ | Ubuntu 24.04 32 Bit Cross Compile | PASS | SKIPPED | SKIPPED | SKIPPED | SKIPPED | SKIPPED | +-----------------------------------+--------------------+-------------------------+-------------------+-------------------+------------------+----------------------+ | openSUSE Leap 15 | PASS | SKIPPED | SKIPPED | SKIPPED | SKIPPED | SKIPPED | +-----------------------------------+--------------------+-------------------------+-------------------+-------------------+------------------+----------------------+ | Windows Server 2022 | SKIPPED | PASS | PASS | SKIPPED | SKIPPED | PASS | +-----------------------------------+--------------------+-------------------------+-------------------+-------------------+------------------+----------------------+ ==== 20 line log output for Fedora 41 (Clang) (dpdk_compile_spdk): ==== --- Failed to get log output --- ==== End log output ==== Ubuntu 20.04 Kernel: 4.19.325-0419325-generic Compiler: gcc (Ubuntu 9.4.0-1ubuntu1~20.04.2) 9.4.0 FreeBSD 13.5 Kernel: 13.5-RELEASE Compiler: clang 19.1.7 FreeBSD 14.2 Kernel: 14.2-RELEASE Compiler: clang 18.1.6 CentOS Stream 9 Kernel: Depends on container host Compiler: gcc 11.5.0 20240719 (Red Hat 11.5.0-2) CentOS Stream 10 Kernel: Depends on container host Compiler: gcc 14.2.1 20241104 (Red Hat 14.2.1-6) Debian 12 Kernel: Depends on container host Compiler: gcc (Debian 12.2.0-14) 12.2.0 Fedora 40 (Clang) Kernel: Depends on container host Compiler: clang 18.1.8 (Fedora 18.1.8-1.fc40) Fedora 40 Kernel: Depends on container host Compiler: gcc 14.2.1 20240912 (Red Hat 14.2.1-3) Fedora 41 (Clang) Kernel: Depends on container host Compiler: clang 19.1.5 (Fedora 19.1.5-1.fc41) Fedora 41 Kernel: Depends on container host Compiler: gcc 14.2.1 20240912 (Red Hat 14.2.1-3) RHEL8 Kernel: Depends on container host Compiler: gcc 8.5.0 20210514 (Red Hat 8.5.0-22) RHEL9 Kernel: Depends on container host Compiler: gcc 11.5.0 20240719 (Red Hat 11.5.0-2) Ubuntu 22.04 Kernel: Depends on container host Compiler: gcc (Ubuntu 11.4.0-1ubuntu1~22.04) 11.4.0 Ubuntu 24.04 Kernel: Depends on container host Compiler: gcc (Ubuntu 13.3.0-6ubuntu2~24.04) 13.3.0 Alpine Kernel: Depends on container host Compiler: gcc (Alpine 14.2.0) 14.2.0 Ubuntu 24.04 32 Bit Cross Compile Kernel: Depends on container host Compiler: gcc (Ubuntu 13.3.0-6ubuntu2~24.04) 13.3.0 openSUSE Leap 15 Kernel: Depends on container host Compiler: gcc (SUSE Linux) 7.5.0 Windows Server 2022 Kernel: 10.0.20348.2031 Compiler: clang 15.0.7, gcc 14.1.0 (MinGW), and MSVC VS 19.39.33521 To view detailed results, visit: https://lab.dpdk.org/results/dashboard/tarballs/33601/ UNH-IOL DPDK Community Lab To manage your email subscriptions, visit: https://lab.dpdk.org/results/dashboard/preferences/subscriptions/