From mboxrd@z Thu Jan 1 00:00:00 1970 Return-Path: <test-report-bounces@dpdk.org> Received: from mails.dpdk.org (mails.dpdk.org [217.70.189.124]) by inbox.dpdk.org (Postfix) with ESMTP id 31715467B8 for <public@inbox.dpdk.org>; Thu, 22 May 2025 15:34:57 +0200 (CEST) Received: from mails.dpdk.org (localhost [127.0.0.1]) by mails.dpdk.org (Postfix) with ESMTP id 2C1884064F; Thu, 22 May 2025 15:34:57 +0200 (CEST) Received: from mail-yb1-f227.google.com (mail-yb1-f227.google.com [209.85.219.227]) by mails.dpdk.org (Postfix) with ESMTP id 30940402E5 for <test-report@dpdk.org>; Thu, 22 May 2025 15:34:56 +0200 (CEST) Received: by mail-yb1-f227.google.com with SMTP id 3f1490d57ef6-e7b97c6159aso4389072276.1 for <test-report@dpdk.org>; Thu, 22 May 2025 06:34:56 -0700 (PDT) DKIM-Signature: v=1; a=rsa-sha256; c=relaxed/relaxed; d=iol.unh.edu; s=unh-iol; t=1747920895; x=1748525695; darn=dpdk.org; h=cc:to:from:subject:message-id:date:from:to:cc:subject:date :message-id:reply-to; bh=H6WOhZZTHYWoBaABRPFuAss/GqN80PLPtopCbfroy2M=; b=W3vgbjOukqbWDDQRqK6cIhSBH1dEgzpQ3ZpkGGv9DZEcia1qJTvjnlTt2fImi90yf7 wDqXGRH7aFpvwX1Lu32CVG6gcA12Fl+YBZbbTvGbD3gY3exEfmVs3m0WK+W/qeCJ1ub2 Kh3sllV8zr7zqHGLD6qbwH2KIUy45lbjRN0lk= X-Google-DKIM-Signature: v=1; a=rsa-sha256; c=relaxed/relaxed; d=1e100.net; s=20230601; t=1747920895; x=1748525695; h=cc:to:from:subject:message-id:date:x-gm-message-state:from:to:cc :subject:date:message-id:reply-to; bh=H6WOhZZTHYWoBaABRPFuAss/GqN80PLPtopCbfroy2M=; b=qXxBtMkidiiNuxqj1kkWtbIr79FhPDDvxL+EKxc9bgxUGIKxTDHsqrmkVBZe57B1Fp g9M8Yo6M+uInzrbBCnoZPVUEmEU53nCVU+EPit3AC53vbgrFCM4t5hpOGksoHGQlu8A2 pei8iY0U2w6iXmczXX6Js5ovEm7zu4EFkwGJgSVwbXjo5gl6IJgYJ292gpxwEcalZuXh p1bO6M4S3YLMxMBcN+U6tCL4XBSGLUZqs/Dehnu772wcsa7/eIeMDH6/WHb5u/dVVBK2 cFSa3BQ+ExQGlmevXr4XDjZG67jddH/l3Hhki0UVdEaQtb97L3UB9XUw538rJN5NKPwR WA7w== X-Gm-Message-State: AOJu0YwYL+oYGJ1I/DD7dTfUEC6D0B8nFn+gK5ZIghorYhdZNnk3Hmw3 exz6FhFcjmHKPPL51IswcofS0ClT0+GNLVFy7mnqpJOeI3dPkwYVJ1+xz1LGLDWw1apRMkYskFK nhLK7/Po5gAQK32U48ISValERchu+MHGSiTQVFUdND6OP X-Gm-Gg: ASbGnctx0+f9LhLpFh0Dz6NzrAL3mPFe4xawSiLdPs5vkKaNht7xNkC9PX8Hndrttei IFF2E1DJiWE4NdgE3IksvqDx1gBydRrC8I6l2y6+0R0CS0L6YPq3eBqgpWdIVGONaoadOW/2iOl Iicn2ws7phe76LiVqjXaU5qANfzWUkErzZ5cKmPeFfTT07RCGfUeJ1eOuaSI1AECYTDBfVJOW7o U5iYpMDvSvqrpp4ype5QkrEdTQx/rA2pA13/GOhZ2sUmRq+a8qRDxHvgOsRK1OW30IrOj0NnM5x ZIm8azGLvCTtyyK0H7qcFmMNTGu6zn/XNee/IHGCdMMOuLghIZaGjlb07rU= X-Google-Smtp-Source: AGHT+IHFAL2uCROFTqxbdcLfwpWFKfeto7TP48CdPjw5ksPl/27qQEr1ZX3CNvaEJKZllpE95s+JzVzk9sHH X-Received: by 2002:a05:6902:c06:b0:e7d:58d7:7172 with SMTP id 3f1490d57ef6-e7d58d77620mr10682003276.14.1747920895116; Thu, 22 May 2025 06:34:55 -0700 (PDT) Received: from postal.iol.unh.edu (postal.iol.unh.edu. [132.177.123.84]) by smtp-relay.gmail.com with ESMTPS id 3f1490d57ef6-e7d5ceb2668sm223304276.7.2025.05.22.06.34.55 (version=TLS1_2 cipher=ECDHE-ECDSA-AES128-GCM-SHA256 bits=128/128); Thu, 22 May 2025 06:34:55 -0700 (PDT) X-Relaying-Domain: iol.unh.edu Date: Thu, 22 May 2025 06:34:55 -0700 (PDT) Message-ID: <682f27ff.250a0220.2195e.bf5fSMTPIN_ADDED_MISSING@mx.google.com> Received: from [172.21.0.5] (unknown [172.18.0.240]) by postal.iol.unh.edu (Postfix) with ESMTP id C00DD6052471; Thu, 22 May 2025 09:34:54 -0400 (EDT) Subject: |SUCCESS| [GIT MASTER] a0ad790eb9fcef4b00366ae474132bee4bcdab75 From: dpdklab@iol.unh.edu To: Test Report <test-report@dpdk.org> Cc: dpdk-test-reports@iol.unh.edu, Stephen Hemminger <stephen@networkplumber.org> Content-Type: text/plain X-BeenThere: test-report@dpdk.org X-Mailman-Version: 2.1.29 Precedence: list List-Id: automatic DPDK test reports <test-report.dpdk.org> List-Unsubscribe: <https://mails.dpdk.org/options/test-report>, <mailto:test-report-request@dpdk.org?subject=unsubscribe> List-Archive: <http://mails.dpdk.org/archives/test-report/> List-Post: <mailto:test-report@dpdk.org> List-Help: <mailto:test-report-request@dpdk.org?subject=help> List-Subscribe: <https://mails.dpdk.org/listinfo/test-report>, <mailto:test-report-request@dpdk.org?subject=subscribe> Errors-To: test-report-bounces@dpdk.org _Testing PASS_ Branch: dpdk-next-net a0ad790eb9fcef4b00366ae474132bee4bcdab75 --> testing pass Upstream job id: Generic-VM-Unit-Test-DPDK#28686 Test environment and result as below: +---------------------+----------------+ | Environment | dpdk_unit_test | +=====================+================+ | CentOS Stream 9 | PASS | +---------------------+----------------+ | CentOS Stream 10 | PASS | +---------------------+----------------+ | Debian 12 | PASS | +---------------------+----------------+ | Fedora 40 | PASS | +---------------------+----------------+ | Fedora 40 (Clang) | PASS | +---------------------+----------------+ | RHEL8 | PASS | +---------------------+----------------+ | RHEL9 | PASS | +---------------------+----------------+ | Fedora 41 (Clang) | PASS | +---------------------+----------------+ | Fedora 41 | PASS | +---------------------+----------------+ | Ubuntu 20.04 | PASS | +---------------------+----------------+ | Ubuntu 22.04 | PASS | +---------------------+----------------+ | Ubuntu 24.04 | PASS | +---------------------+----------------+ | Windows Server 2022 | PASS | +---------------------+----------------+ CentOS Stream 9 Kernel: Depends on container host Compiler: gcc 11.5.0 20240719 (Red Hat 11.5.0-2) CentOS Stream 10 Kernel: Depends on container host Compiler: gcc 14.2.1 20241104 (Red Hat 14.2.1-6) Debian 12 Kernel: Depends on container host Compiler: gcc (Debian 12.2.0-14) 12.2.0 Fedora 40 Kernel: Depends on container host Compiler: gcc 14.2.1 20240912 (Red Hat 14.2.1-3) Fedora 40 (Clang) Kernel: Depends on container host Compiler: clang 18.1.8 (Fedora 18.1.8-1.fc40) RHEL8 Kernel: Depends on container host Compiler: gcc 8.5.0 20210514 (Red Hat 8.5.0-22) RHEL9 Kernel: Depends on container host Compiler: gcc 11.5.0 20240719 (Red Hat 11.5.0-2) Fedora 41 (Clang) Kernel: Depends on container host Compiler: clang 19.1.5 (Fedora 19.1.5-1.fc41) Fedora 41 Kernel: Depends on container host Compiler: gcc 14.2.1 20240912 (Red Hat 14.2.1-3) Ubuntu 20.04 Kernel: Depends on container host Compiler: gcc (Ubuntu 9.4.0-1ubuntu1~20.04.2) 9.4.0 Ubuntu 22.04 Kernel: Depends on container host Compiler: gcc (Ubuntu 11.4.0-1ubuntu1~22.04) 11.4.0 Ubuntu 24.04 Kernel: Depends on container host Compiler: gcc (Ubuntu 13.3.0-6ubuntu2~24.04) 13.3.0 Windows Server 2022 Kernel: 10.0.20348.2031 Compiler: clang 15.0.7, gcc 14.1.0 (MinGW), and MSVC VS 19.39.33521 To view detailed results, visit: https://lab.dpdk.org/results/dashboard/tarballs/33614/ UNH-IOL DPDK Community Lab To manage your email subscriptions, visit: https://lab.dpdk.org/results/dashboard/preferences/subscriptions/