From mboxrd@z Thu Jan 1 00:00:00 1970 Return-Path: Received: from mails.dpdk.org (mails.dpdk.org [217.70.189.124]) by inbox.dpdk.org (Postfix) with ESMTP id E367E467B8 for ; Thu, 22 May 2025 15:40:57 +0200 (CEST) Received: from mails.dpdk.org (localhost [127.0.0.1]) by mails.dpdk.org (Postfix) with ESMTP id DDAA24060F; Thu, 22 May 2025 15:40:57 +0200 (CEST) Received: from mail-pj1-f98.google.com (mail-pj1-f98.google.com [209.85.216.98]) by mails.dpdk.org (Postfix) with ESMTP id 3D0B4402E5 for ; Thu, 22 May 2025 15:40:56 +0200 (CEST) Received: by mail-pj1-f98.google.com with SMTP id 98e67ed59e1d1-30820167b47so6423351a91.0 for ; Thu, 22 May 2025 06:40:56 -0700 (PDT) DKIM-Signature: v=1; a=rsa-sha256; c=relaxed/relaxed; d=iol.unh.edu; s=unh-iol; t=1747921255; x=1748526055; darn=dpdk.org; h=cc:to:from:subject:message-id:date:from:to:cc:subject:date :message-id:reply-to; bh=zmsUg92PRlQdDgcCP0C0MnLD6hbAggQw2ABbF6cwNK0=; b=NhcqepZh9QDm9JaD3cCqDY+UKp7O7Bmdch9ijP3pQdCcjbwRrHzEDua9pe84z7ovL5 UPmZz7S2t84+EUZCElDzRg8i+Abn36ferQS0C/KqfCX+K4P6SiIZieOp71i561WXnCOy kqBmXhmURBvtBQ+WokBOBANq42raCJ7zBtYj4= X-Google-DKIM-Signature: v=1; a=rsa-sha256; c=relaxed/relaxed; d=1e100.net; s=20230601; t=1747921255; x=1748526055; h=cc:to:from:subject:message-id:date:x-gm-message-state:from:to:cc :subject:date:message-id:reply-to; bh=zmsUg92PRlQdDgcCP0C0MnLD6hbAggQw2ABbF6cwNK0=; b=ssAvyjLwcskIpwgv2nVzjYPArMY9plkrVdwcfeuOWGMU+xtmpfwDKvp9jCGf1Wx440 1gw79T45A86rZFvblBSApdV+vEiHhtPjiKEdLOn7N1zorvpHYx95ZbLs7BCxGnBHZBec 6DoNutPFxR7/J/BSl25OB8Z64R++247Hs4p1nPqyXjVuCMVUjCAeT4+KZXFnZLzVJq09 7FQdGGcMZRHakqY9HIGec9oiXfWTIgqOicDmN2CKw4QBShni+6spLJ4w74KWxmkt/4yT 9dz6tRNr6PzZX1X0gQ8KkXG9E5qzW9iywNNETm1bgj7qmImw3pI5ZCqoBHP9soF6KsDX HJzQ== X-Gm-Message-State: AOJu0YxywrHSk5AZIFotbgG7ZLKx4oB/772FIKksFXsCC1/X6evXQRef EHIQFdt0C1KruAaYGxZkMUEeXZ6qPFoLtgx/0hrA2YlTotx4KI2IIwkZ9VlFhZD4P6B7lxs5QbW RSY2kJY2dqj0pbsI1dD6s2U5E+TJYSrU9T+ZfGYJ+Xje6 X-Gm-Gg: ASbGncsq70iqiZGL8lke/mVJGFqDRgTsz36YScDs8X/5xZykYFjuYIAYZXA3D/ukm4p HDKTE3dtscyv6+1DeFOqcU2n925HSPtmQ6GunG9Hw2MGYDGvDYZ+40XyD11bulsno0H0zYJfCwE aDr6I3knMAfP2KT2hbReYFRCNrVsgNEqoVTHe/89R9LnB6dolVQ2aASsmIwE+ia+D/5eq6lBZVA eV8k2cci+t2TYAvfQL/dkEzbZcs9V8X170T85x0HfG6hxGf3uv1szfH2sts5amhVuhKxMbBGLoY llyG/de9pSVgS7R2eLmLKQ3QDMD51boKPRmTtSSakgE6XJ1mJz9grarJkgw= X-Google-Smtp-Source: AGHT+IEceBday/AUfGUcjWwivSGcJX5cun9liDdmYHnIvo6Kmv49eEVqV7+cOW/2JDnH38Th+tmvZLHkFI5N X-Received: by 2002:a17:90b:28c3:b0:2ee:8cbb:de28 with SMTP id 98e67ed59e1d1-30e7dd430ddmr42125654a91.8.1747921255253; Thu, 22 May 2025 06:40:55 -0700 (PDT) Received: from postal.iol.unh.edu (postal.iol.unh.edu. [132.177.123.84]) by smtp-relay.gmail.com with ESMTPS id 98e67ed59e1d1-30f3648a6e3sm435597a91.8.2025.05.22.06.40.55 (version=TLS1_2 cipher=ECDHE-ECDSA-AES128-GCM-SHA256 bits=128/128); Thu, 22 May 2025 06:40:55 -0700 (PDT) X-Relaying-Domain: iol.unh.edu Date: Thu, 22 May 2025 06:40:55 -0700 (PDT) Message-ID: <682f2967.170a0220.193c4c.644aSMTPIN_ADDED_MISSING@mx.google.com> Received: from [172.21.0.5] (unknown [172.18.0.240]) by postal.iol.unh.edu (Postfix) with ESMTP id 73CFD6052471; Thu, 22 May 2025 09:40:54 -0400 (EDT) Subject: |SUCCESS| [GIT MASTER] 3496f70ca7a8ee281fbb23ebcc249f728cbb00cd From: dpdklab@iol.unh.edu To: Test Report Cc: dpdk-test-reports@iol.unh.edu, Bruce Richardson Content-Type: text/plain X-BeenThere: test-report@dpdk.org X-Mailman-Version: 2.1.29 Precedence: list List-Id: automatic DPDK test reports List-Unsubscribe: , List-Archive: List-Post: List-Help: List-Subscribe: , Errors-To: test-report-bounces@dpdk.org _Testing PASS_ Branch: dpdk-next-net-intel 3496f70ca7a8ee281fbb23ebcc249f728cbb00cd --> testing pass Upstream job id: Generic-Unit-Test-DPDK#339954 Test environment and result as below: +-------------------+----------------+ | Environment | dpdk_unit_test | +===================+================+ | CentOS Stream 9 | PASS | +-------------------+----------------+ | CentOS Stream 10 | PASS | +-------------------+----------------+ | RHEL8 | PASS | +-------------------+----------------+ | Debian 12 | PASS | +-------------------+----------------+ | RHEL9 | PASS | +-------------------+----------------+ | Ubuntu 20.04 | PASS | +-------------------+----------------+ | Fedora 40 | PASS | +-------------------+----------------+ | Fedora 40 (Clang) | PASS | +-------------------+----------------+ | Ubuntu 22.04 | PASS | +-------------------+----------------+ | Fedora 41 (Clang) | PASS | +-------------------+----------------+ | Fedora 41 | PASS | +-------------------+----------------+ | Ubuntu 24.04 | PASS | +-------------------+----------------+ CentOS Stream 9 Kernel: Depends on container host Compiler: gcc 11.5.0 20240719 (Red Hat 11.5.0-2) CentOS Stream 10 Kernel: Depends on container host Compiler: gcc 14.2.1 20241104 (Red Hat 14.2.1-6) RHEL8 Kernel: Depends on container host Compiler: gcc 8.5.0 20210514 (Red Hat 8.5.0-22) Debian 12 Kernel: Depends on container host Compiler: gcc (Debian 12.2.0-14) 12.2.0 RHEL9 Kernel: Depends on container host Compiler: gcc 11.5.0 20240719 (Red Hat 11.5.0-2) Ubuntu 20.04 Kernel: Depends on container host Compiler: gcc (Ubuntu 9.4.0-1ubuntu1~20.04.2) 9.4.0 Fedora 40 Kernel: Depends on container host Compiler: gcc 14.2.1 20240912 (Red Hat 14.2.1-3) Fedora 40 (Clang) Kernel: Depends on container host Compiler: clang 18.1.8 (Fedora 18.1.8-1.fc40) Ubuntu 22.04 Kernel: Depends on container host Compiler: gcc (Ubuntu 11.4.0-1ubuntu1~22.04) 11.4.0 Fedora 41 (Clang) Kernel: Depends on container host Compiler: clang 19.1.5 (Fedora 19.1.5-1.fc41) Fedora 41 Kernel: Depends on container host Compiler: gcc 14.2.1 20240912 (Red Hat 14.2.1-3) Ubuntu 24.04 Kernel: Depends on container host Compiler: gcc (Ubuntu 13.3.0-6ubuntu2~24.04) 13.3.0 To view detailed results, visit: https://lab.dpdk.org/results/dashboard/tarballs/33617/ UNH-IOL DPDK Community Lab To manage your email subscriptions, visit: https://lab.dpdk.org/results/dashboard/preferences/subscriptions/