From mboxrd@z Thu Jan 1 00:00:00 1970 Return-Path: Received: from mails.dpdk.org (mails.dpdk.org [217.70.189.124]) by inbox.dpdk.org (Postfix) with ESMTP id 49626467B9 for ; Thu, 22 May 2025 16:17:43 +0200 (CEST) Received: from mails.dpdk.org (localhost [127.0.0.1]) by mails.dpdk.org (Postfix) with ESMTP id 330DB4060F; Thu, 22 May 2025 16:17:43 +0200 (CEST) Received: from mail-il1-f228.google.com (mail-il1-f228.google.com [209.85.166.228]) by mails.dpdk.org (Postfix) with ESMTP id 59E79402E5 for ; Thu, 22 May 2025 16:17:42 +0200 (CEST) Received: by mail-il1-f228.google.com with SMTP id e9e14a558f8ab-3dc6f3fe907so16497685ab.1 for ; Thu, 22 May 2025 07:17:42 -0700 (PDT) DKIM-Signature: v=1; a=rsa-sha256; c=relaxed/relaxed; d=iol.unh.edu; s=unh-iol; t=1747923461; x=1748528261; darn=dpdk.org; h=references:in-reply-to:cc:to:from:subject:message-id:date:from:to :cc:subject:date:message-id:reply-to; bh=hxtbjDQUFr2MY+EQAwL+giCDwOcEFWggHQOgP0GoTwk=; b=Jgm4BcEvboYJ9IP9t/ELiVeOWzJ2mC5Ls7f1ySehd0Z82ZVPpOJPXSeHD+ksT4iLHK iqJpohdUw+OZBL/d/aTRTlHsYgEqNcTY9CgZx3cprR2RMDIYijukb9+SjDLRQNsdZadD 8kJyNcApZgURiwIcxahkwelyb0GnX0zH3cwSE= X-Google-DKIM-Signature: v=1; a=rsa-sha256; c=relaxed/relaxed; d=1e100.net; s=20230601; t=1747923461; x=1748528261; h=references:in-reply-to:cc:to:from:subject:message-id:date :x-gm-message-state:from:to:cc:subject:date:message-id:reply-to; bh=hxtbjDQUFr2MY+EQAwL+giCDwOcEFWggHQOgP0GoTwk=; b=cFwzQ77a525pf8JZNTbHQ93P8L3/R9F2PnqJXPg35zCc9zuuC/7g6oMWCD0dVVhEM9 jCSYYotaFEEzmjiAJv0iA+YVwObYuI7+MpAsOfyEjNbK5gBMoZ2ebCBeIkJCekvdBGC+ RDbZ2ddw6QkS0QIpI7d4mZD+btgMLGA7Etciyso08t1g1lLZpO6pYLrNUabvcbnIWQpF XEubBSjtuf8kgUbbITeMsYRN6fnyEQgwk7DTKSSSvh4lW1CeP1kru2sEbJY3lKMBzk51 fgPHy9NfHDCldQ7IUz/utG9a/OwO9S2lntJokZWFm3S8VqYAgQ/+lQM/Xx//4zQt+Yir cMyg== X-Gm-Message-State: AOJu0YzcT66MQ7mhddfj5Xbdm0tkrVAyP/WtuCPrD2Yc35aWdRBMuNSv Ndx+EvEhFZOgA+oMFNnuZSL7k9K3yE/JjALQSdsMTGJOgc1hmJ+/E0BWRhvmRWjLBYzk1H3SDnU xjoKSWDEw4nkCNq4gMv9iT882ZLzqUqq4vLBCPC9xhMzn X-Gm-Gg: ASbGnctxy1zB1BRhNXeaUHRr35N97AltFsPKq+mvvFIibDryTWAuY93VLItyZspZIFg lFY5G2gP+9IvISSuud8Wnnt6C882JuiY/45xu4ISWYqC/lUuQxHvJ/EjeIhYKhIXNVOWhgoTtCw ORvvnrr2fKAPOzW9ztTm46vu/46Ygen9PJhQ1S/HGb+VONtGI5zYeceDhb/SmKPkJltCX98qhrK PK977Lx9b61u6shqtPsEZm0x8T7K7q5xb0QWhHZcB5eOHCw1JsVMQ7JEfltTCDCjJmd0tf5/ZAQ YobA8aDRh8kUdq0wTZoZsIcAYw9KhT/MY35hzO0Xn8gqISH51pTomANu8nE= X-Google-Smtp-Source: AGHT+IE5h4I9EPx5iLJOY86+tZJyfMz7CkigBJN8HpTXZ6Rq7kaUuolWWqAoeQz3aHdFRoSvL7Es6ssQmkdA X-Received: by 2002:a05:6e02:529:b0:3dc:879b:be95 with SMTP id e9e14a558f8ab-3dc879bc094mr46927065ab.5.1747923461592; Thu, 22 May 2025 07:17:41 -0700 (PDT) Received: from postal.iol.unh.edu (postal.iol.unh.edu. [132.177.123.84]) by smtp-relay.gmail.com with ESMTPS id 8926c6da1cb9f-4fbcc3aca80sm668165173.22.2025.05.22.07.17.41 (version=TLS1_2 cipher=ECDHE-ECDSA-AES128-GCM-SHA256 bits=128/128); Thu, 22 May 2025 07:17:41 -0700 (PDT) X-Relaying-Domain: iol.unh.edu Date: Thu, 22 May 2025 07:17:41 -0700 (PDT) Message-ID: <682f3205.050a0220.a2681.2b90SMTPIN_ADDED_MISSING@mx.google.com> Received: from [172.21.0.5] (unknown [172.18.0.240]) by postal.iol.unh.edu (Postfix) with ESMTP id 36F156052471; Thu, 22 May 2025 10:17:41 -0400 (EDT) Subject: |SUCCESS| pw153593-153595 [PATCH] [v6,9/9] app/test: add zsda crypto From: dpdklab@iol.unh.edu To: Test Report Cc: dpdk-test-reports@iol.unh.edu In-Reply-To: <20250522093037.2274245-10-li.hanxiao@zte.com.cn> References: <20250522093037.2274245-10-li.hanxiao@zte.com.cn> Content-Type: text/plain X-BeenThere: test-report@dpdk.org X-Mailman-Version: 2.1.29 Precedence: list List-Id: automatic DPDK test reports List-Unsubscribe: , List-Archive: List-Post: List-Help: List-Subscribe: , Errors-To: test-report-bounces@dpdk.org Test-Label: iol-unit-amd64-testing Test-Status: SUCCESS http://dpdk.org/patch/153595 _Testing PASS_ Submitter: Hanxiao Li Date: Thursday, May 22 2025 09:30:35 DPDK git baseline: Repo:dpdk Branch: master CommitID:fc627d7065ba5100faa928cf2edfa1622846f542 153593-153595 --> testing pass Upstream job id: Generic-Unit-Test-DPDK#339986 Test environment and result as below: +-------------------+----------------+ | Environment | dpdk_unit_test | +===================+================+ | Debian 12 | PASS | +-------------------+----------------+ | CentOS Stream 9 | PASS | +-------------------+----------------+ | Fedora 41 | PASS | +-------------------+----------------+ | Fedora 40 | PASS | +-------------------+----------------+ | Fedora 40 (Clang) | PASS | +-------------------+----------------+ | CentOS Stream 10 | PASS | +-------------------+----------------+ | Fedora 41 (Clang) | PASS | +-------------------+----------------+ | RHEL8 | PASS | +-------------------+----------------+ | Ubuntu 22.04 | PASS | +-------------------+----------------+ | Ubuntu 20.04 | PASS | +-------------------+----------------+ | RHEL9 | PASS | +-------------------+----------------+ | Ubuntu 24.04 | PASS | +-------------------+----------------+ Debian 12 Kernel: Depends on container host Compiler: gcc (Debian 12.2.0-14) 12.2.0 CentOS Stream 9 Kernel: Depends on container host Compiler: gcc 11.5.0 20240719 (Red Hat 11.5.0-2) Fedora 41 Kernel: Depends on container host Compiler: gcc 14.2.1 20240912 (Red Hat 14.2.1-3) Fedora 40 Kernel: Depends on container host Compiler: gcc 14.2.1 20240912 (Red Hat 14.2.1-3) Fedora 40 (Clang) Kernel: Depends on container host Compiler: clang 18.1.8 (Fedora 18.1.8-1.fc40) CentOS Stream 10 Kernel: Depends on container host Compiler: gcc 14.2.1 20241104 (Red Hat 14.2.1-6) Fedora 41 (Clang) Kernel: Depends on container host Compiler: clang 19.1.5 (Fedora 19.1.5-1.fc41) RHEL8 Kernel: Depends on container host Compiler: gcc 8.5.0 20210514 (Red Hat 8.5.0-22) Ubuntu 22.04 Kernel: Depends on container host Compiler: gcc (Ubuntu 11.4.0-1ubuntu1~22.04) 11.4.0 Ubuntu 20.04 Kernel: Depends on container host Compiler: gcc (Ubuntu 9.4.0-1ubuntu1~20.04.2) 9.4.0 RHEL9 Kernel: Depends on container host Compiler: gcc 11.5.0 20240719 (Red Hat 11.5.0-2) Ubuntu 24.04 Kernel: Depends on container host Compiler: gcc (Ubuntu 13.3.0-6ubuntu2~24.04) 13.3.0 To view detailed results, visit: https://lab.dpdk.org/results/dashboard/patchsets/33231/ UNH-IOL DPDK Community Lab To manage your email subscriptions, visit: https://lab.dpdk.org/results/dashboard/preferences/subscriptions/