From mboxrd@z Thu Jan 1 00:00:00 1970 Return-Path: Received: from mails.dpdk.org (mails.dpdk.org [217.70.189.124]) by inbox.dpdk.org (Postfix) with ESMTP id EC6F9467B9 for ; Thu, 22 May 2025 17:16:37 +0200 (CEST) Received: from mails.dpdk.org (localhost [127.0.0.1]) by mails.dpdk.org (Postfix) with ESMTP id E55614060F; Thu, 22 May 2025 17:16:37 +0200 (CEST) Received: from mail-il1-f227.google.com (mail-il1-f227.google.com [209.85.166.227]) by mails.dpdk.org (Postfix) with ESMTP id 56DCC402E5 for ; Thu, 22 May 2025 17:16:36 +0200 (CEST) Received: by mail-il1-f227.google.com with SMTP id e9e14a558f8ab-3da73df6b6bso25253045ab.3 for ; Thu, 22 May 2025 08:16:36 -0700 (PDT) DKIM-Signature: v=1; a=rsa-sha256; c=relaxed/relaxed; d=iol.unh.edu; s=unh-iol; t=1747926995; x=1748531795; darn=dpdk.org; h=references:in-reply-to:cc:to:from:subject:message-id:date:from:to :cc:subject:date:message-id:reply-to; bh=w3aGFdDDMwPToMxtj9Ae336NgCF2BczbC0LI20gKkt0=; b=BBiIC74Hws3o6LU5y79Tb4BSHqt8mjsnQ7o53VjGFiQe2Vk6cZ15LBXQBZCIZusnEw t/GMEGGwdQMZxviG2d0kt/m7J7NlScZAM7VSPEVyAxj3lHOs65lDku4GTj9X+ZovyL+f TQ6eybXDZUQ7x8RX9bMQXcIpeHHxiXnPPvNf8= X-Google-DKIM-Signature: v=1; a=rsa-sha256; c=relaxed/relaxed; d=1e100.net; s=20230601; t=1747926995; x=1748531795; h=references:in-reply-to:cc:to:from:subject:message-id:date :x-gm-message-state:from:to:cc:subject:date:message-id:reply-to; bh=w3aGFdDDMwPToMxtj9Ae336NgCF2BczbC0LI20gKkt0=; b=fONN8lh7xCkQJt2NXEYUW/WHu3VNbAn5tb78DNo5YkwbVpqQ8dIBdOrE4/Is+toGLr 1TBnAHzSAAPIJONMpuzCQK4/6pSct4pW5SnUKutnljF++Fp0mUenLyN95eUUkKD+2UZl zduSBhtnUD+Ct1dN5HMxcaKtuNSBpAQCjvFboJXS441AnSDmIktUhn2vMxC4cqh1flLK ARSYX9VfLfObXZuhWBqW/OLoUMA/4fATrtMMKjDd3k3PLCHacxT1GOu7kCNnYpd1MVnj irzhUGildJ9uiKQr3mbWzWBv14EYIA74gkA2Y3/4auux5xEZrH2f0oX0tDb8oj95PN2w xbuQ== X-Gm-Message-State: AOJu0YxINIrFUNdDxCqzkjsFbDnsfiCteuFXTDD1rRltnowUHI2U67dB k6c5lsnO8vPZYuDqPjxf2P7iBFn92jnKh8mmVUim0VI1lOEA9KPb5Kozvt/qojl2RUKwKBTPyFp YQcnCRnO9RHL8fd51vFxzHBJOT0/ByzuSDMixdPuBdTV/qCenfzxgNcYPUx8q X-Gm-Gg: ASbGncsEFVF3b0HLG5CJwz7lcczczgcVfQjAIbUCFfR59tOfXVTKrX9yqdvoGUkDJ7p CmHakaLsYgdTs7uiHXg+x4ko7ZOQ7VNT77n5Hp71ul/cVKDl2Nht6A256b7dI5E7b0zKicGy/G9 JlFlo0vFVh069BR1vFNP6ebA401YiE8UU+WGXQKDPiGfXLI1Terg8lXBOVDCKzOYGJZmTSTGGtJ SANbRLgVxlq8xsksyPsaUTtRYOb9waNa77lI5QmgHTKiDIcFq0klxXZpGF4ctjJytrzwaSeiL21 Z9pLc6sciXYKixXZM8BebNfOHhJojmeLStU0 X-Google-Smtp-Source: AGHT+IEmu6la9gOcykUuTvTS3tyIghzVvz3heIo+HJFCdT1KedgQrfSlwywCwE8JDTWxMjskJJN0RmdiAMZI X-Received: by 2002:a05:6e02:1fc6:b0:3dc:8b57:b770 with SMTP id e9e14a558f8ab-3dc8b57b864mr37232765ab.11.1747926995587; Thu, 22 May 2025 08:16:35 -0700 (PDT) Received: from postal.iol.unh.edu (postal.iol.unh.edu. [2606:4100:3880:1234::84]) by smtp-relay.gmail.com with ESMTPS id e9e14a558f8ab-3dc8ad266c9sm1285175ab.40.2025.05.22.08.16.35 (version=TLS1_2 cipher=ECDHE-ECDSA-AES128-GCM-SHA256 bits=128/128); Thu, 22 May 2025 08:16:35 -0700 (PDT) X-Relaying-Domain: iol.unh.edu Date: Thu, 22 May 2025 08:16:35 -0700 (PDT) Message-ID: <682f3fd3.050a0220.1a3ec7.6717SMTPIN_ADDED_MISSING@mx.google.com> Received: from [172.21.0.8] (unknown [172.18.0.240]) by postal.iol.unh.edu (Postfix) with ESMTP id 36CF26052471; Thu, 22 May 2025 11:16:35 -0400 (EDT) Subject: |SUCCESS| pw153579 [PATCH] net/bnxt: fix free of not allocated objec From: dpdklab@iol.unh.edu To: Test Report Cc: dpdk-test-reports@iol.unh.edu In-Reply-To: <20250521193727.382342-1-stephen@networkplumber.org> References: <20250521193727.382342-1-stephen@networkplumber.org> Content-Type: text/plain X-BeenThere: test-report@dpdk.org X-Mailman-Version: 2.1.29 Precedence: list List-Id: automatic DPDK test reports List-Unsubscribe: , List-Archive: List-Post: List-Help: List-Subscribe: , Errors-To: test-report-bounces@dpdk.org Test-Label: iol-compile-arm64-testing Test-Status: SUCCESS http://dpdk.org/patch/153579 _Testing PASS_ Submitter: Stephen Hemminger Date: Wednesday, May 21 2025 19:37:27 DPDK git baseline: Repo:dpdk Branch: master CommitID:472a978287c60af47266ebf18116907a37eec677 153579 --> testing pass Upstream job id: Generic-DPDK-Compile-Meson#390470 Test environment and result as below: +----------------------------------------+--------------------+ | Environment | dpdk_meson_compile | +========================================+====================+ | RHEL9 (ARM) | PASS | +----------------------------------------+--------------------+ | Ubuntu 20.04 ARM GCC Cross Compile | PASS | +----------------------------------------+--------------------+ | Ubuntu 20.04 ARM SVE | PASS | +----------------------------------------+--------------------+ | Debian 12 with MUSDK | PASS | +----------------------------------------+--------------------+ | Fedora 40 (ARM) | PASS | +----------------------------------------+--------------------+ | Fedora 40 (ARM Clang) | PASS | +----------------------------------------+--------------------+ | Fedora 41 (ARM) | PASS | +----------------------------------------+--------------------+ | Fedora 41 (ARM Clang) | PASS | +----------------------------------------+--------------------+ | Ubuntu 20.04 (ARM) | PASS | +----------------------------------------+--------------------+ | Ubuntu 22.04 (ARM) | PASS | +----------------------------------------+--------------------+ | Ubuntu 24.04 (ARM) | PASS | +----------------------------------------+--------------------+ | CentOS Stream 9 (ARM) | PASS | +----------------------------------------+--------------------+ | CentOS Stream 10 (ARM) | PASS | +----------------------------------------+--------------------+ | Debian 12 (arm) | PASS | +----------------------------------------+--------------------+ | Ubuntu 20.04 ARM Clang Cross Compile | PASS | +----------------------------------------+--------------------+ | Ubuntu 20.04 aarch32 GCC Cross Compile | PASS | +----------------------------------------+--------------------+ RHEL9 (ARM) Kernel: Depends on container host Compiler: gcc 11.5.0 20240719 (Red Hat 11.5.0-2) Ubuntu 20.04 ARM GCC Cross Compile Kernel: Depends on container host Compiler: aarch64-linux-gnu-gcc (Ubuntu 9.4.0-1ubuntu1~20.04.2) 9.4.0 Ubuntu 20.04 ARM SVE Kernel: Depends on container host Compiler: gcc (Ubuntu 10.5.0-1ubuntu1~20.04) 10.5.0 Debian 12 with MUSDK Kernel: Depends on container host Compiler: gcc (Debian 12.2.0-14) 12.2.0 Fedora 40 (ARM) Kernel: Depends on container host Compiler: gcc 14.2.1 20240912 (Red Hat 14.2.1-3) Fedora 40 (ARM Clang) Kernel: Depends on container host Compiler: clang 18.1.8 (Fedora 18.1.8-1.fc40) Fedora 41 (ARM) Kernel: Depends on container host Compiler: gcc 14.2.1 20240912 (Red Hat 14.2.1-3) Fedora 41 (ARM Clang) Kernel: Depends on container host Compiler: clang 19.1.5 (Fedora 19.1.5-1.fc41) Ubuntu 20.04 (ARM) Kernel: Depends on container host Compiler: gcc (Ubuntu 9.4.0-1ubuntu1~20.04.2) 9.4.0 Ubuntu 22.04 (ARM) Kernel: Depends on container host Compiler: gcc (Ubuntu 11.4.0-1ubuntu1~22.04) 11.4.0 Ubuntu 24.04 (ARM) Kernel: Depends on container host Compiler: gcc (Ubuntu 13.3.0-6ubuntu2~24.04) 13.3.0 CentOS Stream 9 (ARM) Kernel: Depends on container host Compiler: gcc 11.5.0 20240719 (Red Hat 11.5.0-2) CentOS Stream 10 (ARM) Kernel: Depends on container host Compiler: gcc 14.2.1 20241104 (Red Hat 14.2.1-6) Debian 12 (arm) Kernel: Depends on container host Compiler: gcc (Debian 12.2.0-14) 12.2.0 Ubuntu 20.04 ARM Clang Cross Compile Kernel: Depends on container host Compiler: clang 10.0.0-4ubuntu1 Ubuntu 20.04 aarch32 GCC Cross Compile Kernel: Depends on container host Compiler: gcc 9.4.0 To view detailed results, visit: https://lab.dpdk.org/results/dashboard/patchsets/33227/ UNH-IOL DPDK Community Lab To manage your email subscriptions, visit: https://lab.dpdk.org/results/dashboard/preferences/subscriptions/