From mboxrd@z Thu Jan 1 00:00:00 1970 Return-Path: Received: from mails.dpdk.org (mails.dpdk.org [217.70.189.124]) by inbox.dpdk.org (Postfix) with ESMTP id 47B59467B9 for ; Thu, 22 May 2025 17:29:07 +0200 (CEST) Received: from mails.dpdk.org (localhost [127.0.0.1]) by mails.dpdk.org (Postfix) with ESMTP id 27D694060F; Thu, 22 May 2025 17:29:07 +0200 (CEST) Received: from mail-il1-f228.google.com (mail-il1-f228.google.com [209.85.166.228]) by mails.dpdk.org (Postfix) with ESMTP id 92C8F402E5 for ; Thu, 22 May 2025 17:29:06 +0200 (CEST) Received: by mail-il1-f228.google.com with SMTP id e9e14a558f8ab-3d8020ba858so77929665ab.0 for ; Thu, 22 May 2025 08:29:06 -0700 (PDT) DKIM-Signature: v=1; a=rsa-sha256; c=relaxed/relaxed; d=iol.unh.edu; s=unh-iol; t=1747927746; x=1748532546; darn=dpdk.org; h=references:in-reply-to:cc:to:from:subject:message-id:date:from:to :cc:subject:date:message-id:reply-to; bh=LYwi5GfLTJ3V2qxFCCb12/xM0l+pP8LK1WGdmdgsBrc=; b=EXqvoNPnV6WEhSUmF7+b3jcpS0hGdE0FDJaQW3KEnnIXbTTq90hOu6v6c0Z9se2vBk UpaoXzGhjTR+JQAekf8gCe5XbCInJ9x9/wIixLbrXyGuERi50nTL4yfj/7thbEiQQ/8k ojvQTTAVqTdLTfn+DshRfBIl5Cl1XN4A+3gBc= X-Google-DKIM-Signature: v=1; a=rsa-sha256; c=relaxed/relaxed; d=1e100.net; s=20230601; t=1747927746; x=1748532546; h=references:in-reply-to:cc:to:from:subject:message-id:date :x-gm-message-state:from:to:cc:subject:date:message-id:reply-to; bh=LYwi5GfLTJ3V2qxFCCb12/xM0l+pP8LK1WGdmdgsBrc=; b=hf6LwFaPUr9iHSkF97djGj4/Opgk/PpoFW3Gm4KkN1S8/ZZ8/iVynWeF/nORL9uKAn Llr1KkZvAW9Ke3SBkaA6uGCELcEsgkJmkQi/cz5QOsExMewhnVz1Ccpl3qusiG9+tOAN 5AfL9PcPMAGVTEss8mBfwEOF6MNCL8gmm7GCRAcZqdeD9ZJ+dnqXw9UOayjRDRVjCqFB tzIORTSVzkExD5hnQmMkVaZhOeJa4+8SDapelwS/xWZChBg0Dz7+N9jXmRZipWotKMrY uTSBYqDqroe8WSCELItPXJDwuPftIZcaveU9Ierg6cYqx7QS8K7gD92hxYo1ovFhCxr0 oVdw== X-Gm-Message-State: AOJu0YzCCvTmxYgqx1XVtH3cHZq3os0mep1fI2tdr96w/SwZEqmGMNag cVUUmu4ji/zNETUyHT4Hjm6fI47qdzn6DCuXTBoS9sraTp51bybS7YGCxGhnNYASLuv3j9c2fC3 up6L4Mvc40m6nsU54eeuW3CeLBzU9vVdZ9XiJoVar1v3bGKx18O6SaDc1fmpm X-Gm-Gg: ASbGncsU2m3+mkdAQyXWbINDH/YJfQQE5cRFvq6lhJKZQCqg64cTzFj+LubKhVkBv4P 9zlYDBtu1HCSqJ063b/RlPBlaGDRpONL/PO/Y0FGXan2QTkgaXMD2sckITcpRj1h7Ch1cK3wOIU xRZ5trqSte/TBNVJDKW+0egQZGrnnAEcAChnp7oJoCdMkYya0hNcxmIo45+vD3CqVvBHH1rAfbN SlJRiyTbO1AXYPR0rtbVGshawFeRku4rRRaISKSl+5h35MuK2JBr7NmX2xe5l8P+CfE8qYOUPhs YA1fGbO8iddbmXkP7NY5gEA2gY8tm5E8xJ/p X-Google-Smtp-Source: AGHT+IGxUfKHf7fGkauW+i/PRjUgpzb2hIMN6KHW5uo+ClNIeeufOw2Vp6XTit30KlHU9mqWzAIKNQYAchvC X-Received: by 2002:a05:6e02:1f87:b0:3d1:a75e:65f6 with SMTP id e9e14a558f8ab-3db84324635mr337890135ab.18.1747927745787; Thu, 22 May 2025 08:29:05 -0700 (PDT) Received: from postal.iol.unh.edu (postal.iol.unh.edu. [2606:4100:3880:1234::84]) by smtp-relay.gmail.com with ESMTPS id e9e14a558f8ab-3dc7978e986sm3434385ab.9.2025.05.22.08.29.05 (version=TLS1_2 cipher=ECDHE-ECDSA-AES128-GCM-SHA256 bits=128/128); Thu, 22 May 2025 08:29:05 -0700 (PDT) X-Relaying-Domain: iol.unh.edu Date: Thu, 22 May 2025 08:29:05 -0700 (PDT) Message-ID: <682f42c1.920a0220.15084a.2568SMTPIN_ADDED_MISSING@mx.google.com> Received: from [172.21.0.5] (unknown [172.18.0.240]) by postal.iol.unh.edu (Postfix) with ESMTP id 4BB796052471; Thu, 22 May 2025 11:29:05 -0400 (EDT) Subject: |SUCCESS| pw153580 [PATCH] [v1] compress/zsda: code formatting From: dpdklab@iol.unh.edu To: Test Report Cc: dpdk-test-reports@iol.unh.edu In-Reply-To: <20250522062351.2266776-1-li.hanxiao@zte.com.cn> References: <20250522062351.2266776-1-li.hanxiao@zte.com.cn> Content-Type: text/plain X-BeenThere: test-report@dpdk.org X-Mailman-Version: 2.1.29 Precedence: list List-Id: automatic DPDK test reports List-Unsubscribe: , List-Archive: List-Post: List-Help: List-Subscribe: , Errors-To: test-report-bounces@dpdk.org Test-Label: iol-compile-arm64-testing Test-Status: SUCCESS http://dpdk.org/patch/153580 _Testing PASS_ Submitter: Hanxiao Li Date: Thursday, May 22 2025 06:23:51 DPDK git baseline: Repo:dpdk Branch: master CommitID:fc627d7065ba5100faa928cf2edfa1622846f542 153580 --> testing pass Upstream job id: Generic-DPDK-Compile-Meson#390438 Test environment and result as below: +----------------------------------------+--------------------+ | Environment | dpdk_meson_compile | +========================================+====================+ | RHEL9 (ARM) | PASS | +----------------------------------------+--------------------+ | Ubuntu 20.04 ARM GCC Cross Compile | PASS | +----------------------------------------+--------------------+ | Fedora 40 (ARM) | PASS | +----------------------------------------+--------------------+ | Debian 12 with MUSDK | PASS | +----------------------------------------+--------------------+ | Ubuntu 20.04 ARM SVE | PASS | +----------------------------------------+--------------------+ | Fedora 40 (ARM Clang) | PASS | +----------------------------------------+--------------------+ | Fedora 41 (ARM Clang) | PASS | +----------------------------------------+--------------------+ | Fedora 41 (ARM) | PASS | +----------------------------------------+--------------------+ | Ubuntu 20.04 (ARM) | PASS | +----------------------------------------+--------------------+ | Ubuntu 22.04 (ARM) | PASS | +----------------------------------------+--------------------+ | Ubuntu 24.04 (ARM) | PASS | +----------------------------------------+--------------------+ | CentOS Stream 9 (ARM) | PASS | +----------------------------------------+--------------------+ | Debian 12 (arm) | PASS | +----------------------------------------+--------------------+ | CentOS Stream 10 (ARM) | PASS | +----------------------------------------+--------------------+ | Ubuntu 20.04 ARM Clang Cross Compile | PASS | +----------------------------------------+--------------------+ | Ubuntu 20.04 aarch32 GCC Cross Compile | PASS | +----------------------------------------+--------------------+ RHEL9 (ARM) Kernel: Depends on container host Compiler: gcc 11.5.0 20240719 (Red Hat 11.5.0-2) Ubuntu 20.04 ARM GCC Cross Compile Kernel: Depends on container host Compiler: aarch64-linux-gnu-gcc (Ubuntu 9.4.0-1ubuntu1~20.04.2) 9.4.0 Fedora 40 (ARM) Kernel: Depends on container host Compiler: gcc 14.2.1 20240912 (Red Hat 14.2.1-3) Debian 12 with MUSDK Kernel: Depends on container host Compiler: gcc (Debian 12.2.0-14) 12.2.0 Ubuntu 20.04 ARM SVE Kernel: Depends on container host Compiler: gcc (Ubuntu 10.5.0-1ubuntu1~20.04) 10.5.0 Fedora 40 (ARM Clang) Kernel: Depends on container host Compiler: clang 18.1.8 (Fedora 18.1.8-1.fc40) Fedora 41 (ARM Clang) Kernel: Depends on container host Compiler: clang 19.1.5 (Fedora 19.1.5-1.fc41) Fedora 41 (ARM) Kernel: Depends on container host Compiler: gcc 14.2.1 20240912 (Red Hat 14.2.1-3) Ubuntu 20.04 (ARM) Kernel: Depends on container host Compiler: gcc (Ubuntu 9.4.0-1ubuntu1~20.04.2) 9.4.0 Ubuntu 22.04 (ARM) Kernel: Depends on container host Compiler: gcc (Ubuntu 11.4.0-1ubuntu1~22.04) 11.4.0 Ubuntu 24.04 (ARM) Kernel: Depends on container host Compiler: gcc (Ubuntu 13.3.0-6ubuntu2~24.04) 13.3.0 CentOS Stream 9 (ARM) Kernel: Depends on container host Compiler: gcc 11.5.0 20240719 (Red Hat 11.5.0-2) Debian 12 (arm) Kernel: Depends on container host Compiler: gcc (Debian 12.2.0-14) 12.2.0 CentOS Stream 10 (ARM) Kernel: Depends on container host Compiler: gcc 14.2.1 20241104 (Red Hat 14.2.1-6) Ubuntu 20.04 ARM Clang Cross Compile Kernel: Depends on container host Compiler: clang 10.0.0-4ubuntu1 Ubuntu 20.04 aarch32 GCC Cross Compile Kernel: Depends on container host Compiler: gcc 9.4.0 To view detailed results, visit: https://lab.dpdk.org/results/dashboard/patchsets/33228/ UNH-IOL DPDK Community Lab To manage your email subscriptions, visit: https://lab.dpdk.org/results/dashboard/preferences/subscriptions/