From mboxrd@z Thu Jan 1 00:00:00 1970 Return-Path: Received: from mails.dpdk.org (mails.dpdk.org [217.70.189.124]) by inbox.dpdk.org (Postfix) with ESMTP id 494A0467BA for ; Thu, 22 May 2025 18:25:02 +0200 (CEST) Received: from mails.dpdk.org (localhost [127.0.0.1]) by mails.dpdk.org (Postfix) with ESMTP id 44A1840616; Thu, 22 May 2025 18:25:02 +0200 (CEST) Received: from mail-pl1-f226.google.com (mail-pl1-f226.google.com [209.85.214.226]) by mails.dpdk.org (Postfix) with ESMTP id 379DE4025E for ; Thu, 22 May 2025 18:25:01 +0200 (CEST) Received: by mail-pl1-f226.google.com with SMTP id d9443c01a7336-231bf5851b7so64381985ad.0 for ; Thu, 22 May 2025 09:25:01 -0700 (PDT) DKIM-Signature: v=1; a=rsa-sha256; c=relaxed/relaxed; d=iol.unh.edu; s=unh-iol; t=1747931100; x=1748535900; darn=dpdk.org; h=references:in-reply-to:cc:to:from:subject:message-id:date:from:to :cc:subject:date:message-id:reply-to; bh=VuZKVvAJ7+gF5Y7/TeGSg8KzQJQORB/R5PEbiRsNde8=; b=e3h82HDsdrlUex2CeNpKPLqfXnlLUnXQpTlNguAW9xieYsuh3dt5UmT7ObOxMeJ4Vm oCZ31pXkqA01MCB/g9CjC28kAH0VW1ZVlQoV44YYnICxJ/ysvw26ffQGiGlJjk9qIn0l j6aOFVA9RjZq+RUv81WUNxEOJ0rG7U648lBXM= X-Google-DKIM-Signature: v=1; a=rsa-sha256; c=relaxed/relaxed; d=1e100.net; s=20230601; t=1747931100; x=1748535900; h=references:in-reply-to:cc:to:from:subject:message-id:date :x-gm-message-state:from:to:cc:subject:date:message-id:reply-to; bh=VuZKVvAJ7+gF5Y7/TeGSg8KzQJQORB/R5PEbiRsNde8=; b=o9KF7va7PVvBdEgBdUqoL98JiPxo/WN5gOCeTjrv87SZ5xWVggmcjCbbA4fvTRyjqh sQC6X8wTO+b0tqSIoalAXIxnZzrPAhmnMmTz3s5G2RmCcb/HoMzFJACUNoK9xM2a9vWh 5ZN01RdfAHJ3QQPAWAAc8qsDQVov/cJTt8lLIEd+BhjVyv5j9ZxEXlJYwkQkdll6cl6t hYYNMz9nvkoVOu65fI3nnJ61ygWuAwyWZFCf//ei8JnuboWj8hLEObfXDYiP2nG52uxW fYhejfEzTbX5GcsaqHFIrf6vA0L1+E3Axx3xap1WWxCXAN/9xBRGv3uE9PjaIwP+2mcz bV6w== X-Gm-Message-State: AOJu0YxuHYeqD3+jQiCd+ZU9gHrkue7RPQcsIL4cCSwrhVutpzms7qN0 O8Si2yZE9g5q7HP4OrqfgPQYvvB/vwEPlX1oE1iRHkz1bMzr0Pay0xXlzioPFj6PosT+Uip8kfm hxmSLUz03Uze5fI/3LNF+A2RMxEuQH5ivVJF8yx/RKsRqHqtiylE8cTC5YKpx X-Gm-Gg: ASbGncvGOBRCt5Z3uUnk5gOAXhKLsJnDyFUPzxjjPL6aJKhFBKtxF0ljBAM3B3s5Dkt yyP9cNTQDpwvqhHxbs8b+oIGionIrO501LGZ/oCaWpQoaK3aEB3UwE1UPAWiTxD9meKr7re6Nop O3kQAyj9+siqV5UCw+5Sms/UVw58LyYjyOTdrrMLYg1Xs4zMcnx20MBwLtn6dRFgZ3MhqB16+hZ oxy1oEvHZq9bvUwzqbUT3n5TzgA4qW4FWmo6fj4mdRii/scMimBbF+9qhONWOomFF5KQjM/lUmF Q0xAOh4p6NV1IBhKM//7NJNC2pdgFSZxg57v X-Google-Smtp-Source: AGHT+IHOYPV/hm0Pum8WLoUZ51pdJtQaX0+O2pENFIVO2/tw+78vymO1S6kQoDfGEMmQ/KebMZknMJZrEl4i X-Received: by 2002:a17:903:94f:b0:223:5ca1:3b0b with SMTP id d9443c01a7336-231d45a9aa0mr386677195ad.40.1747931100198; Thu, 22 May 2025 09:25:00 -0700 (PDT) Received: from postal.iol.unh.edu (postal.iol.unh.edu. [2606:4100:3880:1234::84]) by smtp-relay.gmail.com with ESMTPS id d9443c01a7336-231d4e97235sm7602815ad.86.2025.05.22.09.25.00 (version=TLS1_2 cipher=ECDHE-ECDSA-AES128-GCM-SHA256 bits=128/128); Thu, 22 May 2025 09:25:00 -0700 (PDT) X-Relaying-Domain: iol.unh.edu Date: Thu, 22 May 2025 09:25:00 -0700 (PDT) Message-ID: <682f4fdc.170a0220.2e319b.991dSMTPIN_ADDED_MISSING@mx.google.com> Received: from [172.21.0.5] (unknown [172.18.0.240]) by postal.iol.unh.edu (Postfix) with ESMTP id 51B726052471; Thu, 22 May 2025 12:24:59 -0400 (EDT) Subject: |SUCCESS| pw153580 [PATCH] [v1] compress/zsda: code formatting From: dpdklab@iol.unh.edu To: Test Report Cc: dpdk-test-reports@iol.unh.edu In-Reply-To: <20250522062351.2266776-1-li.hanxiao@zte.com.cn> References: <20250522062351.2266776-1-li.hanxiao@zte.com.cn> Content-Type: text/plain X-BeenThere: test-report@dpdk.org X-Mailman-Version: 2.1.29 Precedence: list List-Id: automatic DPDK test reports List-Unsubscribe: , List-Archive: List-Post: List-Help: List-Subscribe: , Errors-To: test-report-bounces@dpdk.org Test-Label: iol-unit-amd64-testing Test-Status: SUCCESS http://dpdk.org/patch/153580 _Testing PASS_ Submitter: Hanxiao Li Date: Thursday, May 22 2025 06:23:51 DPDK git baseline: Repo:dpdk Branch: master CommitID:fc627d7065ba5100faa928cf2edfa1622846f542 153580 --> testing pass Upstream job id: Generic-VM-Unit-Test-DPDK#28688 Test environment and result as below: +-------------------+----------------+ | Environment | dpdk_unit_test | +===================+================+ | Debian 12 | PASS | +-------------------+----------------+ | CentOS Stream 10 | PASS | +-------------------+----------------+ | CentOS Stream 9 | PASS | +-------------------+----------------+ | Fedora 40 | PASS | +-------------------+----------------+ | Fedora 40 (Clang) | PASS | +-------------------+----------------+ | Fedora 41 | PASS | +-------------------+----------------+ | RHEL8 | PASS | +-------------------+----------------+ | RHEL9 | PASS | +-------------------+----------------+ | Fedora 41 (Clang) | PASS | +-------------------+----------------+ | Ubuntu 20.04 | PASS | +-------------------+----------------+ | Ubuntu 24.04 | PASS | +-------------------+----------------+ | Ubuntu 22.04 | PASS | +-------------------+----------------+ Debian 12 Kernel: Depends on container host Compiler: gcc (Debian 12.2.0-14) 12.2.0 CentOS Stream 10 Kernel: Depends on container host Compiler: gcc 14.2.1 20241104 (Red Hat 14.2.1-6) CentOS Stream 9 Kernel: Depends on container host Compiler: gcc 11.5.0 20240719 (Red Hat 11.5.0-2) Fedora 40 Kernel: Depends on container host Compiler: gcc 14.2.1 20240912 (Red Hat 14.2.1-3) Fedora 40 (Clang) Kernel: Depends on container host Compiler: clang 18.1.8 (Fedora 18.1.8-1.fc40) Fedora 41 Kernel: Depends on container host Compiler: gcc 14.2.1 20240912 (Red Hat 14.2.1-3) RHEL8 Kernel: Depends on container host Compiler: gcc 8.5.0 20210514 (Red Hat 8.5.0-22) RHEL9 Kernel: Depends on container host Compiler: gcc 11.5.0 20240719 (Red Hat 11.5.0-2) Fedora 41 (Clang) Kernel: Depends on container host Compiler: clang 19.1.5 (Fedora 19.1.5-1.fc41) Ubuntu 20.04 Kernel: Depends on container host Compiler: gcc (Ubuntu 9.4.0-1ubuntu1~20.04.2) 9.4.0 Ubuntu 24.04 Kernel: Depends on container host Compiler: gcc (Ubuntu 13.3.0-6ubuntu2~24.04) 13.3.0 Ubuntu 22.04 Kernel: Depends on container host Compiler: gcc (Ubuntu 11.4.0-1ubuntu1~22.04) 11.4.0 To view detailed results, visit: https://lab.dpdk.org/results/dashboard/patchsets/33228/ UNH-IOL DPDK Community Lab To manage your email subscriptions, visit: https://lab.dpdk.org/results/dashboard/preferences/subscriptions/