From mboxrd@z Thu Jan 1 00:00:00 1970 Return-Path: Received: from mails.dpdk.org (mails.dpdk.org [217.70.189.124]) by inbox.dpdk.org (Postfix) with ESMTP id 17D7C467BA for ; Thu, 22 May 2025 18:43:51 +0200 (CEST) Received: from mails.dpdk.org (localhost [127.0.0.1]) by mails.dpdk.org (Postfix) with ESMTP id F34C440612; Thu, 22 May 2025 18:43:50 +0200 (CEST) Received: from mail-qt1-f226.google.com (mail-qt1-f226.google.com [209.85.160.226]) by mails.dpdk.org (Postfix) with ESMTP id 1C9A24025E for ; Thu, 22 May 2025 18:43:49 +0200 (CEST) Received: by mail-qt1-f226.google.com with SMTP id d75a77b69052e-48d71b77cc0so107732561cf.1 for ; Thu, 22 May 2025 09:43:49 -0700 (PDT) DKIM-Signature: v=1; a=rsa-sha256; c=relaxed/relaxed; d=iol.unh.edu; s=unh-iol; t=1747932228; x=1748537028; darn=dpdk.org; h=references:in-reply-to:cc:to:from:subject:message-id:date:from:to :cc:subject:date:message-id:reply-to; bh=zOJtNe1Vjhu+hjxwGKNDhAD9zBG880oSa8L19PCM6a8=; b=N6m7ZFGRCblpvAOiLV+gUC0XcP4O8QKeRWoAXomFqO9mh+L3m762tqGiTwzcEJIMXo ohd3rRrS1jrv/TgLKuIHcYOi4oevAmCql4apIbPQ89koeyoS/pQ9FXJofguywONl0ryR vkcYKOgQGGFYHR0xyyDUPruKIq2XnPjcTpIkI= X-Google-DKIM-Signature: v=1; a=rsa-sha256; c=relaxed/relaxed; d=1e100.net; s=20230601; t=1747932228; x=1748537028; h=references:in-reply-to:cc:to:from:subject:message-id:date :x-gm-message-state:from:to:cc:subject:date:message-id:reply-to; bh=zOJtNe1Vjhu+hjxwGKNDhAD9zBG880oSa8L19PCM6a8=; b=U7HGypdTxqNxXtOzS5Ef3Z/hQrP0t4mET3EcjeXG/g/l9ijlBOEadgeqOzSqu7pBN4 NNJL95N4rq41CvW9IygyL/KDzjmqwEdCCqjajt0oxAvbKBSrvQ9XPDYLjnaF6x/yYyTm Zrr4uTaeyTFPFM2C+cIIH8YQiBouFwNdnCc9mI3B0/KG3SOG6rDQkogonaLnsw5nIiXp 1qQmplW2lx91wbM7N7RR3j2xoTP8JDewrcHRnrxyUNd/6FtgaCOfsvdDiCTTRDue1RKZ FCnvSgQqjtTO4oL/Uosq0iIhi+3MGuhRpQbSEjZVS6vpUFZXuQEqZihjH+CY+Hxq1ami uJ/A== X-Gm-Message-State: AOJu0YyKq3M/QSDGtefUAHEWkMl9GGYIMj6OTy02HtOUP5YcC3is2S0v Uxxwv0ACr2wAfw9ZFh/Y7En9IpWy/N0xYpXZuw42fM6gJyzsvXJnLaWsCLl2I0GxJ/jGijcNRRl xAFGN9dfvuA0P7AIStwS7hmQv8RXFZ2ikvP36p48a/TXX X-Gm-Gg: ASbGnctx4lFQ3D6at5WP0EY49twH+FVbRKGsQm0uA8gY+w7LRAketyd1yfjtXrQA4RR 0+iQn9upvAsGo7bQOSiaXDEYtA6ijibchyjIOiqNB9CJ6x0pknqbhEYfPQqku7qZK64/HL7y4mM FjGM43KAqFfMZAHDHLIG45ZhbE1dBGEmueyE6iUO5GwPoTvyUX3EEHlLmFMITQRpyVxDZju3kMu vaJ8sEmxCiLdIH6Rci9TbrjSYWXrBwpfeZI/BMsSnFEnTWkjru072YIzWfBAFCzQuSYp45c9MPI D3pRxFTPDLz5bXf+U2zelo1cBT8CtnkE41jfXPyi4gw+eWthbPY+CVlGC+0= X-Google-Smtp-Source: AGHT+IE9aXLd034emC1EWZf7BKDgSowGiYQXMzwnEw4SQ1yhwt6sI4d0HOr2gCi+KhD2cxc3S6/8cS6+Lw4m X-Received: by 2002:a05:622a:1f09:b0:477:6c0e:d5b3 with SMTP id d75a77b69052e-494ae352f8dmr412728351cf.6.1747932228318; Thu, 22 May 2025 09:43:48 -0700 (PDT) Received: from postal.iol.unh.edu (postal.iol.unh.edu. [132.177.123.84]) by smtp-relay.gmail.com with ESMTPS id d75a77b69052e-494ae3fdf4csm6541801cf.6.2025.05.22.09.43.48 (version=TLS1_2 cipher=ECDHE-ECDSA-AES128-GCM-SHA256 bits=128/128); Thu, 22 May 2025 09:43:48 -0700 (PDT) X-Relaying-Domain: iol.unh.edu Date: Thu, 22 May 2025 09:43:48 -0700 (PDT) Message-ID: <682f5444.050a0220.a704b.420bSMTPIN_ADDED_MISSING@mx.google.com> Received: from [172.21.0.6] (unknown [172.18.0.240]) by postal.iol.unh.edu (Postfix) with ESMTP id 09D9A6052471; Thu, 22 May 2025 12:43:48 -0400 (EDT) Subject: |WARNING| pw153579 [PATCH] net/bnxt: fix free of not allocated objec From: dpdklab@iol.unh.edu To: Test Report Cc: dpdk-test-reports@iol.unh.edu In-Reply-To: <20250521193727.382342-1-stephen@networkplumber.org> References: <20250521193727.382342-1-stephen@networkplumber.org> Content-Type: text/plain X-BeenThere: test-report@dpdk.org X-Mailman-Version: 2.1.29 Precedence: list List-Id: automatic DPDK test reports List-Unsubscribe: , List-Archive: List-Post: List-Help: List-Subscribe: , Errors-To: test-report-bounces@dpdk.org Test-Label: iol-compile-amd64-testing Test-Status: WARNING http://dpdk.org/patch/153579 _Testing issues_ Submitter: Stephen Hemminger Date: Wednesday, May 21 2025 19:37:27 DPDK git baseline: Repo:dpdk Branch: master CommitID:472a978287c60af47266ebf18116907a37eec677 153579 --> testing issues Upstream job id: Windows-Compile-DPDK-Native#28563 Test environment and result as below: +-----------------------------------+--------------------+-------------------+------------------+-------------------+-------------------------+----------------------+ | Environment | dpdk_meson_compile | dpdk_compile_spdk | dpdk_compile_ovs | dpdk_msvc_compile | dpdk_llvm_clang_compile | dpdk_mingw64_compile | +===================================+====================+===================+==================+===================+=========================+======================+ | CentOS Stream 10 | PASS | SKIPPED | SKIPPED | SKIPPED | SKIPPED | SKIPPED | +-----------------------------------+--------------------+-------------------+------------------+-------------------+-------------------------+----------------------+ | CentOS Stream 9 | PASS | PASS | SKIPPED | SKIPPED | SKIPPED | SKIPPED | +-----------------------------------+--------------------+-------------------+------------------+-------------------+-------------------------+----------------------+ | Fedora 40 (Clang) | PASS | WARN | SKIPPED | SKIPPED | SKIPPED | SKIPPED | +-----------------------------------+--------------------+-------------------+------------------+-------------------+-------------------------+----------------------+ | Debian 12 | PASS | PASS | SKIPPED | SKIPPED | SKIPPED | SKIPPED | +-----------------------------------+--------------------+-------------------+------------------+-------------------+-------------------------+----------------------+ | Fedora 40 | PASS | PASS | SKIPPED | SKIPPED | SKIPPED | SKIPPED | +-----------------------------------+--------------------+-------------------+------------------+-------------------+-------------------------+----------------------+ | Fedora 41 (Clang) | PASS | WARN | PASS | SKIPPED | SKIPPED | SKIPPED | +-----------------------------------+--------------------+-------------------+------------------+-------------------+-------------------------+----------------------+ | Fedora 41 | PASS | PASS | PASS | SKIPPED | SKIPPED | SKIPPED | +-----------------------------------+--------------------+-------------------+------------------+-------------------+-------------------------+----------------------+ | openSUSE Leap 15 | PASS | SKIPPED | SKIPPED | SKIPPED | SKIPPED | SKIPPED | +-----------------------------------+--------------------+-------------------+------------------+-------------------+-------------------------+----------------------+ | RHEL8 | PASS | SKIPPED | SKIPPED | SKIPPED | SKIPPED | SKIPPED | +-----------------------------------+--------------------+-------------------+------------------+-------------------+-------------------------+----------------------+ | RHEL9 | PASS | SKIPPED | SKIPPED | SKIPPED | SKIPPED | SKIPPED | +-----------------------------------+--------------------+-------------------+------------------+-------------------+-------------------------+----------------------+ | Ubuntu 20.04 | PASS | SKIPPED | SKIPPED | SKIPPED | SKIPPED | SKIPPED | +-----------------------------------+--------------------+-------------------+------------------+-------------------+-------------------------+----------------------+ | Ubuntu 22.04 | PASS | PASS | SKIPPED | SKIPPED | SKIPPED | SKIPPED | +-----------------------------------+--------------------+-------------------+------------------+-------------------+-------------------------+----------------------+ | Ubuntu 24.04 | PASS | PASS | PASS | SKIPPED | SKIPPED | SKIPPED | +-----------------------------------+--------------------+-------------------+------------------+-------------------+-------------------------+----------------------+ | Alpine | PASS | SKIPPED | SKIPPED | SKIPPED | SKIPPED | SKIPPED | +-----------------------------------+--------------------+-------------------+------------------+-------------------+-------------------------+----------------------+ | Ubuntu 24.04 32 Bit Cross Compile | PASS | SKIPPED | SKIPPED | SKIPPED | SKIPPED | SKIPPED | +-----------------------------------+--------------------+-------------------+------------------+-------------------+-------------------------+----------------------+ | FreeBSD 14.2 | PASS | SKIPPED | SKIPPED | SKIPPED | SKIPPED | SKIPPED | +-----------------------------------+--------------------+-------------------+------------------+-------------------+-------------------------+----------------------+ | Windows Server 2022 | SKIPPED | SKIPPED | SKIPPED | PASS | PASS | PASS | +-----------------------------------+--------------------+-------------------+------------------+-------------------+-------------------------+----------------------+ ==== 20 line log output for Fedora 41 (Clang) (dpdk_compile_spdk): ==== --- Failed to get log output --- ==== End log output ==== CentOS Stream 10 Kernel: Depends on container host Compiler: gcc 14.2.1 20241104 (Red Hat 14.2.1-6) CentOS Stream 9 Kernel: Depends on container host Compiler: gcc 11.5.0 20240719 (Red Hat 11.5.0-2) Fedora 40 (Clang) Kernel: Depends on container host Compiler: clang 18.1.8 (Fedora 18.1.8-1.fc40) Debian 12 Kernel: Depends on container host Compiler: gcc (Debian 12.2.0-14) 12.2.0 Fedora 40 Kernel: Depends on container host Compiler: gcc 14.2.1 20240912 (Red Hat 14.2.1-3) Fedora 41 (Clang) Kernel: Depends on container host Compiler: clang 19.1.5 (Fedora 19.1.5-1.fc41) Fedora 41 Kernel: Depends on container host Compiler: gcc 14.2.1 20240912 (Red Hat 14.2.1-3) openSUSE Leap 15 Kernel: Depends on container host Compiler: gcc (SUSE Linux) 7.5.0 RHEL8 Kernel: Depends on container host Compiler: gcc 8.5.0 20210514 (Red Hat 8.5.0-22) RHEL9 Kernel: Depends on container host Compiler: gcc 11.5.0 20240719 (Red Hat 11.5.0-2) Ubuntu 20.04 Kernel: Depends on container host Compiler: gcc (Ubuntu 9.4.0-1ubuntu1~20.04.2) 9.4.0 Ubuntu 22.04 Kernel: Depends on container host Compiler: gcc (Ubuntu 11.4.0-1ubuntu1~22.04) 11.4.0 Ubuntu 24.04 Kernel: Depends on container host Compiler: gcc (Ubuntu 13.3.0-6ubuntu2~24.04) 13.3.0 Alpine Kernel: Depends on container host Compiler: gcc (Alpine 14.2.0) 14.2.0 Ubuntu 24.04 32 Bit Cross Compile Kernel: Depends on container host Compiler: gcc (Ubuntu 13.3.0-6ubuntu2~24.04) 13.3.0 FreeBSD 14.2 Kernel: 14.2-RELEASE Compiler: clang 18.1.6 Windows Server 2022 Kernel: 10.0.20348.2031 Compiler: clang 15.0.7, gcc 14.1.0 (MinGW), and MSVC VS 19.39.33521 To view detailed results, visit: https://lab.dpdk.org/results/dashboard/patchsets/33227/ UNH-IOL DPDK Community Lab To manage your email subscriptions, visit: https://lab.dpdk.org/results/dashboard/preferences/subscriptions/