From mboxrd@z Thu Jan 1 00:00:00 1970 Return-Path: Received: from mails.dpdk.org (mails.dpdk.org [217.70.189.124]) by inbox.dpdk.org (Postfix) with ESMTP id 19D7746714 for ; Thu, 22 May 2025 19:27:41 +0200 (CEST) Received: from mails.dpdk.org (localhost [127.0.0.1]) by mails.dpdk.org (Postfix) with ESMTP id F32A540612; Thu, 22 May 2025 19:27:40 +0200 (CEST) Received: from mail-oa1-f98.google.com (mail-oa1-f98.google.com [209.85.160.98]) by mails.dpdk.org (Postfix) with ESMTP id B4A754025E for ; Thu, 22 May 2025 19:27:38 +0200 (CEST) Received: by mail-oa1-f98.google.com with SMTP id 586e51a60fabf-2d060c62b61so5367945fac.0 for ; Thu, 22 May 2025 10:27:38 -0700 (PDT) DKIM-Signature: v=1; a=rsa-sha256; c=relaxed/relaxed; d=iol.unh.edu; s=unh-iol; t=1747934858; x=1748539658; darn=dpdk.org; h=references:in-reply-to:cc:to:from:subject:message-id:date:from:to :cc:subject:date:message-id:reply-to; bh=hDWBNsnK2p+Ykofq58ZRU07h4fm+YEiqlNsKXbeM42g=; b=gL054Mgt3+gf+YJdH6saE7vhhcddml2XJVxf7++2DycY8jAWwM5zkWUy1OiLdREoWJ hNwKomPeSpv99DAHCefDNJX8MKP3JVBMGxjq3fpi7oa5KGiShjQ2o5HN91JTjx83fMED dgvSWbh11wprnZLl0qxAyjjDxakVIll5RCXeM= X-Google-DKIM-Signature: v=1; a=rsa-sha256; c=relaxed/relaxed; d=1e100.net; s=20230601; t=1747934858; x=1748539658; h=references:in-reply-to:cc:to:from:subject:message-id:date :x-gm-message-state:from:to:cc:subject:date:message-id:reply-to; bh=hDWBNsnK2p+Ykofq58ZRU07h4fm+YEiqlNsKXbeM42g=; b=hMCP/CkfwLb13QUERmeIZiPV0K1iYu/bEwSBNu66nXhZqhnetag4BsqVgZZiEFYFEl 5zZAR+kYOVkQPuWGs20myKRpu1T3nuc378uOeXxAz7c53U+kV5yhNn3rXolZZX8yxLT6 dF+C7YbxMImPuYzUIxPT3ck4og8YTie9dsJdqj54U0ytmdrFAA1xEhEGwGf2fuwXz9ZO kWahse8qvieg/2i9q9GLXS8tyeilvn9Z/yvXOjFt89o7J01Dp9ugx2QkvrWPvy2Xlw4X bbhGLZTrushYquJmf4IzKdzTkSTGlVgJrFGU+mK31l9zquyRvGThI6vkDa/D/TB5FX2Q 2Ebg== X-Gm-Message-State: AOJu0YxrI939xT1j9BBWnwPx02dUeMx5ywfyfn6s6/zMFSYzjTkRA/Ur RPcNsxHEqka2wyPYVcM4cCp/WKdH4rGCInVT0u49CNm9y/ONKBLiITwaCUO3K+GB/hlQJxjQb8s Aw3Sgi+ggE3Oty8XYAXFU5tA4N8qveXnadiKfe3IMBDwu X-Gm-Gg: ASbGnctx74Xcy53SiIioSggAJw2B2wqs0fbXF+MrW+ZR123esOWgVLiGfNkxYxCbYgk e/zR10EITqQxzeFj/c4TnsFcrFZrr2f/oMLzLxf5OkzemBfulbU/gQ2iy5Seil74gLWbccGLE80 YPfI3PAIukKiee4fxSCU6wSI8YC3Wa67SSjMuzl6lS/arLiJF0/38hFL3I6y1Y/CsM+ZgW7F2XU hTWl6VpYoNbkMIqaaqUNGSdXlRg+DE1Us1KoguFbo4PZ3KYg2VObjHq49UQlFgJdbexgqgUoS0E 6VeROsXWXDVVaZezUmTcF0xCMygd46n20Mfks0CYF1BP1uFSYlTY74iGftE= X-Google-Smtp-Source: AGHT+IEJHkBgvl/ziIiaXO1CKELaNjgudqVZwOB+oqakdsEMxD6E/e8T812ijQJSDfi2TNlaBUQfTASYfkcL X-Received: by 2002:a05:6871:880b:b0:2d8:957a:5163 with SMTP id 586e51a60fabf-2e3c81f7d6cmr15177717fac.10.1747934857727; Thu, 22 May 2025 10:27:37 -0700 (PDT) Received: from postal.iol.unh.edu (postal.iol.unh.edu. [132.177.123.84]) by smtp-relay.gmail.com with ESMTPS id 8926c6da1cb9f-4fbcc3ae3b3sm700562173.29.2025.05.22.10.27.37 (version=TLS1_2 cipher=ECDHE-ECDSA-AES128-GCM-SHA256 bits=128/128); Thu, 22 May 2025 10:27:37 -0700 (PDT) X-Relaying-Domain: iol.unh.edu Date: Thu, 22 May 2025 10:27:37 -0700 (PDT) Message-ID: <682f5e89.050a0220.2b54e1.517cSMTPIN_ADDED_MISSING@mx.google.com> Received: from [172.21.0.8] (unknown [172.18.0.240]) by postal.iol.unh.edu (Postfix) with ESMTP id 38ACD6052471; Thu, 22 May 2025 13:27:37 -0400 (EDT) Subject: |SUCCESS| pw153590 [PATCH] [v3] ethdev: fix the bug where the flag v From: dpdklab@iol.unh.edu To: Test Report Cc: dpdk-test-reports@iol.unh.edu In-Reply-To: <20250522074242.30376-1-sunyang.wu@jaguarmicro.com> References: <20250522074242.30376-1-sunyang.wu@jaguarmicro.com> Content-Type: text/plain X-BeenThere: test-report@dpdk.org X-Mailman-Version: 2.1.29 Precedence: list List-Id: automatic DPDK test reports List-Unsubscribe: , List-Archive: List-Post: List-Help: List-Subscribe: , Errors-To: test-report-bounces@dpdk.org Test-Label: iol-unit-amd64-testing Test-Status: SUCCESS http://dpdk.org/patch/153590 _Testing PASS_ Submitter: Sunyang Wu Date: Thursday, May 22 2025 07:42:42 DPDK git baseline: Repo:dpdk Branch: master CommitID:a0ad790eb9fcef4b00366ae474132bee4bcdab75 153590 --> testing pass Upstream job id: Generic-Unit-Test-DPDK#340032 Test environment and result as below: +-------------------+----------------+ | Environment | dpdk_unit_test | +===================+================+ | CentOS Stream 10 | PASS | +-------------------+----------------+ | CentOS Stream 9 | PASS | +-------------------+----------------+ | Fedora 41 | PASS | +-------------------+----------------+ | Ubuntu 20.04 | PASS | +-------------------+----------------+ | Debian 12 | PASS | +-------------------+----------------+ | Fedora 41 (Clang) | PASS | +-------------------+----------------+ | Fedora 40 (Clang) | PASS | +-------------------+----------------+ | RHEL9 | PASS | +-------------------+----------------+ | RHEL8 | PASS | +-------------------+----------------+ | Fedora 40 | PASS | +-------------------+----------------+ | Ubuntu 22.04 | PASS | +-------------------+----------------+ | Ubuntu 24.04 | PASS | +-------------------+----------------+ CentOS Stream 10 Kernel: Depends on container host Compiler: gcc 14.2.1 20241104 (Red Hat 14.2.1-6) CentOS Stream 9 Kernel: Depends on container host Compiler: gcc 11.5.0 20240719 (Red Hat 11.5.0-2) Fedora 41 Kernel: Depends on container host Compiler: gcc 14.2.1 20240912 (Red Hat 14.2.1-3) Ubuntu 20.04 Kernel: Depends on container host Compiler: gcc (Ubuntu 9.4.0-1ubuntu1~20.04.2) 9.4.0 Debian 12 Kernel: Depends on container host Compiler: gcc (Debian 12.2.0-14) 12.2.0 Fedora 41 (Clang) Kernel: Depends on container host Compiler: clang 19.1.5 (Fedora 19.1.5-1.fc41) Fedora 40 (Clang) Kernel: Depends on container host Compiler: clang 18.1.8 (Fedora 18.1.8-1.fc40) RHEL9 Kernel: Depends on container host Compiler: gcc 11.5.0 20240719 (Red Hat 11.5.0-2) RHEL8 Kernel: Depends on container host Compiler: gcc 8.5.0 20210514 (Red Hat 8.5.0-22) Fedora 40 Kernel: Depends on container host Compiler: gcc 14.2.1 20240912 (Red Hat 14.2.1-3) Ubuntu 22.04 Kernel: Depends on container host Compiler: gcc (Ubuntu 11.4.0-1ubuntu1~22.04) 11.4.0 Ubuntu 24.04 Kernel: Depends on container host Compiler: gcc (Ubuntu 13.3.0-6ubuntu2~24.04) 13.3.0 To view detailed results, visit: https://lab.dpdk.org/results/dashboard/patchsets/33230/ UNH-IOL DPDK Community Lab To manage your email subscriptions, visit: https://lab.dpdk.org/results/dashboard/preferences/subscriptions/