From mboxrd@z Thu Jan 1 00:00:00 1970 Return-Path: Received: from mails.dpdk.org (mails.dpdk.org [217.70.189.124]) by inbox.dpdk.org (Postfix) with ESMTP id 6E59546774 for ; Thu, 22 May 2025 19:31:14 +0200 (CEST) Received: from mails.dpdk.org (localhost [127.0.0.1]) by mails.dpdk.org (Postfix) with ESMTP id 68B5040612; Thu, 22 May 2025 19:31:14 +0200 (CEST) Received: from mail-yb1-f227.google.com (mail-yb1-f227.google.com [209.85.219.227]) by mails.dpdk.org (Postfix) with ESMTP id B16B84025E for ; Thu, 22 May 2025 19:31:13 +0200 (CEST) Received: by mail-yb1-f227.google.com with SMTP id 3f1490d57ef6-e7b4ba530feso6898610276.1 for ; Thu, 22 May 2025 10:31:13 -0700 (PDT) DKIM-Signature: v=1; a=rsa-sha256; c=relaxed/relaxed; d=iol.unh.edu; s=unh-iol; t=1747935073; x=1748539873; darn=dpdk.org; h=references:in-reply-to:cc:to:from:subject:message-id:date:from:to :cc:subject:date:message-id:reply-to; bh=H8pn42aIyhm+LBuPHdW426xlfQNGQSqVq1zzFIRU8gs=; b=fPwbUbKUI80f2gDexF5g3ZaO0DQAlRiORQ/vSBkwScAD7rZtNWPFlqliMzE6dKZY4m vNfCqyCY6EjnbA5TXeyV46k90dVEO0AB55h4Ap7yJfAO11ylAee5UJKKFYWmayo6rMi/ WXbVeG0deOlsTMVFkMgIl/VdPmLBlzzjk5Vno= X-Google-DKIM-Signature: v=1; a=rsa-sha256; c=relaxed/relaxed; d=1e100.net; s=20230601; t=1747935073; x=1748539873; h=references:in-reply-to:cc:to:from:subject:message-id:date :x-gm-message-state:from:to:cc:subject:date:message-id:reply-to; bh=H8pn42aIyhm+LBuPHdW426xlfQNGQSqVq1zzFIRU8gs=; b=BYhvHC43NpnKwcjLyFVkTCoOm6z1JAup4z6vRWgu7bfxQRVpVB6uWuTdwVxgaG/8wZ XuczdAvvBd9Hzlv31yiXy8eidJEiUF5PaVNfdkPpXWKYJUh7voThtKsDvecwWjtNMTLQ XPeDUr6rtN5XcIcu0CYs79uKVRFRgj0eX0pEQfnxQgcntErvOqtCazSJmeloOxwpJLF4 4XGTz4cx2VTbv0y1c/j5thfxbat5QWWqTA046W+eZudAd+YS6nyPx2o8SDOM9woZHyiJ tR3KngodTzt15RxZkP3jxMRXneeT8KdkfeC7dwQdTSaKAAPgo+/56B7wXbtxmC2oX0he 2UxA== X-Gm-Message-State: AOJu0YwPKXFYNKFhFOgfWh9OG+CdOOq7Qyj6m4tO60o7jcYCbaVoHocT cerK+23RjpLcbPrMXyorDBjIet2z+9v/GiI+a9oiSWcOMVAsHEpumHWKeBfNpeS1ZC97HGfbdEr 4UbZAD0EoI/TLcDmT71ppFCwYY+bPNshsdUPEBF1O5bWsWyzngsFga1di4n9Q X-Gm-Gg: ASbGncsBe2QDORBdVKWaAypE9IGBtnbne5mxUsJ0KhZG8QP7mAAU2J/aCaUsIqjdqVj Cjv1xt+/lnMaOH7wSebq7Dsi1pWUYUyeKJA9L3rPTl4fhaB0bi8qj8FrUTpg8ZjDXdYPHGFjj2D K3dFT9ylelUS9YXhZtMFXIrLoKuLB/KBj14bDrJr/+unTLO9zGXP0DEvhZ+viJMfQrjcl82IDHf aYyk4hNC/mKj+oyoHEpY7hhK4KkaiuKlYKVayHJ+U5rARNoMEBGpuZlsKH4tcZnueYHrlY9sOFh QbN5z9nHvpdq+EMDQ2mcR5+oHr6sbak3yw6A X-Google-Smtp-Source: AGHT+IGyxD1WOb2l/dRTplJw7xcPxA5HBPP33f6Sc47dxOLqXA045MoRoNVaJvUDC78yGzz40bSLG9+zIt9w X-Received: by 2002:a05:6902:1242:b0:e7d:6962:d813 with SMTP id 3f1490d57ef6-e7d6962dd7cmr6309916276.23.1747935072946; Thu, 22 May 2025 10:31:12 -0700 (PDT) Received: from postal.iol.unh.edu (postal.iol.unh.edu. [2606:4100:3880:1234::84]) by smtp-relay.gmail.com with ESMTPS id 3f1490d57ef6-e7d61c76f2fsm223332276.14.2025.05.22.10.31.12 (version=TLS1_2 cipher=ECDHE-ECDSA-AES128-GCM-SHA256 bits=128/128); Thu, 22 May 2025 10:31:12 -0700 (PDT) X-Relaying-Domain: iol.unh.edu Date: Thu, 22 May 2025 10:31:12 -0700 (PDT) Message-ID: <682f5f60.250a0220.1b1573.cc94SMTPIN_ADDED_MISSING@mx.google.com> Received: from [172.21.0.5] (unknown [172.18.0.240]) by postal.iol.unh.edu (Postfix) with ESMTP id 89C926052471; Thu, 22 May 2025 13:31:12 -0400 (EDT) Subject: |SUCCESS| pw153593-153595 [PATCH] [v6,9/9] app/test: add zsda crypto From: dpdklab@iol.unh.edu To: Test Report Cc: dpdk-test-reports@iol.unh.edu In-Reply-To: <20250522093037.2274245-10-li.hanxiao@zte.com.cn> References: <20250522093037.2274245-10-li.hanxiao@zte.com.cn> Content-Type: text/plain X-BeenThere: test-report@dpdk.org X-Mailman-Version: 2.1.29 Precedence: list List-Id: automatic DPDK test reports List-Unsubscribe: , List-Archive: List-Post: List-Help: List-Subscribe: , Errors-To: test-report-bounces@dpdk.org Test-Label: iol-unit-arm64-testing Test-Status: SUCCESS http://dpdk.org/patch/153595 _Testing PASS_ Submitter: Hanxiao Li Date: Thursday, May 22 2025 09:30:35 DPDK git baseline: Repo:dpdk Branch: master CommitID:fc627d7065ba5100faa928cf2edfa1622846f542 153593-153595 --> testing pass Upstream job id: Generic-Unit-Test-DPDK#339973 Test environment and result as below: +-----------------------------+----------------+--------------+---------------------------+------------------------------+ | Environment | dpdk_unit_test | lpm_autotest | cryptodev_sw_zuc_autotest | cryptodev_sw_snow3g_autotest | +=============================+================+==============+===========================+==============================+ | CentOS Stream 9 (ARM) | PASS | SKIPPED | SKIPPED | SKIPPED | +-----------------------------+----------------+--------------+---------------------------+------------------------------+ | Fedora 40 (ARM) | PASS | SKIPPED | SKIPPED | SKIPPED | +-----------------------------+----------------+--------------+---------------------------+------------------------------+ | Debian 12 (arm) | PASS | SKIPPED | PASS | PASS | +-----------------------------+----------------+--------------+---------------------------+------------------------------+ | CentOS Stream 10 (ARM) | PASS | SKIPPED | SKIPPED | SKIPPED | +-----------------------------+----------------+--------------+---------------------------+------------------------------+ | Fedora 40 (ARM Clang) | PASS | SKIPPED | SKIPPED | SKIPPED | +-----------------------------+----------------+--------------+---------------------------+------------------------------+ | RHEL9 (ARM) | PASS | SKIPPED | SKIPPED | SKIPPED | +-----------------------------+----------------+--------------+---------------------------+------------------------------+ | Fedora 41 (ARM) | PASS | SKIPPED | SKIPPED | SKIPPED | +-----------------------------+----------------+--------------+---------------------------+------------------------------+ | Fedora 41 (ARM Clang) | PASS | SKIPPED | SKIPPED | SKIPPED | +-----------------------------+----------------+--------------+---------------------------+------------------------------+ | Ubuntu 22.04 (ARM) | PASS | SKIPPED | SKIPPED | SKIPPED | +-----------------------------+----------------+--------------+---------------------------+------------------------------+ | Ubuntu 20.04 (ARM) | PASS | SKIPPED | SKIPPED | SKIPPED | +-----------------------------+----------------+--------------+---------------------------+------------------------------+ | Ubuntu 24.04 (ARM) | PASS | SKIPPED | SKIPPED | SKIPPED | +-----------------------------+----------------+--------------+---------------------------+------------------------------+ | 32-bit Ubuntu 22.04.4 (ARM) | PASS | SKIPPED | SKIPPED | SKIPPED | +-----------------------------+----------------+--------------+---------------------------+------------------------------+ | Ubuntu 20.04 ARM SVE | SKIPPED | PASS | SKIPPED | SKIPPED | +-----------------------------+----------------+--------------+---------------------------+------------------------------+ CentOS Stream 9 (ARM) Kernel: Depends on container host Compiler: gcc 11.5.0 20240719 (Red Hat 11.5.0-2) Fedora 40 (ARM) Kernel: Depends on container host Compiler: gcc 14.2.1 20240912 (Red Hat 14.2.1-3) Debian 12 (arm) Kernel: Depends on container host Compiler: gcc (Debian 12.2.0-14) 12.2.0 CentOS Stream 10 (ARM) Kernel: Depends on container host Compiler: gcc 14.2.1 20241104 (Red Hat 14.2.1-6) Fedora 40 (ARM Clang) Kernel: Depends on container host Compiler: clang 18.1.8 (Fedora 18.1.8-1.fc40) RHEL9 (ARM) Kernel: Depends on container host Compiler: gcc 11.5.0 20240719 (Red Hat 11.5.0-2) Fedora 41 (ARM) Kernel: Depends on container host Compiler: gcc 14.2.1 20240912 (Red Hat 14.2.1-3) Fedora 41 (ARM Clang) Kernel: Depends on container host Compiler: clang 19.1.5 (Fedora 19.1.5-1.fc41) Ubuntu 22.04 (ARM) Kernel: Depends on container host Compiler: gcc (Ubuntu 11.4.0-1ubuntu1~22.04) 11.4.0 Ubuntu 20.04 (ARM) Kernel: Depends on container host Compiler: gcc (Ubuntu 9.4.0-1ubuntu1~20.04.2) 9.4.0 Ubuntu 24.04 (ARM) Kernel: Depends on container host Compiler: gcc (Ubuntu 13.3.0-6ubuntu2~24.04) 13.3.0 32-bit Ubuntu 22.04.4 (ARM) Kernel: 5.15.83+ aarch64 Compiler: gcc (Ubuntu 11.4.0-1ubuntu1~22.04) 11.4.0 Ubuntu 20.04 ARM SVE Kernel: Depends on container host Compiler: gcc (Ubuntu 10.5.0-1ubuntu1~20.04) 10.5.0 To view detailed results, visit: https://lab.dpdk.org/results/dashboard/patchsets/33231/ UNH-IOL DPDK Community Lab To manage your email subscriptions, visit: https://lab.dpdk.org/results/dashboard/preferences/subscriptions/