From mboxrd@z Thu Jan 1 00:00:00 1970 Return-Path: Received: from mails.dpdk.org (mails.dpdk.org [217.70.189.124]) by inbox.dpdk.org (Postfix) with ESMTP id 3A6B146774 for ; Thu, 22 May 2025 19:59:46 +0200 (CEST) Received: from mails.dpdk.org (localhost [127.0.0.1]) by mails.dpdk.org (Postfix) with ESMTP id 1675640612; Thu, 22 May 2025 19:59:46 +0200 (CEST) Received: from mail-io1-f98.google.com (mail-io1-f98.google.com [209.85.166.98]) by mails.dpdk.org (Postfix) with ESMTP id 2CB8B4025E for ; Thu, 22 May 2025 19:59:45 +0200 (CEST) Received: by mail-io1-f98.google.com with SMTP id ca18e2360f4ac-85dac9728cdso273453339f.0 for ; Thu, 22 May 2025 10:59:45 -0700 (PDT) DKIM-Signature: v=1; a=rsa-sha256; c=relaxed/relaxed; d=iol.unh.edu; s=unh-iol; t=1747936784; x=1748541584; darn=dpdk.org; h=references:in-reply-to:cc:to:from:subject:message-id:date:from:to :cc:subject:date:message-id:reply-to; bh=G8yJrMnIVWoQmkIpgYhqeGbw6kUy/HjzrNDCFtNo8/w=; b=jn9+PDo+y1b93/7j4SHUT9yKVep3MfM68xHY5kPp7a71/rnY0rQg9pIQaQgwumBOJL d2WapOmExn9zPfHvWxLelRWCFgcDtTt53WZDsHtNsUyV3vgVpZ0hdMv2kp5aVSUX6GIU mqTok2FGblX8EgRgNp8rHYU36sj9ZERBtSsd0= X-Google-DKIM-Signature: v=1; a=rsa-sha256; c=relaxed/relaxed; d=1e100.net; s=20230601; t=1747936784; x=1748541584; h=references:in-reply-to:cc:to:from:subject:message-id:date :x-gm-message-state:from:to:cc:subject:date:message-id:reply-to; bh=G8yJrMnIVWoQmkIpgYhqeGbw6kUy/HjzrNDCFtNo8/w=; b=ZKUFFnqkYWea0LoDOOkgj11lcAR/ANxqEeF/v1+M3W5AAJ1mqe6vQMO/J8PVkhFzzH zHr73rnE2zmAcHXDgcHQZ0sxALKjaTxM74JiFRcNjFxZ5XteOOJjdpxS0SGJbduzxiSn aXBU/4bO/Wy08pxJFB4vl/InikVlZhLMtzgud5xFmt7egKkYsnBjytUAkl+Ft15k/jlt owwYAKQYaCoV2MdHgNUMeGe9qP6bCaFW3cZNYPd14lN1H1b6t/pVXGN1xqBlX9C5CqSb Ix/N9+56diPFaggAcCcQbuUPUqK1+inUipXw3D9a2EOUGOGo9U+7MD6ksDzbClzTsYQh +UsA== X-Gm-Message-State: AOJu0YwpXrXePHVnOgDr121dy+AsdkO9Q7kzr/PD3kQt4wb5oSS47Dtd TCuds41NZjNthROcaBmzkZBO+wUShgNR5Ut7xov4Wwl/D+YRUcsEiVwuSFkZQ7ytYtyAuhek6bE ukh9X691N2E4/shxrbNyKgjuVFUQVgQKvJc7jDKG2puo5 X-Gm-Gg: ASbGncuOtTZOjj5sTMOXkmAQx4XHIP6o65O4hH9GY75oDVeflmj3FEDVdaygnmorSzC joXNK3pWcESkrA0V2K425hrIa9h9c/SyhNIFyM5fPUovAOrXTr6JZt9YD4x0o/XKqLgN0ndcBim 0Gj1F/P6mFFf5PSgRSn+Wua+WDupVp/O9lU44nLZCN3ICLZo73piAR2lOUQZK3rgZp+jREGEw/u vS4KHo+tSXFZ0mKyd5/E5si2XERSFCd7f7ZrWhSDPJGlXtpRJuRAhxKjHcBbDqutDAgrq8PMSBN t0RF5vkQtKuo6Uq5z9vbCZyiHXlHKTmFoYhDJMy9R4Bb1GqbOgwUz0nQC98= X-Google-Smtp-Source: AGHT+IGLSxdIMrw9QiWyzgU+FQxK+niLidQ1tmSKf/ZO4K8f9ShAGe+Ltoky12wbe9ROwD7+PvPMbxZN2TvO X-Received: by 2002:a05:6e02:1a8c:b0:3dc:7a9a:44db with SMTP id e9e14a558f8ab-3dc933f924fmr145735ab.16.1747936784346; Thu, 22 May 2025 10:59:44 -0700 (PDT) Received: from postal.iol.unh.edu (postal.iol.unh.edu. [132.177.123.84]) by smtp-relay.gmail.com with ESMTPS id e9e14a558f8ab-3dc8ad266c9sm1433425ab.40.2025.05.22.10.59.44 (version=TLS1_2 cipher=ECDHE-ECDSA-AES128-GCM-SHA256 bits=128/128); Thu, 22 May 2025 10:59:44 -0700 (PDT) X-Relaying-Domain: iol.unh.edu Date: Thu, 22 May 2025 10:59:44 -0700 (PDT) Message-ID: <682f6610.050a0220.1a3ec7.72f1SMTPIN_ADDED_MISSING@mx.google.com> Received: from [172.21.0.5] (unknown [172.18.0.240]) by postal.iol.unh.edu (Postfix) with ESMTP id D28B96052471; Thu, 22 May 2025 13:59:43 -0400 (EDT) Subject: |SUCCESS| pw153579 [PATCH] net/bnxt: fix free of not allocated objec From: dpdklab@iol.unh.edu To: Test Report Cc: dpdk-test-reports@iol.unh.edu In-Reply-To: <20250521193727.382342-1-stephen@networkplumber.org> References: <20250521193727.382342-1-stephen@networkplumber.org> Content-Type: text/plain X-BeenThere: test-report@dpdk.org X-Mailman-Version: 2.1.29 Precedence: list List-Id: automatic DPDK test reports List-Unsubscribe: , List-Archive: List-Post: List-Help: List-Subscribe: , Errors-To: test-report-bounces@dpdk.org Test-Label: iol-unit-amd64-testing Test-Status: SUCCESS http://dpdk.org/patch/153579 _Testing PASS_ Submitter: Stephen Hemminger Date: Wednesday, May 21 2025 19:37:27 DPDK git baseline: Repo:dpdk Branch: master CommitID:472a978287c60af47266ebf18116907a37eec677 153579 --> testing pass Upstream job id: Generic-VM-Unit-Test-DPDK#28690 Test environment and result as below: +---------------------+----------------+ | Environment | dpdk_unit_test | +=====================+================+ | RHEL9 | PASS | +---------------------+----------------+ | RHEL8 | PASS | +---------------------+----------------+ | CentOS Stream 9 | PASS | +---------------------+----------------+ | Fedora 40 (Clang) | PASS | +---------------------+----------------+ | Fedora 41 | PASS | +---------------------+----------------+ | Ubuntu 22.04 | PASS | +---------------------+----------------+ | Fedora 40 | PASS | +---------------------+----------------+ | CentOS Stream 10 | PASS | +---------------------+----------------+ | Debian 12 | PASS | +---------------------+----------------+ | Ubuntu 24.04 | PASS | +---------------------+----------------+ | Fedora 41 (Clang) | PASS | +---------------------+----------------+ | Ubuntu 20.04 | PASS | +---------------------+----------------+ | Windows Server 2022 | PASS | +---------------------+----------------+ RHEL9 Kernel: Depends on container host Compiler: gcc 11.5.0 20240719 (Red Hat 11.5.0-2) RHEL8 Kernel: Depends on container host Compiler: gcc 8.5.0 20210514 (Red Hat 8.5.0-22) CentOS Stream 9 Kernel: Depends on container host Compiler: gcc 11.5.0 20240719 (Red Hat 11.5.0-2) Fedora 40 (Clang) Kernel: Depends on container host Compiler: clang 18.1.8 (Fedora 18.1.8-1.fc40) Fedora 41 Kernel: Depends on container host Compiler: gcc 14.2.1 20240912 (Red Hat 14.2.1-3) Ubuntu 22.04 Kernel: Depends on container host Compiler: gcc (Ubuntu 11.4.0-1ubuntu1~22.04) 11.4.0 Fedora 40 Kernel: Depends on container host Compiler: gcc 14.2.1 20240912 (Red Hat 14.2.1-3) CentOS Stream 10 Kernel: Depends on container host Compiler: gcc 14.2.1 20241104 (Red Hat 14.2.1-6) Debian 12 Kernel: Depends on container host Compiler: gcc (Debian 12.2.0-14) 12.2.0 Ubuntu 24.04 Kernel: Depends on container host Compiler: gcc (Ubuntu 13.3.0-6ubuntu2~24.04) 13.3.0 Fedora 41 (Clang) Kernel: Depends on container host Compiler: clang 19.1.5 (Fedora 19.1.5-1.fc41) Ubuntu 20.04 Kernel: Depends on container host Compiler: gcc (Ubuntu 9.4.0-1ubuntu1~20.04.2) 9.4.0 Windows Server 2022 Kernel: 10.0.20348.2031 Compiler: clang 15.0.7, gcc 14.1.0 (MinGW), and MSVC VS 19.39.33521 To view detailed results, visit: https://lab.dpdk.org/results/dashboard/patchsets/33227/ UNH-IOL DPDK Community Lab To manage your email subscriptions, visit: https://lab.dpdk.org/results/dashboard/preferences/subscriptions/