From mboxrd@z Thu Jan 1 00:00:00 1970 Return-Path: Received: from mails.dpdk.org (mails.dpdk.org [217.70.189.124]) by inbox.dpdk.org (Postfix) with ESMTP id 8646B4678E for ; Thu, 22 May 2025 20:37:02 +0200 (CEST) Received: from mails.dpdk.org (localhost [127.0.0.1]) by mails.dpdk.org (Postfix) with ESMTP id 636F5402D9; Thu, 22 May 2025 20:37:02 +0200 (CEST) Received: from mail-il1-f228.google.com (mail-il1-f228.google.com [209.85.166.228]) by mails.dpdk.org (Postfix) with ESMTP id CD6974025E for ; Thu, 22 May 2025 20:37:00 +0200 (CEST) Received: by mail-il1-f228.google.com with SMTP id e9e14a558f8ab-3dc6dbb3d58so39258155ab.3 for ; Thu, 22 May 2025 11:37:00 -0700 (PDT) DKIM-Signature: v=1; a=rsa-sha256; c=relaxed/relaxed; d=iol.unh.edu; s=unh-iol; t=1747939020; x=1748543820; darn=dpdk.org; h=references:in-reply-to:cc:to:from:subject:message-id:date:from:to :cc:subject:date:message-id:reply-to; bh=WJFGcYeCB/Lw3Asc5Kg4cHlUfxMeKc1ouPduc/P1vtk=; b=aEXxZxu9YqivlY8jc3s37LZ/pxRelHmrBT5Xskvm6jiE/HnUjDa3On9USo1hPMKkFR QD7JSx/NkSkL7vAcPog6a8ipk6nuIWAydc01aoyCBdmbPtYCy3GcCvET+6dN+S9yksKM Po1XUpWZ+zc45hVxaH6h5/UoScFKFi1wy3DUw= X-Google-DKIM-Signature: v=1; a=rsa-sha256; c=relaxed/relaxed; d=1e100.net; s=20230601; t=1747939020; x=1748543820; h=references:in-reply-to:cc:to:from:subject:message-id:date :x-gm-message-state:from:to:cc:subject:date:message-id:reply-to; bh=WJFGcYeCB/Lw3Asc5Kg4cHlUfxMeKc1ouPduc/P1vtk=; b=FaQstGw4tUAe71iI5oStrGDp03ULPKzv8K83Hpwz1AjxRtNSk3jVgB54j/Yjjr2N7T PvXbTbvkcp1fGOcHKWZ9Rix4eQa8tING4JLRZTWrmLRy/4GLjICTizWUOqcJ8BaXThDQ /9fYw61HS+ogCIbokQRQqZq2u+yhslmgTuX/bj/2qv2c+MJakt33ATM+5gOA00Dwh6mm MlHe36MicdyGnhp6umWgVne5nGrrZ1Ge4EMhnpDTXv8ir6iDQ1lEDtev3EptWDe7L7ur zUt2zdmoEsCGHSJ2EELZ9OIcX6UX5PYXZMxQ2Oyj9gZk0bnw99zA6+MF3tkvrdaTRjk0 7g1Q== X-Gm-Message-State: AOJu0YxYIMwAHvHWBm8rBT+9uhXXdpyEYP/iUZ/yhHypTzKKEtuLh+WX IIuhkh6ah1oCD/ZFJv5bxgXInWgYpSrzA262CLr5gBvs5pEEYzDzSR5fC5T4fpFwEg/lgGAF5Ss ZkWC7PxWU+mvC4CInpfPTlNybSAB0Q7iQ1wHEkTIqU0CAq5twZuZQMOZNM9qj X-Gm-Gg: ASbGnculDxVjo1+nc6tCGculuFwS4aSx32zw9bdvX/YJrZ47zaN8gh2wxdUDOKFvg+r WwynbE8zNGGFT510zI+UOJEnNRd+sb6zFQ2SgUE4p9Y4l/3eP4crDYWRGqttZ0P2Hqu5s95hFlZ xl75jcYFDJs6C4NT/misvwTNw0ztVdm+vs7yH0/ao0oEWWwQ3DXHcXi6R7kDWhcUZBs4VpsENiu hUzK7Nzk06swF/ah4kgaxDHxYJxMkWP1iMkpyzIaSqTlpL+RbVpojeK5HLNQLzFnPgnUs5DAfKC GdYelyBXjlvwM0CJl0LWLNJPkMFDTaHi7yXs X-Google-Smtp-Source: AGHT+IFmgOjushnKFQfhYLkuHAJ4Mb8Vp77E2p5Er3pA1iqzFRJ3CllW3jmDMRyVTU6F0nNPl2LXHIXi6lvb X-Received: by 2002:a05:6e02:2592:b0:3d9:3e8e:60ce with SMTP id e9e14a558f8ab-3db84331410mr298930755ab.19.1747939019965; Thu, 22 May 2025 11:36:59 -0700 (PDT) Received: from postal.iol.unh.edu (postal.iol.unh.edu. [2606:4100:3880:1234::84]) by smtp-relay.gmail.com with ESMTPS id e9e14a558f8ab-3dc8cf6c4e5sm996535ab.13.2025.05.22.11.36.59 (version=TLS1_2 cipher=ECDHE-ECDSA-AES128-GCM-SHA256 bits=128/128); Thu, 22 May 2025 11:36:59 -0700 (PDT) X-Relaying-Domain: iol.unh.edu Date: Thu, 22 May 2025 11:36:59 -0700 (PDT) Message-ID: <682f6ecb.050a0220.3cff98.5f4fSMTPIN_ADDED_MISSING@mx.google.com> Received: from [172.21.0.6] (unknown [172.18.0.240]) by postal.iol.unh.edu (Postfix) with ESMTP id 90BF36052471; Thu, 22 May 2025 14:36:59 -0400 (EDT) Subject: |WARNING| pw153593-153595 [PATCH] [v6,9/9] app/test: add zsda crypto From: dpdklab@iol.unh.edu To: Test Report Cc: dpdk-test-reports@iol.unh.edu In-Reply-To: <20250522093037.2274245-10-li.hanxiao@zte.com.cn> References: <20250522093037.2274245-10-li.hanxiao@zte.com.cn> Content-Type: text/plain X-BeenThere: test-report@dpdk.org X-Mailman-Version: 2.1.29 Precedence: list List-Id: automatic DPDK test reports List-Unsubscribe: , List-Archive: List-Post: List-Help: List-Subscribe: , Errors-To: test-report-bounces@dpdk.org Test-Label: iol-compile-amd64-testing Test-Status: WARNING http://dpdk.org/patch/153595 _Testing issues_ Submitter: Hanxiao Li Date: Thursday, May 22 2025 09:30:35 DPDK git baseline: Repo:dpdk Branch: master CommitID:fc627d7065ba5100faa928cf2edfa1622846f542 153593-153595 --> testing issues Upstream job id: Windows-Compile-DPDK-Native#28568 Test environment and result as below: +-----------------------------------+--------------------+-------------------+------------------+-------------------+-------------------------+----------------------+ | Environment | dpdk_meson_compile | dpdk_compile_spdk | dpdk_compile_ovs | dpdk_msvc_compile | dpdk_llvm_clang_compile | dpdk_mingw64_compile | +===================================+====================+===================+==================+===================+=========================+======================+ | CentOS Stream 9 | PASS | PASS | SKIPPED | SKIPPED | SKIPPED | SKIPPED | +-----------------------------------+--------------------+-------------------+------------------+-------------------+-------------------------+----------------------+ | CentOS Stream 10 | PASS | SKIPPED | SKIPPED | SKIPPED | SKIPPED | SKIPPED | +-----------------------------------+--------------------+-------------------+------------------+-------------------+-------------------------+----------------------+ | Fedora 40 (Clang) | PASS | WARN | SKIPPED | SKIPPED | SKIPPED | SKIPPED | +-----------------------------------+--------------------+-------------------+------------------+-------------------+-------------------------+----------------------+ | Debian 12 | PASS | PASS | SKIPPED | SKIPPED | SKIPPED | SKIPPED | +-----------------------------------+--------------------+-------------------+------------------+-------------------+-------------------------+----------------------+ | Fedora 40 | PASS | PASS | SKIPPED | SKIPPED | SKIPPED | SKIPPED | +-----------------------------------+--------------------+-------------------+------------------+-------------------+-------------------------+----------------------+ | Fedora 41 (Clang) | PASS | WARN | PASS | SKIPPED | SKIPPED | SKIPPED | +-----------------------------------+--------------------+-------------------+------------------+-------------------+-------------------------+----------------------+ | Fedora 41 | PASS | PASS | PASS | SKIPPED | SKIPPED | SKIPPED | +-----------------------------------+--------------------+-------------------+------------------+-------------------+-------------------------+----------------------+ | openSUSE Leap 15 | PASS | SKIPPED | SKIPPED | SKIPPED | SKIPPED | SKIPPED | +-----------------------------------+--------------------+-------------------+------------------+-------------------+-------------------------+----------------------+ | RHEL9 | PASS | SKIPPED | SKIPPED | SKIPPED | SKIPPED | SKIPPED | +-----------------------------------+--------------------+-------------------+------------------+-------------------+-------------------------+----------------------+ | Ubuntu 20.04 | PASS | SKIPPED | SKIPPED | SKIPPED | SKIPPED | SKIPPED | +-----------------------------------+--------------------+-------------------+------------------+-------------------+-------------------------+----------------------+ | Ubuntu 22.04 | PASS | PASS | SKIPPED | SKIPPED | SKIPPED | SKIPPED | +-----------------------------------+--------------------+-------------------+------------------+-------------------+-------------------------+----------------------+ | Ubuntu 24.04 | PASS | PASS | PASS | SKIPPED | SKIPPED | SKIPPED | +-----------------------------------+--------------------+-------------------+------------------+-------------------+-------------------------+----------------------+ | Ubuntu 24.04 32 Bit Cross Compile | PASS | SKIPPED | SKIPPED | SKIPPED | SKIPPED | SKIPPED | +-----------------------------------+--------------------+-------------------+------------------+-------------------+-------------------------+----------------------+ | Alpine | PASS | SKIPPED | SKIPPED | SKIPPED | SKIPPED | SKIPPED | +-----------------------------------+--------------------+-------------------+------------------+-------------------+-------------------------+----------------------+ | FreeBSD 14.2 | PASS | SKIPPED | SKIPPED | SKIPPED | SKIPPED | SKIPPED | +-----------------------------------+--------------------+-------------------+------------------+-------------------+-------------------------+----------------------+ | RHEL8 | PASS | SKIPPED | SKIPPED | SKIPPED | SKIPPED | SKIPPED | +-----------------------------------+--------------------+-------------------+------------------+-------------------+-------------------------+----------------------+ | Windows Server 2022 | SKIPPED | SKIPPED | SKIPPED | PASS | PASS | PASS | +-----------------------------------+--------------------+-------------------+------------------+-------------------+-------------------------+----------------------+ ==== 20 line log output for Fedora 41 (Clang) (dpdk_compile_spdk): ==== --- Failed to get log output --- ==== End log output ==== CentOS Stream 9 Kernel: Depends on container host Compiler: gcc 11.5.0 20240719 (Red Hat 11.5.0-2) CentOS Stream 10 Kernel: Depends on container host Compiler: gcc 14.2.1 20241104 (Red Hat 14.2.1-6) Fedora 40 (Clang) Kernel: Depends on container host Compiler: clang 18.1.8 (Fedora 18.1.8-1.fc40) Debian 12 Kernel: Depends on container host Compiler: gcc (Debian 12.2.0-14) 12.2.0 Fedora 40 Kernel: Depends on container host Compiler: gcc 14.2.1 20240912 (Red Hat 14.2.1-3) Fedora 41 (Clang) Kernel: Depends on container host Compiler: clang 19.1.5 (Fedora 19.1.5-1.fc41) Fedora 41 Kernel: Depends on container host Compiler: gcc 14.2.1 20240912 (Red Hat 14.2.1-3) openSUSE Leap 15 Kernel: Depends on container host Compiler: gcc (SUSE Linux) 7.5.0 RHEL9 Kernel: Depends on container host Compiler: gcc 11.5.0 20240719 (Red Hat 11.5.0-2) Ubuntu 20.04 Kernel: Depends on container host Compiler: gcc (Ubuntu 9.4.0-1ubuntu1~20.04.2) 9.4.0 Ubuntu 22.04 Kernel: Depends on container host Compiler: gcc (Ubuntu 11.4.0-1ubuntu1~22.04) 11.4.0 Ubuntu 24.04 Kernel: Depends on container host Compiler: gcc (Ubuntu 13.3.0-6ubuntu2~24.04) 13.3.0 Ubuntu 24.04 32 Bit Cross Compile Kernel: Depends on container host Compiler: gcc (Ubuntu 13.3.0-6ubuntu2~24.04) 13.3.0 Alpine Kernel: Depends on container host Compiler: gcc (Alpine 14.2.0) 14.2.0 FreeBSD 14.2 Kernel: 14.2-RELEASE Compiler: clang 18.1.6 RHEL8 Kernel: Depends on container host Compiler: gcc 8.5.0 20210514 (Red Hat 8.5.0-22) Windows Server 2022 Kernel: 10.0.20348.2031 Compiler: clang 15.0.7, gcc 14.1.0 (MinGW), and MSVC VS 19.39.33521 To view detailed results, visit: https://lab.dpdk.org/results/dashboard/patchsets/33231/ UNH-IOL DPDK Community Lab To manage your email subscriptions, visit: https://lab.dpdk.org/results/dashboard/preferences/subscriptions/