From: dpdklab@iol.unh.edu
To: Test Report <test-report@dpdk.org>
Cc: dpdk-test-reports@iol.unh.edu
Subject: |SUCCESS| pw153593-153595 [PATCH] [v6,9/9] app/test: add zsda crypto
Date: Thu, 22 May 2025 11:54:56 -0700 (PDT) [thread overview]
Message-ID: <682f7300.050a0220.1c0f91.13d5SMTPIN_ADDED_MISSING@mx.google.com> (raw)
In-Reply-To: <20250522093037.2274245-10-li.hanxiao@zte.com.cn>
Test-Label: iol-unit-amd64-testing
Test-Status: SUCCESS
http://dpdk.org/patch/153595
_Testing PASS_
Submitter: Hanxiao Li <li.hanxiao@zte.com.cn>
Date: Thursday, May 22 2025 09:30:35
DPDK git baseline: Repo:dpdk
Branch: master
CommitID:fc627d7065ba5100faa928cf2edfa1622846f542
153593-153595 --> testing pass
Upstream job id: Generic-VM-Unit-Test-DPDK#28693
Test environment and result as below:
+---------------------+----------------+
| Environment | dpdk_unit_test |
+=====================+================+
| Debian 12 | PASS |
+---------------------+----------------+
| CentOS Stream 9 | PASS |
+---------------------+----------------+
| Fedora 41 | PASS |
+---------------------+----------------+
| Fedora 40 | PASS |
+---------------------+----------------+
| Fedora 40 (Clang) | PASS |
+---------------------+----------------+
| CentOS Stream 10 | PASS |
+---------------------+----------------+
| Fedora 41 (Clang) | PASS |
+---------------------+----------------+
| RHEL8 | PASS |
+---------------------+----------------+
| Ubuntu 22.04 | PASS |
+---------------------+----------------+
| Ubuntu 20.04 | PASS |
+---------------------+----------------+
| RHEL9 | PASS |
+---------------------+----------------+
| Ubuntu 24.04 | PASS |
+---------------------+----------------+
| Windows Server 2022 | PASS |
+---------------------+----------------+
Debian 12
Kernel: Depends on container host
Compiler: gcc (Debian 12.2.0-14) 12.2.0
CentOS Stream 9
Kernel: Depends on container host
Compiler: gcc 11.5.0 20240719 (Red Hat 11.5.0-2)
Fedora 41
Kernel: Depends on container host
Compiler: gcc 14.2.1 20240912 (Red Hat 14.2.1-3)
Fedora 40
Kernel: Depends on container host
Compiler: gcc 14.2.1 20240912 (Red Hat 14.2.1-3)
Fedora 40 (Clang)
Kernel: Depends on container host
Compiler: clang 18.1.8 (Fedora 18.1.8-1.fc40)
CentOS Stream 10
Kernel: Depends on container host
Compiler: gcc 14.2.1 20241104 (Red Hat 14.2.1-6)
Fedora 41 (Clang)
Kernel: Depends on container host
Compiler: clang 19.1.5 (Fedora 19.1.5-1.fc41)
RHEL8
Kernel: Depends on container host
Compiler: gcc 8.5.0 20210514 (Red Hat 8.5.0-22)
Ubuntu 22.04
Kernel: Depends on container host
Compiler: gcc (Ubuntu 11.4.0-1ubuntu1~22.04) 11.4.0
Ubuntu 20.04
Kernel: Depends on container host
Compiler: gcc (Ubuntu 9.4.0-1ubuntu1~20.04.2) 9.4.0
RHEL9
Kernel: Depends on container host
Compiler: gcc 11.5.0 20240719 (Red Hat 11.5.0-2)
Ubuntu 24.04
Kernel: Depends on container host
Compiler: gcc (Ubuntu 13.3.0-6ubuntu2~24.04) 13.3.0
Windows Server 2022
Kernel: 10.0.20348.2031
Compiler: clang 15.0.7, gcc 14.1.0 (MinGW), and MSVC VS 19.39.33521
To view detailed results, visit:
https://lab.dpdk.org/results/dashboard/patchsets/33231/
UNH-IOL DPDK Community Lab
To manage your email subscriptions, visit:
https://lab.dpdk.org/results/dashboard/preferences/subscriptions/
next prev parent reply other threads:[~2025-05-22 18:54 UTC|newest]
Thread overview: 29+ messages / expand[flat|nested] mbox.gz Atom feed top
[not found] <20250522093037.2274245-10-li.hanxiao@zte.com.cn>
2025-05-22 9:03 ` |SUCCESS| pw153593-153595 [PATCH v6 9/9] app/test: add zsda cryptodev test qemudev
2025-05-22 9:08 ` qemudev
2025-05-22 9:37 ` |SUCCESS| pw153595 " checkpatch
2025-05-22 11:03 ` 0-day Robot
2025-05-22 12:21 ` |SUCCESS| pw153593-153595 [PATCH] [v6,9/9] app/test: add zsda crypto dpdklab
2025-05-22 12:26 ` dpdklab
2025-05-22 12:26 ` dpdklab
2025-05-22 12:33 ` dpdklab
2025-05-22 12:37 ` |PENDING| " dpdklab
2025-05-22 12:37 ` |SUCCESS| " dpdklab
2025-05-22 12:40 ` dpdklab
2025-05-22 12:45 ` dpdklab
2025-05-22 12:51 ` dpdklab
2025-05-22 13:05 ` dpdklab
2025-05-22 13:21 ` dpdklab
2025-05-22 13:22 ` dpdklab
2025-05-22 13:22 ` dpdklab
2025-05-22 13:35 ` |PENDING| " dpdklab
2025-05-22 13:55 ` dpdklab
2025-05-22 14:17 ` |SUCCESS| " dpdklab
2025-05-22 14:54 ` |PENDING| " dpdklab
2025-05-22 16:35 ` |WARNING| " dpdklab
2025-05-22 17:31 ` |SUCCESS| " dpdklab
2025-05-22 18:32 ` |WARNING| " dpdklab
2025-05-22 18:36 ` dpdklab
2025-05-22 18:54 ` dpdklab [this message]
2025-05-22 19:00 ` |SUCCESS| " dpdklab
2025-05-22 19:53 ` dpdklab
2025-05-22 21:10 ` dpdklab
Reply instructions:
You may reply publicly to this message via plain-text email
using any one of the following methods:
* Save the following mbox file, import it into your mail client,
and reply-to-all from there: mbox
Avoid top-posting and favor interleaved quoting:
https://en.wikipedia.org/wiki/Posting_style#Interleaved_style
* Reply using the --to, --cc, and --in-reply-to
switches of git-send-email(1):
git send-email \
--in-reply-to=682f7300.050a0220.1c0f91.13d5SMTPIN_ADDED_MISSING@mx.google.com \
--to=dpdklab@iol.unh.edu \
--cc=dpdk-test-reports@iol.unh.edu \
--cc=test-report@dpdk.org \
/path/to/YOUR_REPLY
https://kernel.org/pub/software/scm/git/docs/git-send-email.html
* If your mail client supports setting the In-Reply-To header
via mailto: links, try the mailto: link
Be sure your reply has a Subject: header at the top and a blank line
before the message body.
This is a public inbox, see mirroring instructions
for how to clone and mirror all data and code used for this inbox;
as well as URLs for NNTP newsgroup(s).