From mboxrd@z Thu Jan 1 00:00:00 1970 Return-Path: Received: from mails.dpdk.org (mails.dpdk.org [217.70.189.124]) by inbox.dpdk.org (Postfix) with ESMTP id AAAB34678E for ; Thu, 22 May 2025 20:54:59 +0200 (CEST) Received: from mails.dpdk.org (localhost [127.0.0.1]) by mails.dpdk.org (Postfix) with ESMTP id 765E6402D9; Thu, 22 May 2025 20:54:59 +0200 (CEST) Received: from mail-qt1-f227.google.com (mail-qt1-f227.google.com [209.85.160.227]) by mails.dpdk.org (Postfix) with ESMTP id BB42D4025E for ; Thu, 22 May 2025 20:54:57 +0200 (CEST) Received: by mail-qt1-f227.google.com with SMTP id d75a77b69052e-47686580529so85647271cf.2 for ; Thu, 22 May 2025 11:54:57 -0700 (PDT) DKIM-Signature: v=1; a=rsa-sha256; c=relaxed/relaxed; d=iol.unh.edu; s=unh-iol; t=1747940097; x=1748544897; darn=dpdk.org; h=references:in-reply-to:cc:to:from:subject:message-id:date:from:to :cc:subject:date:message-id:reply-to; bh=k+bOIQXdGX9L2VtFrUNVjCdYsPIwWgwG5k0VRZ9hJcI=; b=ABD9MWF1NzPlU4SWJCMRyVYIJWku7fFTiLqcrgtqvlVXlYuHxcAJRX/lh4wTyaIrHd jsDBwACYpGag4d9L++UtbMiSxvojKxKMRL2v7wmIlL+/S1qaYV3YRUJcIxhFTXMCLkdl WUhCB8WC9zH4eRbr324yKyk/4pYl1V3EZBDSY= X-Google-DKIM-Signature: v=1; a=rsa-sha256; c=relaxed/relaxed; d=1e100.net; s=20230601; t=1747940097; x=1748544897; h=references:in-reply-to:cc:to:from:subject:message-id:date :x-gm-message-state:from:to:cc:subject:date:message-id:reply-to; bh=k+bOIQXdGX9L2VtFrUNVjCdYsPIwWgwG5k0VRZ9hJcI=; b=SIqaZ+jMOI8gDieRp30ITv+2D3dXqjwBajFtqWqwHUgG9IfBNIsjImArkTzxWcDQLm KRwemkh01JzsItu3hfRCCJ6wv5kOjJOlCagxCkASfT/m4JZGnMyp852RMmsZiJ+HSvSC ++PI5BZmSvOwjywC12ypS/jxyAW+KpmhOAJWKOicdwAZlbwSQ8VCDLb6KhbsnsncbOky q6NGq9vk6WisgOJeZc+Bj7Cp2FqSOpo/kWvSE2Qa6zgxbLF1lCKsFQ08ikDJEs+MvCpe s6Uk8enosl1JYSWinV02VMYiGAZ/HvGWx5BkPOY/FgdyIyKo7ytFQfs9rGJBgwlpsVyC sjQA== X-Gm-Message-State: AOJu0Yz15i4oJDJyofftfyLhawIpmIVkSjNSNDnzg+45S1Ub/hxxjyHR muWJY9YZ+KZHUtC0JHtyX1zZTbLn7sjkifch8hiWDZDwMLqvu4yH2pqz0WWwPXJrUfTxkDe5j8x noqH+r2jPaa/Kq6a1TRK2zHXyyqtxrNFRU1QfJd3L7Z70quQMgxhzDkxjFUmd X-Gm-Gg: ASbGncsDjKVLM2u4TlzC3kSm8+CscqVk6VbAMWiA4SOKeS+Of5WJQYJ5O9Vko4FLf5j f31D6VAFGr5FLM/vqAsYF2R7NMQByfrz4YEmxUSKqMlRNb58qKcc+OZ91CJMqGuISWBIiHtOGLC BasdSq50qMqYFHYQ6uigDpdqdyLwePv6VrGfaQuZeLe4cdWMMpw43kLk9/7MA8wtLcoJW/yY7Bd jhGEu7fYe81WsJKD1C8Bmj0onitsyDP+bbx2Rp4fMyauaeLgOShhCq84SGRifD7sDB5u+b0FYCN 0WOderZbECOmrZ8XlwLIxC1veNS8zyY2lII9 X-Google-Smtp-Source: AGHT+IH4xxZtnvT55Ct+rl7J7aN97XTOizD8EMiIB2blpkEXbnRR65nVFiBz1ZXnhmhAm4K3KGVQQcsRs4fo X-Received: by 2002:a05:622a:a11:b0:476:a03b:96ec with SMTP id d75a77b69052e-49e1f6b02e0mr136581cf.32.1747940097005; Thu, 22 May 2025 11:54:57 -0700 (PDT) Received: from postal.iol.unh.edu (postal.iol.unh.edu. [2606:4100:3880:1234::84]) by smtp-relay.gmail.com with ESMTPS id d75a77b69052e-494ae428a35sm6146681cf.11.2025.05.22.11.54.56 (version=TLS1_2 cipher=ECDHE-ECDSA-AES128-GCM-SHA256 bits=128/128); Thu, 22 May 2025 11:54:56 -0700 (PDT) X-Relaying-Domain: iol.unh.edu Date: Thu, 22 May 2025 11:54:56 -0700 (PDT) Message-ID: <682f7300.050a0220.1c0f91.13d5SMTPIN_ADDED_MISSING@mx.google.com> Received: from [172.17.0.2] (unknown [172.18.0.75]) by postal.iol.unh.edu (Postfix) with ESMTP id B2E9F6052471; Thu, 22 May 2025 14:54:56 -0400 (EDT) Subject: |SUCCESS| pw153593-153595 [PATCH] [v6,9/9] app/test: add zsda crypto From: dpdklab@iol.unh.edu To: Test Report Cc: dpdk-test-reports@iol.unh.edu In-Reply-To: <20250522093037.2274245-10-li.hanxiao@zte.com.cn> References: <20250522093037.2274245-10-li.hanxiao@zte.com.cn> Content-Type: text/plain X-BeenThere: test-report@dpdk.org X-Mailman-Version: 2.1.29 Precedence: list List-Id: automatic DPDK test reports List-Unsubscribe: , List-Archive: List-Post: List-Help: List-Subscribe: , Errors-To: test-report-bounces@dpdk.org Test-Label: iol-unit-amd64-testing Test-Status: SUCCESS http://dpdk.org/patch/153595 _Testing PASS_ Submitter: Hanxiao Li Date: Thursday, May 22 2025 09:30:35 DPDK git baseline: Repo:dpdk Branch: master CommitID:fc627d7065ba5100faa928cf2edfa1622846f542 153593-153595 --> testing pass Upstream job id: Generic-VM-Unit-Test-DPDK#28693 Test environment and result as below: +---------------------+----------------+ | Environment | dpdk_unit_test | +=====================+================+ | Debian 12 | PASS | +---------------------+----------------+ | CentOS Stream 9 | PASS | +---------------------+----------------+ | Fedora 41 | PASS | +---------------------+----------------+ | Fedora 40 | PASS | +---------------------+----------------+ | Fedora 40 (Clang) | PASS | +---------------------+----------------+ | CentOS Stream 10 | PASS | +---------------------+----------------+ | Fedora 41 (Clang) | PASS | +---------------------+----------------+ | RHEL8 | PASS | +---------------------+----------------+ | Ubuntu 22.04 | PASS | +---------------------+----------------+ | Ubuntu 20.04 | PASS | +---------------------+----------------+ | RHEL9 | PASS | +---------------------+----------------+ | Ubuntu 24.04 | PASS | +---------------------+----------------+ | Windows Server 2022 | PASS | +---------------------+----------------+ Debian 12 Kernel: Depends on container host Compiler: gcc (Debian 12.2.0-14) 12.2.0 CentOS Stream 9 Kernel: Depends on container host Compiler: gcc 11.5.0 20240719 (Red Hat 11.5.0-2) Fedora 41 Kernel: Depends on container host Compiler: gcc 14.2.1 20240912 (Red Hat 14.2.1-3) Fedora 40 Kernel: Depends on container host Compiler: gcc 14.2.1 20240912 (Red Hat 14.2.1-3) Fedora 40 (Clang) Kernel: Depends on container host Compiler: clang 18.1.8 (Fedora 18.1.8-1.fc40) CentOS Stream 10 Kernel: Depends on container host Compiler: gcc 14.2.1 20241104 (Red Hat 14.2.1-6) Fedora 41 (Clang) Kernel: Depends on container host Compiler: clang 19.1.5 (Fedora 19.1.5-1.fc41) RHEL8 Kernel: Depends on container host Compiler: gcc 8.5.0 20210514 (Red Hat 8.5.0-22) Ubuntu 22.04 Kernel: Depends on container host Compiler: gcc (Ubuntu 11.4.0-1ubuntu1~22.04) 11.4.0 Ubuntu 20.04 Kernel: Depends on container host Compiler: gcc (Ubuntu 9.4.0-1ubuntu1~20.04.2) 9.4.0 RHEL9 Kernel: Depends on container host Compiler: gcc 11.5.0 20240719 (Red Hat 11.5.0-2) Ubuntu 24.04 Kernel: Depends on container host Compiler: gcc (Ubuntu 13.3.0-6ubuntu2~24.04) 13.3.0 Windows Server 2022 Kernel: 10.0.20348.2031 Compiler: clang 15.0.7, gcc 14.1.0 (MinGW), and MSVC VS 19.39.33521 To view detailed results, visit: https://lab.dpdk.org/results/dashboard/patchsets/33231/ UNH-IOL DPDK Community Lab To manage your email subscriptions, visit: https://lab.dpdk.org/results/dashboard/preferences/subscriptions/