From mboxrd@z Thu Jan 1 00:00:00 1970 Return-Path: Received: from mails.dpdk.org (mails.dpdk.org [217.70.189.124]) by inbox.dpdk.org (Postfix) with ESMTP id 2B24E4678E for ; Thu, 22 May 2025 21:00:25 +0200 (CEST) Received: from mails.dpdk.org (localhost [127.0.0.1]) by mails.dpdk.org (Postfix) with ESMTP id 0804A402D9; Thu, 22 May 2025 21:00:25 +0200 (CEST) Received: from mail-oa1-f99.google.com (mail-oa1-f99.google.com [209.85.160.99]) by mails.dpdk.org (Postfix) with ESMTP id 742F14025E for ; Thu, 22 May 2025 21:00:24 +0200 (CEST) Received: by mail-oa1-f99.google.com with SMTP id 586e51a60fabf-2db2f23f174so3642058fac.2 for ; Thu, 22 May 2025 12:00:24 -0700 (PDT) DKIM-Signature: v=1; a=rsa-sha256; c=relaxed/relaxed; d=iol.unh.edu; s=unh-iol; t=1747940423; x=1748545223; darn=dpdk.org; h=references:in-reply-to:cc:to:from:subject:message-id:date:from:to :cc:subject:date:message-id:reply-to; bh=hXFTFvV8igYavHPYReG/MlpvePVsaJpHghCSAGttH+o=; b=Q86S0zwvKkSnihS0lbaGpo2ov/TOaQzuwL18UyNqCSjUFDDw5MokB7QXyHhh92fmtp m5MeHfJfmjR+GCVr0h9iziUmCZrEqirMaWCarL6wCXQODHjUK/+LX2ClxXETrZKhe+LX wmuZef9uDIXDTwcgoOrcLqzvO5OaCgNU8OruU= X-Google-DKIM-Signature: v=1; a=rsa-sha256; c=relaxed/relaxed; d=1e100.net; s=20230601; t=1747940423; x=1748545223; h=references:in-reply-to:cc:to:from:subject:message-id:date :x-gm-message-state:from:to:cc:subject:date:message-id:reply-to; bh=hXFTFvV8igYavHPYReG/MlpvePVsaJpHghCSAGttH+o=; b=mLvQmuu1RXI6YPP9SMaZlkTZgNZWhLXWnhtRuoFG5cxoDnG3pteJLgPNXmEV/nwcbp 3wBmscYVkQsCC0GEwkZ1iIrKzgE+jvZgZeNPtC55xwjRxac07cG4SErTQFIWxDFMDfSo thgIo0l3GAHSeKdqTsJcqSZw3PQDWDkiNremMMap+nLgHalSIf4BHQww9Y2FxJOcVJE5 Zw+3bdfM5dw9SDAxXL27QaaBNlZxEHXrzixCMW6YWcHBhBGPky9GAwSkr6qNGp6r7M4m c1bWdcjAp+QsL6JgWa8GfZfMQHoL8jAZjDzAHjLWMJMha00tWWJX/DxtFbOMtiBMqNhH Losw== X-Gm-Message-State: AOJu0Yz1NaVzetGXFyOnswxEXdAmXP7hg2pqRM70UR9KIIBx9CLtSmC8 pwgsRUJCdhPiDVUPrfY62obI3YnAUbvpX5kDmXh53YEE9Q91zB6i8uYItTUtKP1mKYVxPtP+KzA 9V5cODd+SczjErsqYrzDJtvyarZFAFsehtoTsOO+eVVT3 X-Gm-Gg: ASbGncsLQxtXwjXSugKW5X8/hJ8CqTZuVVMK+bODIskVWqRX/3kIybEyMK8r9gtGWD8 lcQtIfPVELNzTtAMogPcSzOSnpU+Q9n3hA/A4oMOWaY2utiT1OJpq/Ng/C/so9zQoCv27tc4GIu Fi8qaaExLltHlFQlJAVDj1ShlF1vpqBegHPNXwljELWmVdcZi4sOdBshxmAzlMCEYcYotLPAodf dfbDhYwgzFHreAA5mBGeiPxxIv0FRE34GH+o/msBLYiRO9OBKidTCy9hRzIo2mpQkQTl5XCEmfp 9sBFmsKp6tYYuDWP/I1HaNR+J+KWBopuCCsPiHTpk9zr2lv0u90QtSh0Fkc= X-Google-Smtp-Source: AGHT+IGUP7F0nBwANNqlDRmln3hvbz2fmu3u/USc/0USIARxPD55vV32xENtDUTWclTK5L3hbPoqNXewWGE2 X-Received: by 2002:a05:6871:a10c:b0:29e:65b3:27f5 with SMTP id 586e51a60fabf-2e3c1c97f09mr15577991fac.19.1747940423444; Thu, 22 May 2025 12:00:23 -0700 (PDT) Received: from postal.iol.unh.edu (postal.iol.unh.edu. [132.177.123.84]) by smtp-relay.gmail.com with ESMTPS id 586e51a60fabf-2e3c06083ebsm725761fac.2.2025.05.22.12.00.23 (version=TLS1_2 cipher=ECDHE-ECDSA-AES128-GCM-SHA256 bits=128/128); Thu, 22 May 2025 12:00:23 -0700 (PDT) X-Relaying-Domain: iol.unh.edu Date: Thu, 22 May 2025 12:00:23 -0700 (PDT) Message-ID: <682f7447.050a0220.1f8f67.6485SMTPIN_ADDED_MISSING@mx.google.com> Received: from [172.17.0.2] (unknown [172.18.0.76]) by postal.iol.unh.edu (Postfix) with ESMTP id E280E6052471; Thu, 22 May 2025 15:00:22 -0400 (EDT) Subject: |SUCCESS| pw153593-153595 [PATCH] [v6,9/9] app/test: add zsda crypto From: dpdklab@iol.unh.edu To: Test Report Cc: dpdk-test-reports@iol.unh.edu In-Reply-To: <20250522093037.2274245-10-li.hanxiao@zte.com.cn> References: <20250522093037.2274245-10-li.hanxiao@zte.com.cn> Content-Type: text/plain X-BeenThere: test-report@dpdk.org X-Mailman-Version: 2.1.29 Precedence: list List-Id: automatic DPDK test reports List-Unsubscribe: , List-Archive: List-Post: List-Help: List-Subscribe: , Errors-To: test-report-bounces@dpdk.org Test-Label: iol-unit-amd64-testing Test-Status: SUCCESS http://dpdk.org/patch/153595 _Testing PASS_ Submitter: Hanxiao Li Date: Thursday, May 22 2025 09:30:35 DPDK git baseline: Repo:dpdk Branch: master CommitID:fc627d7065ba5100faa928cf2edfa1622846f542 153593-153595 --> testing pass Upstream job id: Generic-VM-Unit-Test-DPDK#28694 Test environment and result as below: +---------------------+----------------+ | Environment | dpdk_unit_test | +=====================+================+ | Debian 12 | PASS | +---------------------+----------------+ | CentOS Stream 9 | PASS | +---------------------+----------------+ | Fedora 41 | PASS | +---------------------+----------------+ | Fedora 40 | PASS | +---------------------+----------------+ | Fedora 40 (Clang) | PASS | +---------------------+----------------+ | CentOS Stream 10 | PASS | +---------------------+----------------+ | Fedora 41 (Clang) | PASS | +---------------------+----------------+ | RHEL8 | PASS | +---------------------+----------------+ | Ubuntu 22.04 | PASS | +---------------------+----------------+ | Ubuntu 20.04 | PASS | +---------------------+----------------+ | RHEL9 | PASS | +---------------------+----------------+ | Ubuntu 24.04 | PASS | +---------------------+----------------+ | Windows Server 2022 | PASS | +---------------------+----------------+ Debian 12 Kernel: Depends on container host Compiler: gcc (Debian 12.2.0-14) 12.2.0 CentOS Stream 9 Kernel: Depends on container host Compiler: gcc 11.5.0 20240719 (Red Hat 11.5.0-2) Fedora 41 Kernel: Depends on container host Compiler: gcc 14.2.1 20240912 (Red Hat 14.2.1-3) Fedora 40 Kernel: Depends on container host Compiler: gcc 14.2.1 20240912 (Red Hat 14.2.1-3) Fedora 40 (Clang) Kernel: Depends on container host Compiler: clang 18.1.8 (Fedora 18.1.8-1.fc40) CentOS Stream 10 Kernel: Depends on container host Compiler: gcc 14.2.1 20241104 (Red Hat 14.2.1-6) Fedora 41 (Clang) Kernel: Depends on container host Compiler: clang 19.1.5 (Fedora 19.1.5-1.fc41) RHEL8 Kernel: Depends on container host Compiler: gcc 8.5.0 20210514 (Red Hat 8.5.0-22) Ubuntu 22.04 Kernel: Depends on container host Compiler: gcc (Ubuntu 11.4.0-1ubuntu1~22.04) 11.4.0 Ubuntu 20.04 Kernel: Depends on container host Compiler: gcc (Ubuntu 9.4.0-1ubuntu1~20.04.2) 9.4.0 RHEL9 Kernel: Depends on container host Compiler: gcc 11.5.0 20240719 (Red Hat 11.5.0-2) Ubuntu 24.04 Kernel: Depends on container host Compiler: gcc (Ubuntu 13.3.0-6ubuntu2~24.04) 13.3.0 Windows Server 2022 Kernel: 10.0.20348.2031 Compiler: clang 15.0.7, gcc 14.1.0 (MinGW), and MSVC VS 19.39.33521 To view detailed results, visit: https://lab.dpdk.org/results/dashboard/patchsets/33231/ UNH-IOL DPDK Community Lab To manage your email subscriptions, visit: https://lab.dpdk.org/results/dashboard/preferences/subscriptions/