From mboxrd@z Thu Jan 1 00:00:00 1970 Return-Path: Received: from mails.dpdk.org (mails.dpdk.org [217.70.189.124]) by inbox.dpdk.org (Postfix) with ESMTP id 991044678E for ; Thu, 22 May 2025 21:04:39 +0200 (CEST) Received: from mails.dpdk.org (localhost [127.0.0.1]) by mails.dpdk.org (Postfix) with ESMTP id 7347A402D9; Thu, 22 May 2025 21:04:39 +0200 (CEST) Received: from mail-pf1-f228.google.com (mail-pf1-f228.google.com [209.85.210.228]) by mails.dpdk.org (Postfix) with ESMTP id 62F1E4025E for ; Thu, 22 May 2025 21:04:38 +0200 (CEST) Received: by mail-pf1-f228.google.com with SMTP id d2e1a72fcca58-7424ccbef4eso8081307b3a.2 for ; Thu, 22 May 2025 12:04:38 -0700 (PDT) DKIM-Signature: v=1; a=rsa-sha256; c=relaxed/relaxed; d=iol.unh.edu; s=unh-iol; t=1747940677; x=1748545477; darn=dpdk.org; h=references:in-reply-to:cc:to:from:subject:message-id:date:from:to :cc:subject:date:message-id:reply-to; bh=B6dM1dWgeozg5bN+H7frrEcD7d4yotnDVdMnE73DAfA=; b=cTsTUzMhemreOE2gK95j574El4FD9NGMAgstoBJ29TFcsZJc1LZN9aPv6PrG76aN2m udQ82QQ0/XSf1dQJvCZq9BZrj3+F+D8mE8oi/SHgiZah4LoqCXZoO+l14xeqr2UWIYGf bTCVk9+0vqTzuZtJNP+vZQu4RQmYXKju+Ku04= X-Google-DKIM-Signature: v=1; a=rsa-sha256; c=relaxed/relaxed; d=1e100.net; s=20230601; t=1747940677; x=1748545477; h=references:in-reply-to:cc:to:from:subject:message-id:date :x-gm-message-state:from:to:cc:subject:date:message-id:reply-to; bh=B6dM1dWgeozg5bN+H7frrEcD7d4yotnDVdMnE73DAfA=; b=tnxRI6BWYRBq3uYabLqDvjmyi9tasQlKafLUeZ4IjyugoVZB0MtpU7ag2uaMynxtV9 WweZ52UK9mKMPLcbyavKTfWBZsidT3rSjGilIOGDj0MxHvtoQqZYcuR+D435FywuGXhR raKJn3n7VEevcULwzqGMtLuicCIa4REZxxQ1cSvfarQLi9nHvu5TsZrv5b2+SgCfSFot zThMMexoC4rrLniRVdj15FwESS2saOibNLIhUntZ3u9b5kpBkwkSFNxiwer3zNbjbFyW kGnQ6IcX265Bfi5itbgbx4jtAIAvbfLEly4UFPvQ/1NYs2jBBycED1dsv2uoNskaBASg Todg== X-Gm-Message-State: AOJu0YyzI71tpGmXwIH0FdK8PgQKEIDU6izgOfO2iQt+U2SYBR0LPz73 w9wjABQxNj0aHNrauOVsqGVXsvfoG4t7/fX83hQnK5+lc9vDKOblvRNDujuy21GycJGg49v0RUe WBKpNbj/pmEySAPjVbVv40HgPuJU8jxJdB2NW2zIMT+XZfk3bMLYBRd3PUvJ/ X-Gm-Gg: ASbGncsjI494dL/A2bYrLy2eGaYV3qP8xcN9FNmX2LtNSoibLDpa8UcVHzQqg7c3DQw OveR36RSTi8UzSnCuCi5KeqmMZzFRv8eFCEqhWLq7X/esEXfZF5ukfu5AQPimY4b00I6fAeyk+2 0xM5FxHWVnXjUDnVNPu72kyGaoc4lqGVKyHqwu15yba2m3L9X8INhgBLV4BWNa6uMvWd9RJk5c3 v7WOHn5nteTih8JSQFyLyIIbOdpbOCSpamYS0JXjPmYS1HEORwHReIzseBh0i3DkoZ1M/Z5bnx8 C/1vo59Jn/JTCD52MeDANUmhjuiHWDaUqQCs X-Google-Smtp-Source: AGHT+IExYpIXfCBssLKGciYGqu0qQ2C8/SHEERhukSikaioHP+GlT5aD4HUt1QEvEiDjNaAmWWUwjuC+uTUJ X-Received: by 2002:a17:90b:35c4:b0:2ee:db8a:2a01 with SMTP id 98e67ed59e1d1-310e973c3d2mr447324a91.30.1747940676828; Thu, 22 May 2025 12:04:36 -0700 (PDT) Received: from postal.iol.unh.edu (postal.iol.unh.edu. [2606:4100:3880:1234::84]) by smtp-relay.gmail.com with ESMTPS id 98e67ed59e1d1-30ea97ba761sm214201a91.1.2025.05.22.12.04.36 (version=TLS1_2 cipher=ECDHE-ECDSA-AES128-GCM-SHA256 bits=128/128); Thu, 22 May 2025 12:04:36 -0700 (PDT) X-Relaying-Domain: iol.unh.edu Date: Thu, 22 May 2025 12:04:36 -0700 (PDT) Message-ID: <682f7544.170a0220.24ece6.acc9SMTPIN_ADDED_MISSING@mx.google.com> Received: from [172.17.0.2] (unknown [172.18.0.76]) by postal.iol.unh.edu (Postfix) with ESMTP id 0BAD9605247D; Thu, 22 May 2025 15:04:36 -0400 (EDT) Subject: |WARNING| pw153600 [PATCH] common/cnxk: fix E-tag pattern parsing From: dpdklab@iol.unh.edu To: Test Report Cc: dpdk-test-reports@iol.unh.edu In-Reply-To: <20250522101116.2134691-1-psatheesh@marvell.com> References: <20250522101116.2134691-1-psatheesh@marvell.com> Content-Type: text/plain X-BeenThere: test-report@dpdk.org X-Mailman-Version: 2.1.29 Precedence: list List-Id: automatic DPDK test reports List-Unsubscribe: , List-Archive: List-Post: List-Help: List-Subscribe: , Errors-To: test-report-bounces@dpdk.org Test-Label: iol-compile-amd64-testing Test-Status: WARNING http://dpdk.org/patch/153600 _Testing issues_ Submitter: Satheesh Paul Antonysamy Date: Thursday, May 22 2025 10:11:16 DPDK git baseline: Repo:dpdk Branch: master CommitID:61af1f940aef58b1c44ff5b9ba3bae480c8ca856 153600 --> testing issues Upstream job id: Generic-DPDK-Compile-Meson#390598 Test environment and result as below: +-----------------------------------+--------------------+-------------------+------------------+-------------------+ | Environment | dpdk_meson_compile | dpdk_compile_spdk | dpdk_compile_ovs | dpdk_msvc_compile | +===================================+====================+===================+==================+===================+ | CentOS Stream 9 | PASS | PASS | SKIPPED | SKIPPED | +-----------------------------------+--------------------+-------------------+------------------+-------------------+ | Debian 12 | PASS | PASS | SKIPPED | SKIPPED | +-----------------------------------+--------------------+-------------------+------------------+-------------------+ | CentOS Stream 10 | PASS | SKIPPED | SKIPPED | SKIPPED | +-----------------------------------+--------------------+-------------------+------------------+-------------------+ | Fedora 40 (Clang) | PASS | WARN | SKIPPED | SKIPPED | +-----------------------------------+--------------------+-------------------+------------------+-------------------+ | Fedora 41 (Clang) | PASS | WARN | PASS | SKIPPED | +-----------------------------------+--------------------+-------------------+------------------+-------------------+ | Ubuntu 20.04 | PASS | SKIPPED | SKIPPED | SKIPPED | +-----------------------------------+--------------------+-------------------+------------------+-------------------+ | openSUSE Leap 15 | PASS | SKIPPED | SKIPPED | SKIPPED | +-----------------------------------+--------------------+-------------------+------------------+-------------------+ | Fedora 41 | PASS | PASS | PASS | SKIPPED | +-----------------------------------+--------------------+-------------------+------------------+-------------------+ | RHEL8 | PASS | SKIPPED | SKIPPED | SKIPPED | +-----------------------------------+--------------------+-------------------+------------------+-------------------+ | Ubuntu 22.04 | PASS | PASS | SKIPPED | SKIPPED | +-----------------------------------+--------------------+-------------------+------------------+-------------------+ | Ubuntu 24.04 | PASS | PASS | PASS | SKIPPED | +-----------------------------------+--------------------+-------------------+------------------+-------------------+ | Ubuntu 24.04 32 Bit Cross Compile | PASS | SKIPPED | SKIPPED | SKIPPED | +-----------------------------------+--------------------+-------------------+------------------+-------------------+ | Alpine | PASS | SKIPPED | SKIPPED | SKIPPED | +-----------------------------------+--------------------+-------------------+------------------+-------------------+ | FreeBSD 14.2 | PASS | SKIPPED | SKIPPED | SKIPPED | +-----------------------------------+--------------------+-------------------+------------------+-------------------+ | Fedora 40 | PASS | PASS | SKIPPED | SKIPPED | +-----------------------------------+--------------------+-------------------+------------------+-------------------+ | RHEL9 | PASS | SKIPPED | SKIPPED | SKIPPED | +-----------------------------------+--------------------+-------------------+------------------+-------------------+ | Windows Server 2022 | SKIPPED | SKIPPED | SKIPPED | PASS | +-----------------------------------+--------------------+-------------------+------------------+-------------------+ ==== 20 line log output for Fedora 41 (Clang) (dpdk_compile_spdk): ==== --- Failed to get log output --- ==== End log output ==== CentOS Stream 9 Kernel: Depends on container host Compiler: gcc 11.5.0 20240719 (Red Hat 11.5.0-2) Debian 12 Kernel: Depends on container host Compiler: gcc (Debian 12.2.0-14) 12.2.0 CentOS Stream 10 Kernel: Depends on container host Compiler: gcc 14.2.1 20241104 (Red Hat 14.2.1-6) Fedora 40 (Clang) Kernel: Depends on container host Compiler: clang 18.1.8 (Fedora 18.1.8-1.fc40) Fedora 41 (Clang) Kernel: Depends on container host Compiler: clang 19.1.5 (Fedora 19.1.5-1.fc41) Ubuntu 20.04 Kernel: 4.19.325-0419325-generic Compiler: gcc (Ubuntu 9.4.0-1ubuntu1~20.04.2) 9.4.0 openSUSE Leap 15 Kernel: Depends on container host Compiler: gcc (SUSE Linux) 7.5.0 Fedora 41 Kernel: Depends on container host Compiler: gcc 14.2.1 20240912 (Red Hat 14.2.1-3) RHEL8 Kernel: Depends on container host Compiler: gcc 8.5.0 20210514 (Red Hat 8.5.0-22) Ubuntu 22.04 Kernel: Depends on container host Compiler: gcc (Ubuntu 11.4.0-1ubuntu1~22.04) 11.4.0 Ubuntu 24.04 Kernel: Depends on container host Compiler: gcc (Ubuntu 13.3.0-6ubuntu2~24.04) 13.3.0 Ubuntu 24.04 32 Bit Cross Compile Kernel: Depends on container host Compiler: gcc (Ubuntu 13.3.0-6ubuntu2~24.04) 13.3.0 Alpine Kernel: Depends on container host Compiler: gcc (Alpine 14.2.0) 14.2.0 FreeBSD 14.2 Kernel: 14.2-RELEASE Compiler: clang 18.1.6 Fedora 40 Kernel: Depends on container host Compiler: gcc 14.2.1 20240912 (Red Hat 14.2.1-3) RHEL9 Kernel: Depends on container host Compiler: gcc 11.5.0 20240719 (Red Hat 11.5.0-2) Windows Server 2022 Kernel: 10.0.20348.2031 Compiler: clang 15.0.7, gcc 14.1.0 (MinGW), and MSVC VS 19.39.33521 To view detailed results, visit: https://lab.dpdk.org/results/dashboard/patchsets/33232/ UNH-IOL DPDK Community Lab To manage your email subscriptions, visit: https://lab.dpdk.org/results/dashboard/preferences/subscriptions/