From mboxrd@z Thu Jan 1 00:00:00 1970 Return-Path: Received: from mails.dpdk.org (mails.dpdk.org [217.70.189.124]) by inbox.dpdk.org (Postfix) with ESMTP id 1254C4678E for ; Thu, 22 May 2025 21:21:23 +0200 (CEST) Received: from mails.dpdk.org (localhost [127.0.0.1]) by mails.dpdk.org (Postfix) with ESMTP id DC839402D9; Thu, 22 May 2025 21:21:22 +0200 (CEST) Received: from mail-il1-f225.google.com (mail-il1-f225.google.com [209.85.166.225]) by mails.dpdk.org (Postfix) with ESMTP id DFBE44025E for ; Thu, 22 May 2025 21:21:21 +0200 (CEST) Received: by mail-il1-f225.google.com with SMTP id e9e14a558f8ab-3da831c17faso28063745ab.3 for ; Thu, 22 May 2025 12:21:21 -0700 (PDT) DKIM-Signature: v=1; a=rsa-sha256; c=relaxed/relaxed; d=iol.unh.edu; s=unh-iol; t=1747941681; x=1748546481; darn=dpdk.org; h=references:in-reply-to:cc:to:from:subject:message-id:date:from:to :cc:subject:date:message-id:reply-to; bh=XT7nbmPGAWbiKlhCkIGitS36bQq3wcr1Kzrsns5PoiY=; b=gvXMMSyNimuXSbJCaSZnuJT6pImE/haq8Zph+OLqRbuyrxk8kygQaaO1MtAAZBFU3y d2IudjyGE/9nYYEEBtnG/qiwGxFKr8rz+t/ompZq4ujDffEyIBBTi0E36UUMXbP1Vp11 R1/lskX6JrCjwVt0WS28BKOB99TshciLQ4urw= X-Google-DKIM-Signature: v=1; a=rsa-sha256; c=relaxed/relaxed; d=1e100.net; s=20230601; t=1747941681; x=1748546481; h=references:in-reply-to:cc:to:from:subject:message-id:date :x-gm-message-state:from:to:cc:subject:date:message-id:reply-to; bh=XT7nbmPGAWbiKlhCkIGitS36bQq3wcr1Kzrsns5PoiY=; b=J+0K/OFMuLvNL0mrJGLHb1xzoHZBxxH5OApND/2pcygqfAwYoSGQm1elP4IIUo0Y3T PGbY4Qh1bUJ1D0DH5c6OZuHF5kpXhucp5dCTNop+b3xMORudi//xobmmHhhnqOF+5k0b 8RbNa/hcqwcegBLfScz0uTHVXLZ5a6flUI7sdSnqx1bIPix59//rrLGXN0iJ8N1oBSTV 4WWmycBO//NgF+VgbNC47INBl0IDFQ6uBjo+hMSltphtWSq2/dvfF/DwBa5ZXDDVaEx/ dO4h1A5YFS6D12kLnwmrqe28Blyyasgj4Nxx1nUBl3UqDNWlDUT92208jKCt2DMWIsXu 833g== X-Gm-Message-State: AOJu0YxxJ9xfWlTOl7EvAFOARhdiHko0CzI/asJaOLet2gLwiIOmJ0Sv Fz2kX1s9i1hM10EmZ3amkg1H81QVC0s26ryJH++FO6kGncZNYYIQCH2ZK/e/GwGexmLjvs4MOS/ h456FrN/ITR7i3A8q4GNJlHPUZ2jcFV7Kg2r5vkdNXzuvSLL+8uuo0ZUSMAAK X-Gm-Gg: ASbGncsXG+8P0ccTabmCcjX7Z4vBSYpMsMa9Yiiv6/TRS2ogD4CMqAcW1sY/IDixKcW dYyMkU/jhx6uIFHLcvFgmGpEOPNXekJgCeV740Y13yJRnqgTttbfuYEVaXcdwP3Vh98gJ42q6qY t1ah3NB154oOCzQfiJxPbXgKkaVKZCSv0+j2EP++jIZI2BHNcTr0tCwNL1M9I26SOtnKkY6SOI7 ipcVk6sA2Lfp5RGcKyqU4VcEZ2U1rr7FLAlXnchmwQaEkyVNGWnKw+9ZCRJg750dfLJ21dOGehB EhyVitJiNNYaZNlS/QtZDPsKvXx2CQl4qvHg X-Google-Smtp-Source: AGHT+IHskpdAweYWAg5QBpa6geJn3pikJn0cx5vCey4cUvRR86/ijNX9oFo5uB3DMmCx2JajLCdyFlgc9LZd X-Received: by 2002:a05:6e02:3b89:b0:3d9:6cb6:fa52 with SMTP id e9e14a558f8ab-3db8431398fmr317926635ab.12.1747941680927; Thu, 22 May 2025 12:21:20 -0700 (PDT) Received: from postal.iol.unh.edu (postal.iol.unh.edu. [2606:4100:3880:1234::84]) by smtp-relay.gmail.com with ESMTPS id e9e14a558f8ab-3dc7c61f3efsm3175855ab.8.2025.05.22.12.21.20 (version=TLS1_2 cipher=ECDHE-ECDSA-AES128-GCM-SHA256 bits=128/128); Thu, 22 May 2025 12:21:20 -0700 (PDT) X-Relaying-Domain: iol.unh.edu Date: Thu, 22 May 2025 12:21:20 -0700 (PDT) Message-ID: <682f7930.050a0220.197c1c.1aabSMTPIN_ADDED_MISSING@mx.google.com> Received: from [172.17.0.2] (unknown [172.18.0.76]) by postal.iol.unh.edu (Postfix) with ESMTP id 4AB036052471; Thu, 22 May 2025 15:21:20 -0400 (EDT) Subject: |WARNING| pw153600 [PATCH] common/cnxk: fix E-tag pattern parsing From: dpdklab@iol.unh.edu To: Test Report Cc: dpdk-test-reports@iol.unh.edu In-Reply-To: <20250522101116.2134691-1-psatheesh@marvell.com> References: <20250522101116.2134691-1-psatheesh@marvell.com> Content-Type: text/plain X-BeenThere: test-report@dpdk.org X-Mailman-Version: 2.1.29 Precedence: list List-Id: automatic DPDK test reports List-Unsubscribe: , List-Archive: List-Post: List-Help: List-Subscribe: , Errors-To: test-report-bounces@dpdk.org Test-Label: iol-compile-amd64-testing Test-Status: WARNING http://dpdk.org/patch/153600 _Testing issues_ Submitter: Satheesh Paul Antonysamy Date: Thursday, May 22 2025 10:11:16 DPDK git baseline: Repo:dpdk Branch: master CommitID:61af1f940aef58b1c44ff5b9ba3bae480c8ca856 153600 --> testing issues Upstream job id: Windows-Compile-DPDK-Native#28573 Test environment and result as below: +-----------------------------------+--------------------+-------------------+------------------+-------------------+-------------------------+ | Environment | dpdk_meson_compile | dpdk_compile_spdk | dpdk_compile_ovs | dpdk_msvc_compile | dpdk_llvm_clang_compile | +===================================+====================+===================+==================+===================+=========================+ | CentOS Stream 9 | PASS | PASS | SKIPPED | SKIPPED | SKIPPED | +-----------------------------------+--------------------+-------------------+------------------+-------------------+-------------------------+ | Debian 12 | PASS | PASS | SKIPPED | SKIPPED | SKIPPED | +-----------------------------------+--------------------+-------------------+------------------+-------------------+-------------------------+ | CentOS Stream 10 | PASS | SKIPPED | SKIPPED | SKIPPED | SKIPPED | +-----------------------------------+--------------------+-------------------+------------------+-------------------+-------------------------+ | Fedora 40 (Clang) | PASS | WARN | SKIPPED | SKIPPED | SKIPPED | +-----------------------------------+--------------------+-------------------+------------------+-------------------+-------------------------+ | Fedora 41 (Clang) | PASS | WARN | PASS | SKIPPED | SKIPPED | +-----------------------------------+--------------------+-------------------+------------------+-------------------+-------------------------+ | Ubuntu 20.04 | PASS | SKIPPED | SKIPPED | SKIPPED | SKIPPED | +-----------------------------------+--------------------+-------------------+------------------+-------------------+-------------------------+ | openSUSE Leap 15 | PASS | SKIPPED | SKIPPED | SKIPPED | SKIPPED | +-----------------------------------+--------------------+-------------------+------------------+-------------------+-------------------------+ | Fedora 41 | PASS | PASS | PASS | SKIPPED | SKIPPED | +-----------------------------------+--------------------+-------------------+------------------+-------------------+-------------------------+ | RHEL8 | PASS | SKIPPED | SKIPPED | SKIPPED | SKIPPED | +-----------------------------------+--------------------+-------------------+------------------+-------------------+-------------------------+ | Ubuntu 22.04 | PASS | PASS | SKIPPED | SKIPPED | SKIPPED | +-----------------------------------+--------------------+-------------------+------------------+-------------------+-------------------------+ | Ubuntu 24.04 | PASS | PASS | PASS | SKIPPED | SKIPPED | +-----------------------------------+--------------------+-------------------+------------------+-------------------+-------------------------+ | Ubuntu 24.04 32 Bit Cross Compile | PASS | SKIPPED | SKIPPED | SKIPPED | SKIPPED | +-----------------------------------+--------------------+-------------------+------------------+-------------------+-------------------------+ | Alpine | PASS | SKIPPED | SKIPPED | SKIPPED | SKIPPED | +-----------------------------------+--------------------+-------------------+------------------+-------------------+-------------------------+ | FreeBSD 14.2 | PASS | SKIPPED | SKIPPED | SKIPPED | SKIPPED | +-----------------------------------+--------------------+-------------------+------------------+-------------------+-------------------------+ | Fedora 40 | PASS | PASS | SKIPPED | SKIPPED | SKIPPED | +-----------------------------------+--------------------+-------------------+------------------+-------------------+-------------------------+ | RHEL9 | PASS | SKIPPED | SKIPPED | SKIPPED | SKIPPED | +-----------------------------------+--------------------+-------------------+------------------+-------------------+-------------------------+ | Windows Server 2022 | SKIPPED | SKIPPED | SKIPPED | PASS | PASS | +-----------------------------------+--------------------+-------------------+------------------+-------------------+-------------------------+ ==== 20 line log output for Fedora 41 (Clang) (dpdk_compile_spdk): ==== --- Failed to get log output --- ==== End log output ==== CentOS Stream 9 Kernel: Depends on container host Compiler: gcc 11.5.0 20240719 (Red Hat 11.5.0-2) Debian 12 Kernel: Depends on container host Compiler: gcc (Debian 12.2.0-14) 12.2.0 CentOS Stream 10 Kernel: Depends on container host Compiler: gcc 14.2.1 20241104 (Red Hat 14.2.1-6) Fedora 40 (Clang) Kernel: Depends on container host Compiler: clang 18.1.8 (Fedora 18.1.8-1.fc40) Fedora 41 (Clang) Kernel: Depends on container host Compiler: clang 19.1.5 (Fedora 19.1.5-1.fc41) Ubuntu 20.04 Kernel: 4.19.325-0419325-generic Compiler: gcc (Ubuntu 9.4.0-1ubuntu1~20.04.2) 9.4.0 openSUSE Leap 15 Kernel: Depends on container host Compiler: gcc (SUSE Linux) 7.5.0 Fedora 41 Kernel: Depends on container host Compiler: gcc 14.2.1 20240912 (Red Hat 14.2.1-3) RHEL8 Kernel: Depends on container host Compiler: gcc 8.5.0 20210514 (Red Hat 8.5.0-22) Ubuntu 22.04 Kernel: Depends on container host Compiler: gcc (Ubuntu 11.4.0-1ubuntu1~22.04) 11.4.0 Ubuntu 24.04 Kernel: Depends on container host Compiler: gcc (Ubuntu 13.3.0-6ubuntu2~24.04) 13.3.0 Ubuntu 24.04 32 Bit Cross Compile Kernel: Depends on container host Compiler: gcc (Ubuntu 13.3.0-6ubuntu2~24.04) 13.3.0 Alpine Kernel: Depends on container host Compiler: gcc (Alpine 14.2.0) 14.2.0 FreeBSD 14.2 Kernel: 14.2-RELEASE Compiler: clang 18.1.6 Fedora 40 Kernel: Depends on container host Compiler: gcc 14.2.1 20240912 (Red Hat 14.2.1-3) RHEL9 Kernel: Depends on container host Compiler: gcc 11.5.0 20240719 (Red Hat 11.5.0-2) Windows Server 2022 Kernel: 10.0.20348.2031 Compiler: clang 15.0.7, gcc 14.1.0 (MinGW), and MSVC VS 19.39.33521 To view detailed results, visit: https://lab.dpdk.org/results/dashboard/patchsets/33232/ UNH-IOL DPDK Community Lab To manage your email subscriptions, visit: https://lab.dpdk.org/results/dashboard/preferences/subscriptions/