From mboxrd@z Thu Jan 1 00:00:00 1970 Return-Path: Received: from mails.dpdk.org (mails.dpdk.org [217.70.189.124]) by inbox.dpdk.org (Postfix) with ESMTP id 1C57B4678E for ; Thu, 22 May 2025 21:22:30 +0200 (CEST) Received: from mails.dpdk.org (localhost [127.0.0.1]) by mails.dpdk.org (Postfix) with ESMTP id 0C0D6402D9; Thu, 22 May 2025 21:22:30 +0200 (CEST) Received: from mail-pg1-f228.google.com (mail-pg1-f228.google.com [209.85.215.228]) by mails.dpdk.org (Postfix) with ESMTP id DB5044025E for ; Thu, 22 May 2025 21:22:28 +0200 (CEST) Received: by mail-pg1-f228.google.com with SMTP id 41be03b00d2f7-b0b2d0b2843so6178861a12.2 for ; Thu, 22 May 2025 12:22:28 -0700 (PDT) DKIM-Signature: v=1; a=rsa-sha256; c=relaxed/relaxed; d=iol.unh.edu; s=unh-iol; t=1747941748; x=1748546548; darn=dpdk.org; h=references:in-reply-to:cc:to:from:subject:message-id:date:from:to :cc:subject:date:message-id:reply-to; bh=UcRuL4Bihza97F8S+3lUC7qoG0YWUYOwIRLkrPhUtg8=; b=ExNANb7h3zZA2pOdZKUlW9jm5tPOv90vsHHDlLbeMDlNv46P65qqJcaJF+dh0/aQxZ IQ/jwJlNxXUxEm0aYhcyfUQ+cEzCPX82r2em+3m3It1DtO1HO2rAl38sYdLq9937flOQ RnfynsRO/dzIo9WbxfbTQg8OAdvO9BcP41ir0= X-Google-DKIM-Signature: v=1; a=rsa-sha256; c=relaxed/relaxed; d=1e100.net; s=20230601; t=1747941748; x=1748546548; h=references:in-reply-to:cc:to:from:subject:message-id:date :x-gm-message-state:from:to:cc:subject:date:message-id:reply-to; bh=UcRuL4Bihza97F8S+3lUC7qoG0YWUYOwIRLkrPhUtg8=; b=IlW+COQlf9pZBczf5LK7IGHxHwOh+xJxReDQItzecLq7gVABl3pkLQm+mveDSRbbiU T/mcTYxyx8hu2jV/xLZco446k7+6ErF+ydK2waNjiWCEJm93J2u0DM6XlDVGPkDioYow 6jk9e7gGKz4UQe1O4mv5JXGHTJGBEY8/t1kWWruGhuV1/W0PUguJjoDd6YqSvAB3G99C E/3hR8JOrSArincmvIAw13TBcHBe5UHaOVevqrdk2uA3+RQ54Y26zP/ezDRlsUI0/otZ lR2H6pRJRa2J62qW/T6/GebQQGUhEBinj7Et5QWBgtXef4U4yuKmnJyZju7VNGV2amKc piSg== X-Gm-Message-State: AOJu0Yx+lVfhdxqrhsnye0bA0ZVAxAX7htSSkscYHXT/bxZhnded0lPf OFurgqgURlhcoRop9Og51NxcoNNslTNkBWC1NvsO0g+MjhjZvObEbk/rT96G9JTT/c2J6yvbXWQ aBoJ5eyaETJ3jsae5jaN+zqd5AtYABAy+I1cThqY+R5aG X-Gm-Gg: ASbGnctsq+kLhAPHA5tL94A9rOmjIdRXbbXeq2+ABzBGiJUdaHiT9CE9CIxFDxCwp0k HPsQvYSzGx/EgsIi5pmsLaVJAjisx9tmm1M1u5L/F8Y8vcTEhpaSAKLOlJZQFgk6IwbJNnpdfii awxrFWeAdQdLg4eryHjiTjMkM8/FSNLBCWfuC8FipPXV1uWkfbFTBOfZ8GbEISSoACwJk+q+7OY I4hbQVlQGut6GdL9L3hkZUtslVelbGl1ghNB7FEMXaJsYOHELec07WRTs+wuBrSgELPjF14cgAV ZXXmbjv3RA/0yXXvV0mTlJwK5D57ZsnjuZVJMOPfYjKaizeKd9xT0Nd+JqY= X-Google-Smtp-Source: AGHT+IG94otC4c9m/ZNAjLMq2xPYU7Ld7pJN7JshSQrbkhVcyKC6WPOaru5ApNQWgcehrB+Ydx/BlJbd65Gc X-Received: by 2002:a17:902:f705:b0:221:331:1d46 with SMTP id d9443c01a7336-231d438a287mr336652275ad.2.1747941747950; Thu, 22 May 2025 12:22:27 -0700 (PDT) Received: from postal.iol.unh.edu (postal.iol.unh.edu. [132.177.123.84]) by smtp-relay.gmail.com with ESMTPS id d9443c01a7336-231d4aa6c63sm8277005ad.12.2025.05.22.12.22.27 (version=TLS1_2 cipher=ECDHE-ECDSA-AES128-GCM-SHA256 bits=128/128); Thu, 22 May 2025 12:22:27 -0700 (PDT) X-Relaying-Domain: iol.unh.edu Date: Thu, 22 May 2025 12:22:27 -0700 (PDT) Message-ID: <682f7973.170a0220.19bab3.c84fSMTPIN_ADDED_MISSING@mx.google.com> Received: from [172.17.0.2] (unknown [172.18.0.76]) by postal.iol.unh.edu (Postfix) with ESMTP id 135296052471; Thu, 22 May 2025 15:22:27 -0400 (EDT) Subject: |WARNING| pw153600 [PATCH] common/cnxk: fix E-tag pattern parsing From: dpdklab@iol.unh.edu To: Test Report Cc: dpdk-test-reports@iol.unh.edu In-Reply-To: <20250522101116.2134691-1-psatheesh@marvell.com> References: <20250522101116.2134691-1-psatheesh@marvell.com> Content-Type: text/plain X-BeenThere: test-report@dpdk.org X-Mailman-Version: 2.1.29 Precedence: list List-Id: automatic DPDK test reports List-Unsubscribe: , List-Archive: List-Post: List-Help: List-Subscribe: , Errors-To: test-report-bounces@dpdk.org Test-Label: iol-compile-amd64-testing Test-Status: WARNING http://dpdk.org/patch/153600 _Testing issues_ Submitter: Satheesh Paul Antonysamy Date: Thursday, May 22 2025 10:11:16 DPDK git baseline: Repo:dpdk Branch: master CommitID:61af1f940aef58b1c44ff5b9ba3bae480c8ca856 153600 --> testing issues Upstream job id: Windows-Compile-DPDK-Native#28574 Test environment and result as below: +-----------------------------------+--------------------+-------------------+------------------+-------------------+-------------------------+----------------------+ | Environment | dpdk_meson_compile | dpdk_compile_spdk | dpdk_compile_ovs | dpdk_msvc_compile | dpdk_llvm_clang_compile | dpdk_mingw64_compile | +===================================+====================+===================+==================+===================+=========================+======================+ | CentOS Stream 9 | PASS | PASS | SKIPPED | SKIPPED | SKIPPED | SKIPPED | +-----------------------------------+--------------------+-------------------+------------------+-------------------+-------------------------+----------------------+ | Debian 12 | PASS | PASS | SKIPPED | SKIPPED | SKIPPED | SKIPPED | +-----------------------------------+--------------------+-------------------+------------------+-------------------+-------------------------+----------------------+ | CentOS Stream 10 | PASS | SKIPPED | SKIPPED | SKIPPED | SKIPPED | SKIPPED | +-----------------------------------+--------------------+-------------------+------------------+-------------------+-------------------------+----------------------+ | Fedora 40 (Clang) | PASS | WARN | SKIPPED | SKIPPED | SKIPPED | SKIPPED | +-----------------------------------+--------------------+-------------------+------------------+-------------------+-------------------------+----------------------+ | Fedora 41 (Clang) | PASS | WARN | PASS | SKIPPED | SKIPPED | SKIPPED | +-----------------------------------+--------------------+-------------------+------------------+-------------------+-------------------------+----------------------+ | Ubuntu 20.04 | PASS | SKIPPED | SKIPPED | SKIPPED | SKIPPED | SKIPPED | +-----------------------------------+--------------------+-------------------+------------------+-------------------+-------------------------+----------------------+ | openSUSE Leap 15 | PASS | SKIPPED | SKIPPED | SKIPPED | SKIPPED | SKIPPED | +-----------------------------------+--------------------+-------------------+------------------+-------------------+-------------------------+----------------------+ | Fedora 41 | PASS | PASS | PASS | SKIPPED | SKIPPED | SKIPPED | +-----------------------------------+--------------------+-------------------+------------------+-------------------+-------------------------+----------------------+ | RHEL8 | PASS | SKIPPED | SKIPPED | SKIPPED | SKIPPED | SKIPPED | +-----------------------------------+--------------------+-------------------+------------------+-------------------+-------------------------+----------------------+ | Ubuntu 22.04 | PASS | PASS | SKIPPED | SKIPPED | SKIPPED | SKIPPED | +-----------------------------------+--------------------+-------------------+------------------+-------------------+-------------------------+----------------------+ | Ubuntu 24.04 | PASS | PASS | PASS | SKIPPED | SKIPPED | SKIPPED | +-----------------------------------+--------------------+-------------------+------------------+-------------------+-------------------------+----------------------+ | Ubuntu 24.04 32 Bit Cross Compile | PASS | SKIPPED | SKIPPED | SKIPPED | SKIPPED | SKIPPED | +-----------------------------------+--------------------+-------------------+------------------+-------------------+-------------------------+----------------------+ | Alpine | PASS | SKIPPED | SKIPPED | SKIPPED | SKIPPED | SKIPPED | +-----------------------------------+--------------------+-------------------+------------------+-------------------+-------------------------+----------------------+ | FreeBSD 14.2 | PASS | SKIPPED | SKIPPED | SKIPPED | SKIPPED | SKIPPED | +-----------------------------------+--------------------+-------------------+------------------+-------------------+-------------------------+----------------------+ | Fedora 40 | PASS | PASS | SKIPPED | SKIPPED | SKIPPED | SKIPPED | +-----------------------------------+--------------------+-------------------+------------------+-------------------+-------------------------+----------------------+ | RHEL9 | PASS | SKIPPED | SKIPPED | SKIPPED | SKIPPED | SKIPPED | +-----------------------------------+--------------------+-------------------+------------------+-------------------+-------------------------+----------------------+ | Windows Server 2022 | SKIPPED | SKIPPED | SKIPPED | PASS | PASS | PASS | +-----------------------------------+--------------------+-------------------+------------------+-------------------+-------------------------+----------------------+ ==== 20 line log output for Fedora 41 (Clang) (dpdk_compile_spdk): ==== --- Failed to get log output --- ==== End log output ==== CentOS Stream 9 Kernel: Depends on container host Compiler: gcc 11.5.0 20240719 (Red Hat 11.5.0-2) Debian 12 Kernel: Depends on container host Compiler: gcc (Debian 12.2.0-14) 12.2.0 CentOS Stream 10 Kernel: Depends on container host Compiler: gcc 14.2.1 20241104 (Red Hat 14.2.1-6) Fedora 40 (Clang) Kernel: Depends on container host Compiler: clang 18.1.8 (Fedora 18.1.8-1.fc40) Fedora 41 (Clang) Kernel: Depends on container host Compiler: clang 19.1.5 (Fedora 19.1.5-1.fc41) Ubuntu 20.04 Kernel: 4.19.325-0419325-generic Compiler: gcc (Ubuntu 9.4.0-1ubuntu1~20.04.2) 9.4.0 openSUSE Leap 15 Kernel: Depends on container host Compiler: gcc (SUSE Linux) 7.5.0 Fedora 41 Kernel: Depends on container host Compiler: gcc 14.2.1 20240912 (Red Hat 14.2.1-3) RHEL8 Kernel: Depends on container host Compiler: gcc 8.5.0 20210514 (Red Hat 8.5.0-22) Ubuntu 22.04 Kernel: Depends on container host Compiler: gcc (Ubuntu 11.4.0-1ubuntu1~22.04) 11.4.0 Ubuntu 24.04 Kernel: Depends on container host Compiler: gcc (Ubuntu 13.3.0-6ubuntu2~24.04) 13.3.0 Ubuntu 24.04 32 Bit Cross Compile Kernel: Depends on container host Compiler: gcc (Ubuntu 13.3.0-6ubuntu2~24.04) 13.3.0 Alpine Kernel: Depends on container host Compiler: gcc (Alpine 14.2.0) 14.2.0 FreeBSD 14.2 Kernel: 14.2-RELEASE Compiler: clang 18.1.6 Fedora 40 Kernel: Depends on container host Compiler: gcc 14.2.1 20240912 (Red Hat 14.2.1-3) RHEL9 Kernel: Depends on container host Compiler: gcc 11.5.0 20240719 (Red Hat 11.5.0-2) Windows Server 2022 Kernel: 10.0.20348.2031 Compiler: clang 15.0.7, gcc 14.1.0 (MinGW), and MSVC VS 19.39.33521 To view detailed results, visit: https://lab.dpdk.org/results/dashboard/patchsets/33232/ UNH-IOL DPDK Community Lab To manage your email subscriptions, visit: https://lab.dpdk.org/results/dashboard/preferences/subscriptions/