From mboxrd@z Thu Jan 1 00:00:00 1970 Return-Path: Received: from mails.dpdk.org (mails.dpdk.org [217.70.189.124]) by inbox.dpdk.org (Postfix) with ESMTP id 69B234678E for ; Thu, 22 May 2025 21:38:17 +0200 (CEST) Received: from mails.dpdk.org (localhost [127.0.0.1]) by mails.dpdk.org (Postfix) with ESMTP id 4DFDD402D9; Thu, 22 May 2025 21:38:17 +0200 (CEST) Received: from mail-il1-f225.google.com (mail-il1-f225.google.com [209.85.166.225]) by mails.dpdk.org (Postfix) with ESMTP id B531A4025E for ; Thu, 22 May 2025 21:38:16 +0200 (CEST) Received: by mail-il1-f225.google.com with SMTP id e9e14a558f8ab-3dc926f21d0so1140825ab.0 for ; Thu, 22 May 2025 12:38:16 -0700 (PDT) DKIM-Signature: v=1; a=rsa-sha256; c=relaxed/relaxed; d=iol.unh.edu; s=unh-iol; t=1747942696; x=1748547496; darn=dpdk.org; h=references:in-reply-to:cc:to:from:subject:message-id:date:from:to :cc:subject:date:message-id:reply-to; bh=9J/1UJp4xs/UNc8tXsfcc+IjJIvLEnPYMWhBB/Tt8uI=; b=got0NNIlsb1y0HWaI+goui27kbR6nqsss1pBaldoyyw9NAxcFwosgGbgVkkwB/B7EW Us4h8Z0UUHHdDrU/Ksh25Dm4hIQm1lrMaP213DH3JxEi3aGcz7YHnDl23IuiDf74H/q1 VXelR9uxwgYCFq4eC6Szgw0sZmIC5F7X8iVlk= X-Google-DKIM-Signature: v=1; a=rsa-sha256; c=relaxed/relaxed; d=1e100.net; s=20230601; t=1747942696; x=1748547496; h=references:in-reply-to:cc:to:from:subject:message-id:date :x-gm-message-state:from:to:cc:subject:date:message-id:reply-to; bh=9J/1UJp4xs/UNc8tXsfcc+IjJIvLEnPYMWhBB/Tt8uI=; b=w7jWvjKgPPicw++Spm2vm+9qrzzWWZElk5zlzd1UPvsrG52w8CM9oKiliUGlMJh8J8 nSNJllOTlGSiQ1iLxtJ5FRrzjZXM0b20G1QOhpYkD4GbNdxV1yFt/AJlq/KVMABu41/7 FdygoGaNjx7OCGz6BMQu5Dsd9B+crKTTuu+6PCpLzBjeuT96W87Z94QHo6pZJIPROoys WHA0zyYLK0eVQ6Cm/ytmON0KTD5ett10WX6BmVMYISIT25OmI0f0sjFAPkFNflggRvgS xiEOgxmhoUZmEa1XolO07KmuampA020EhhA9yALKBZyxI8+FiHpEjVl9nOhXiK9K1EiW Nc5A== X-Gm-Message-State: AOJu0YywsH343uqo+wfwoUUatBROfIVV+MX8CprswXbnnzNPQWSlQZAG 6Zz3Re1WEy4NHAyhEAdneFbF8UFMo0+XWDdUpcuchARJ+6SQkrGGaAtcFHJKDV0jVs4QlgmMTEp Bc3pZnu3W61iKlwFdzTNvL6ktJtKH5yZMlw21jeb+bvQokY4YfzG+FYH1vQZx X-Gm-Gg: ASbGncuU2Nu/xw7OeZyMoQ/SEFEDC7FEuc6TqN5ncfmaTDmxwhUArEv9neZN3YAqgs7 8HfT0L30jqXtSOZnZIp1+35zNQI0mDtX8uzsnwrc5Lu10G3flMEe7DeUMDvXF1Y57dxk2mXpOLx 1iwhANB7GcBmCd+wFZaH5U3vqZGqfHdqHC/p6jYPOMV8FT8OYo5xcp63YqRCmi9C+PhE1LENAuX 4iV47sbQYwa4y4cMI+iYjfFEwo0KpQtx/Y8ckzaDMSbMCqabvKH+oMDnszj8vkw2xipDdvoY0XW jyBXeOFMv06i+1iT2RGolS39QmjjDXr4f14X X-Google-Smtp-Source: AGHT+IGPlioTpr+412K97uU0QN0wJeJMkDSai3hkGUS7aeifhgVUEBkFPwlUm+oAX6jBW1fZKJXIeSktV2Fv X-Received: by 2002:a05:6e02:188d:b0:3dc:7c5d:6372 with SMTP id e9e14a558f8ab-3dc7c5d6637mr131185165ab.7.1747942695933; Thu, 22 May 2025 12:38:15 -0700 (PDT) Received: from postal.iol.unh.edu (postal.iol.unh.edu. [2606:4100:3880:1234::84]) by smtp-relay.gmail.com with ESMTPS id e9e14a558f8ab-3dc7c61f3efsm3189475ab.8.2025.05.22.12.38.15 (version=TLS1_2 cipher=ECDHE-ECDSA-AES128-GCM-SHA256 bits=128/128); Thu, 22 May 2025 12:38:15 -0700 (PDT) X-Relaying-Domain: iol.unh.edu Date: Thu, 22 May 2025 12:38:15 -0700 (PDT) Message-ID: <682f7d27.050a0220.197c1c.1bbdSMTPIN_ADDED_MISSING@mx.google.com> Received: from [172.17.0.2] (unknown [172.18.0.76]) by postal.iol.unh.edu (Postfix) with ESMTP id 92ECE6052471; Thu, 22 May 2025 15:38:15 -0400 (EDT) Subject: |SUCCESS| pw153590 [PATCH] [v3] ethdev: fix the bug where the flag v From: dpdklab@iol.unh.edu To: Test Report Cc: dpdk-test-reports@iol.unh.edu In-Reply-To: <20250522074242.30376-1-sunyang.wu@jaguarmicro.com> References: <20250522074242.30376-1-sunyang.wu@jaguarmicro.com> Content-Type: text/plain X-BeenThere: test-report@dpdk.org X-Mailman-Version: 2.1.29 Precedence: list List-Id: automatic DPDK test reports List-Unsubscribe: , List-Archive: List-Post: List-Help: List-Subscribe: , Errors-To: test-report-bounces@dpdk.org Test-Label: iol-unit-amd64-testing Test-Status: SUCCESS http://dpdk.org/patch/153590 _Testing PASS_ Submitter: Sunyang Wu Date: Thursday, May 22 2025 07:42:42 DPDK git baseline: Repo:dpdk Branch: master CommitID:a0ad790eb9fcef4b00366ae474132bee4bcdab75 153590 --> testing pass Upstream job id: Generic-VM-Unit-Test-DPDK#28697 Test environment and result as below: +---------------------+----------------+ | Environment | dpdk_unit_test | +=====================+================+ | CentOS Stream 10 | PASS | +---------------------+----------------+ | CentOS Stream 9 | PASS | +---------------------+----------------+ | Fedora 41 | PASS | +---------------------+----------------+ | Ubuntu 20.04 | PASS | +---------------------+----------------+ | Debian 12 | PASS | +---------------------+----------------+ | Fedora 41 (Clang) | PASS | +---------------------+----------------+ | Fedora 40 (Clang) | PASS | +---------------------+----------------+ | RHEL9 | PASS | +---------------------+----------------+ | RHEL8 | PASS | +---------------------+----------------+ | Fedora 40 | PASS | +---------------------+----------------+ | Ubuntu 22.04 | PASS | +---------------------+----------------+ | Ubuntu 24.04 | PASS | +---------------------+----------------+ | Windows Server 2022 | PASS | +---------------------+----------------+ CentOS Stream 10 Kernel: Depends on container host Compiler: gcc 14.2.1 20241104 (Red Hat 14.2.1-6) CentOS Stream 9 Kernel: Depends on container host Compiler: gcc 11.5.0 20240719 (Red Hat 11.5.0-2) Fedora 41 Kernel: Depends on container host Compiler: gcc 14.2.1 20240912 (Red Hat 14.2.1-3) Ubuntu 20.04 Kernel: Depends on container host Compiler: gcc (Ubuntu 9.4.0-1ubuntu1~20.04.2) 9.4.0 Debian 12 Kernel: Depends on container host Compiler: gcc (Debian 12.2.0-14) 12.2.0 Fedora 41 (Clang) Kernel: Depends on container host Compiler: clang 19.1.5 (Fedora 19.1.5-1.fc41) Fedora 40 (Clang) Kernel: Depends on container host Compiler: clang 18.1.8 (Fedora 18.1.8-1.fc40) RHEL9 Kernel: Depends on container host Compiler: gcc 11.5.0 20240719 (Red Hat 11.5.0-2) RHEL8 Kernel: Depends on container host Compiler: gcc 8.5.0 20210514 (Red Hat 8.5.0-22) Fedora 40 Kernel: Depends on container host Compiler: gcc 14.2.1 20240912 (Red Hat 14.2.1-3) Ubuntu 22.04 Kernel: Depends on container host Compiler: gcc (Ubuntu 11.4.0-1ubuntu1~22.04) 11.4.0 Ubuntu 24.04 Kernel: Depends on container host Compiler: gcc (Ubuntu 13.3.0-6ubuntu2~24.04) 13.3.0 Windows Server 2022 Kernel: 10.0.20348.2031 Compiler: clang 15.0.7, gcc 14.1.0 (MinGW), and MSVC VS 19.39.33521 To view detailed results, visit: https://lab.dpdk.org/results/dashboard/patchsets/33230/ UNH-IOL DPDK Community Lab To manage your email subscriptions, visit: https://lab.dpdk.org/results/dashboard/preferences/subscriptions/