From mboxrd@z Thu Jan 1 00:00:00 1970 Return-Path: Received: from mails.dpdk.org (mails.dpdk.org [217.70.189.124]) by inbox.dpdk.org (Postfix) with ESMTP id DBF2C4678E for ; Thu, 22 May 2025 21:43:13 +0200 (CEST) Received: from mails.dpdk.org (localhost [127.0.0.1]) by mails.dpdk.org (Postfix) with ESMTP id BC603402D9; Thu, 22 May 2025 21:43:13 +0200 (CEST) Received: from mail-pj1-f98.google.com (mail-pj1-f98.google.com [209.85.216.98]) by mails.dpdk.org (Postfix) with ESMTP id 5DCE64025E for ; Thu, 22 May 2025 21:43:12 +0200 (CEST) Received: by mail-pj1-f98.google.com with SMTP id 98e67ed59e1d1-30e7e46cb47so6892892a91.1 for ; Thu, 22 May 2025 12:43:12 -0700 (PDT) DKIM-Signature: v=1; a=rsa-sha256; c=relaxed/relaxed; d=iol.unh.edu; s=unh-iol; t=1747942991; x=1748547791; darn=dpdk.org; h=references:in-reply-to:cc:to:from:subject:message-id:date:from:to :cc:subject:date:message-id:reply-to; bh=mDTx3KdW5dA8xeJsd9zWa2qqq5yiigjTuFoPMHKaGYk=; b=BRZGmKepnyQ/dSZ9D8D9bpKC+z95YEN9SLQX4DqK1Brqi1TKB4TQkZ/8pfL/EKEr0o 4HoLU85SqhmbDhkQqaNBIIiVlBkeabTIUauOQqNCMR6DMAzz2p2+K+mSV7rjOCuqbI4m 2jjLr9sSx6Y/g+cyWevcmqe4XFskoLfdUuFdQ= X-Google-DKIM-Signature: v=1; a=rsa-sha256; c=relaxed/relaxed; d=1e100.net; s=20230601; t=1747942991; x=1748547791; h=references:in-reply-to:cc:to:from:subject:message-id:date :x-gm-message-state:from:to:cc:subject:date:message-id:reply-to; bh=mDTx3KdW5dA8xeJsd9zWa2qqq5yiigjTuFoPMHKaGYk=; b=OTQQTqrkYqnv6oeSyL4aIKDOzCKdWYjM1WFgFAsV5lCCOP8+Sp7HGnnNGPskLdAsvq 60iItnYcqnEVAnVUH9Qo/irpTEYTB5gVOI64CDGVt5rNbf9GoH0DrzUM2WyIkJQIorSX phc1DcKsyyMsbdb3rlgrSEjHboM7rVa3XEwHGno1p3a9jrR3gOY4MxpJGbcOUG6MGm67 4K8mKcFmPhKUxL+bryvxyFj7Ld7ZsL7HlaC0qdXE/woX1Caojj2pBRhFEgdb/edkSj5/ zM3Dp732zaMNn/xkJEtMLwHAHvm1X78Qd7UUs9nJcW21iznezXpY/0FzbPmEuOts+6PB iSmg== X-Gm-Message-State: AOJu0YxObGXpGN+Zh5K76v3aAor63b/phCerq4DFXJWsJhfFiiwYns3o 6mLMSk7ld8j06Y6esxSDysekMunO47fsMz0OBsPJMMqUVoaRE1aPpq1NhTqU6qEZK0bBLEnji5d YWfuwLEITWdIZFJEa8UTQiP2Hl78szP9Otr4wYIkLJm1MvgoIghyx3+Di+xHF X-Gm-Gg: ASbGncv9hb9NSxbkor71TGZCa+5k6g+pQRrjGxP/+P+maIIfkWbvOTy1AffGt7I02FH Y7WVRcxw9fDDuqaXBSzsXC1tgHwaG7WxuuvG6FYTtZeXoLpvgTFlNdY29nx3uO5lwOni0LcKN9/ GvxKWZ/pn5GyPYv3ffILARlOKy/229iapASstIbmZf7/l8TNBsW2ICRHzrgijQ53uQFVacObF9G 4/X1LoOVZ4XZ6ENXqBjiQuzseFIarUbcBipn/v2PxamCFUmZ73FbguYCSgheTwWV56zJ2UHVLU7 AeM1BOvmWoOHrebf3Jq2ipcKE6Hm/ZVF+Af4 X-Google-Smtp-Source: AGHT+IExIQEEeoyhvkl//X9UBq90C/MGPEfcSAoYMrhPyvaH67Kfk2FrxWOJIh48gOJH65T4+tGcd1HYMDTE X-Received: by 2002:a17:90a:ec8c:b0:30c:540b:9ac with SMTP id 98e67ed59e1d1-30e830ebd3fmr42782171a91.10.1747942991023; Thu, 22 May 2025 12:43:11 -0700 (PDT) Received: from postal.iol.unh.edu (postal.iol.unh.edu. [2606:4100:3880:1234::84]) by smtp-relay.gmail.com with ESMTPS id 98e67ed59e1d1-30f365eca1fsm507396a91.6.2025.05.22.12.43.10 (version=TLS1_2 cipher=ECDHE-ECDSA-AES128-GCM-SHA256 bits=128/128); Thu, 22 May 2025 12:43:11 -0700 (PDT) X-Relaying-Domain: iol.unh.edu Date: Thu, 22 May 2025 12:43:11 -0700 (PDT) Message-ID: <682f7e4f.170a0220.30ca6f.ac07SMTPIN_ADDED_MISSING@mx.google.com> Received: from [172.17.0.2] (unknown [172.18.0.76]) by postal.iol.unh.edu (Postfix) with ESMTP id 2DD4D6052471; Thu, 22 May 2025 15:43:10 -0400 (EDT) Subject: |SUCCESS| pw153590 [PATCH] [v3] ethdev: fix the bug where the flag v From: dpdklab@iol.unh.edu To: Test Report Cc: dpdk-test-reports@iol.unh.edu In-Reply-To: <20250522074242.30376-1-sunyang.wu@jaguarmicro.com> References: <20250522074242.30376-1-sunyang.wu@jaguarmicro.com> Content-Type: text/plain X-BeenThere: test-report@dpdk.org X-Mailman-Version: 2.1.29 Precedence: list List-Id: automatic DPDK test reports List-Unsubscribe: , List-Archive: List-Post: List-Help: List-Subscribe: , Errors-To: test-report-bounces@dpdk.org Test-Label: iol-unit-amd64-testing Test-Status: SUCCESS http://dpdk.org/patch/153590 _Testing PASS_ Submitter: Sunyang Wu Date: Thursday, May 22 2025 07:42:42 DPDK git baseline: Repo:dpdk Branch: master CommitID:a0ad790eb9fcef4b00366ae474132bee4bcdab75 153590 --> testing pass Upstream job id: Generic-VM-Unit-Test-DPDK#28698 Test environment and result as below: +---------------------+----------------+ | Environment | dpdk_unit_test | +=====================+================+ | CentOS Stream 10 | PASS | +---------------------+----------------+ | CentOS Stream 9 | PASS | +---------------------+----------------+ | Fedora 41 | PASS | +---------------------+----------------+ | Ubuntu 20.04 | PASS | +---------------------+----------------+ | Debian 12 | PASS | +---------------------+----------------+ | Fedora 41 (Clang) | PASS | +---------------------+----------------+ | Fedora 40 (Clang) | PASS | +---------------------+----------------+ | RHEL9 | PASS | +---------------------+----------------+ | RHEL8 | PASS | +---------------------+----------------+ | Fedora 40 | PASS | +---------------------+----------------+ | Ubuntu 22.04 | PASS | +---------------------+----------------+ | Ubuntu 24.04 | PASS | +---------------------+----------------+ | Windows Server 2022 | PASS | +---------------------+----------------+ CentOS Stream 10 Kernel: Depends on container host Compiler: gcc 14.2.1 20241104 (Red Hat 14.2.1-6) CentOS Stream 9 Kernel: Depends on container host Compiler: gcc 11.5.0 20240719 (Red Hat 11.5.0-2) Fedora 41 Kernel: Depends on container host Compiler: gcc 14.2.1 20240912 (Red Hat 14.2.1-3) Ubuntu 20.04 Kernel: Depends on container host Compiler: gcc (Ubuntu 9.4.0-1ubuntu1~20.04.2) 9.4.0 Debian 12 Kernel: Depends on container host Compiler: gcc (Debian 12.2.0-14) 12.2.0 Fedora 41 (Clang) Kernel: Depends on container host Compiler: clang 19.1.5 (Fedora 19.1.5-1.fc41) Fedora 40 (Clang) Kernel: Depends on container host Compiler: clang 18.1.8 (Fedora 18.1.8-1.fc40) RHEL9 Kernel: Depends on container host Compiler: gcc 11.5.0 20240719 (Red Hat 11.5.0-2) RHEL8 Kernel: Depends on container host Compiler: gcc 8.5.0 20210514 (Red Hat 8.5.0-22) Fedora 40 Kernel: Depends on container host Compiler: gcc 14.2.1 20240912 (Red Hat 14.2.1-3) Ubuntu 22.04 Kernel: Depends on container host Compiler: gcc (Ubuntu 11.4.0-1ubuntu1~22.04) 11.4.0 Ubuntu 24.04 Kernel: Depends on container host Compiler: gcc (Ubuntu 13.3.0-6ubuntu2~24.04) 13.3.0 Windows Server 2022 Kernel: 10.0.20348.2031 Compiler: clang 15.0.7, gcc 14.1.0 (MinGW), and MSVC VS 19.39.33521 To view detailed results, visit: https://lab.dpdk.org/results/dashboard/patchsets/33230/ UNH-IOL DPDK Community Lab To manage your email subscriptions, visit: https://lab.dpdk.org/results/dashboard/preferences/subscriptions/