From mboxrd@z Thu Jan 1 00:00:00 1970 Return-Path: Received: from mails.dpdk.org (mails.dpdk.org [217.70.189.124]) by inbox.dpdk.org (Postfix) with ESMTP id BC1164678E for ; Thu, 22 May 2025 21:53:19 +0200 (CEST) Received: from mails.dpdk.org (localhost [127.0.0.1]) by mails.dpdk.org (Postfix) with ESMTP id 9D5E3402D9; Thu, 22 May 2025 21:53:19 +0200 (CEST) Received: from mail-pl1-f228.google.com (mail-pl1-f228.google.com [209.85.214.228]) by mails.dpdk.org (Postfix) with ESMTP id 3102E4025E for ; Thu, 22 May 2025 21:53:18 +0200 (CEST) Received: by mail-pl1-f228.google.com with SMTP id d9443c01a7336-231f6af929eso68931525ad.2 for ; Thu, 22 May 2025 12:53:18 -0700 (PDT) DKIM-Signature: v=1; a=rsa-sha256; c=relaxed/relaxed; d=iol.unh.edu; s=unh-iol; t=1747943597; x=1748548397; darn=dpdk.org; h=references:in-reply-to:cc:to:from:subject:message-id:date:from:to :cc:subject:date:message-id:reply-to; bh=AolOwXdJFMZyzaP+oxvP4iFCrSm7esv0TPjxgJ+3BuM=; b=KayV7AlSwV/kJqdtPnrAMs8iqy6SZK2u3RFxzKP7rl8zzTX9muohopBUdm47G0xKW9 UqErx5rBitK5XP/tR3CXnb/HncDNj2LFm2/SY0gBNv1aCRyvBVPrpV96oxGF79m1jU+A Ue6r0RUqwKgJvHg5K+Em9EBf24O3C5nRYn1J8= X-Google-DKIM-Signature: v=1; a=rsa-sha256; c=relaxed/relaxed; d=1e100.net; s=20230601; t=1747943597; x=1748548397; h=references:in-reply-to:cc:to:from:subject:message-id:date :x-gm-message-state:from:to:cc:subject:date:message-id:reply-to; bh=AolOwXdJFMZyzaP+oxvP4iFCrSm7esv0TPjxgJ+3BuM=; b=uRoVJ2hxKaj1R4RJPqLvbZyyJZycLE1XY6BEjk4JPfNPt8sXgDxD8SsjLb1iMAoEnL tfIZM4itq5ygIsFnX1+HSy+7k6ZJOXwZgCOwRjaikoWiXwhfA3erualfheHSgTAgSCFI u/KH3X3mnBThjeLQw09nKQvK+qHCRERCX7gqqGkFP6m9OTIa3q7RtzSazfc+hxXB9hl7 F/xJnT3c6nmO/KTRmd6tadciSMQVXQHaJVKUNMslzPJIQXuGVM2/YB9FbXdziExCt3rn BfJtOQqeawe2WxjqtIMK9Le6G0OKfDAlFqa5G5fyOcXMAM+shs2HObqlvazX2Z/oNszd 63TA== X-Gm-Message-State: AOJu0Yx5QY613SoaBUx+hjneVQ33Vi78ETK84u2ZUQ2Vc5UfdZW6tK6E ZGic9s9S/zVYVTlJXo9QdWrOyA5XAUX6UgbqNYfgbpXLtghprbowz0nAeGZIok3gRHrRmDlzwNp 26oxkM3GhuXsGMZcGkMktVx2pNTab3DC1B8tCNpVcfHZgzsF1PC/a/HhhdibZ X-Gm-Gg: ASbGnctpqiLPD64ztQlU84psmEU2EGwc16mgam9z5MPfwo7w/hGp/v0aJOkqItemPdZ F4d4li2cd0BGQpUFWTm4Q+DDGZks9XpAQmYJPfmVquwsO49ImhsCJ9xYr5MLeH4bdsr5qonw7JV UwPYxxz031Jj8bH4/WrP7apdE0/RC9Dr0r5MSs3VEofyiozf1D+HbWPYoX8/a7WhDyGm0/E7JFx CBrVqWd8jmg91ljom7D/8A5t8avT45lUCs22isjkWtZq5W7OC/niH/HiqvQJ1Hqo58ocFHPCm1P zBgBx7+lohTWFnEpfTI/iwOSbxYGnzXFiXeW X-Google-Smtp-Source: AGHT+IGvixNBH3Wce9ujL5tdShlT2lsSGvxzpqSzMcGutnru/KWXzMRp2ZurL8wDd27zGFav0+TCGDyKM/bf X-Received: by 2002:a17:903:32cf:b0:224:194c:6942 with SMTP id d9443c01a7336-233f23c9eccmr3280295ad.34.1747943597259; Thu, 22 May 2025 12:53:17 -0700 (PDT) Received: from postal.iol.unh.edu (postal.iol.unh.edu. [2606:4100:3880:1234::84]) by smtp-relay.gmail.com with ESMTPS id d9443c01a7336-231d4aa6f33sm7789135ad.7.2025.05.22.12.53.17 (version=TLS1_2 cipher=ECDHE-ECDSA-AES128-GCM-SHA256 bits=128/128); Thu, 22 May 2025 12:53:17 -0700 (PDT) X-Relaying-Domain: iol.unh.edu Date: Thu, 22 May 2025 12:53:17 -0700 (PDT) Message-ID: <682f80ad.170a0220.f40ae.8ed3SMTPIN_ADDED_MISSING@mx.google.com> Received: from [172.17.0.2] (unknown [172.18.0.76]) by postal.iol.unh.edu (Postfix) with ESMTP id 3214F6052471; Thu, 22 May 2025 15:53:16 -0400 (EDT) Subject: |SUCCESS| pw153593-153595 [PATCH] [v6,9/9] app/test: add zsda crypto From: dpdklab@iol.unh.edu To: Test Report Cc: dpdk-test-reports@iol.unh.edu In-Reply-To: <20250522093037.2274245-10-li.hanxiao@zte.com.cn> References: <20250522093037.2274245-10-li.hanxiao@zte.com.cn> Content-Type: text/plain X-BeenThere: test-report@dpdk.org X-Mailman-Version: 2.1.29 Precedence: list List-Id: automatic DPDK test reports List-Unsubscribe: , List-Archive: List-Post: List-Help: List-Subscribe: , Errors-To: test-report-bounces@dpdk.org Test-Label: iol-compile-arm64-testing Test-Status: SUCCESS http://dpdk.org/patch/153595 _Testing PASS_ Submitter: Hanxiao Li Date: Thursday, May 22 2025 09:30:35 DPDK git baseline: Repo:dpdk Branch: master CommitID:fc627d7065ba5100faa928cf2edfa1622846f542 153593-153595 --> testing pass Upstream job id: Generic-DPDK-Compile-Meson#390541 Test environment and result as below: +----------------------------------------+--------------------+ | Environment | dpdk_meson_compile | +========================================+====================+ | RHEL9 (ARM) | PASS | +----------------------------------------+--------------------+ | Ubuntu 20.04 ARM GCC Cross Compile | PASS | +----------------------------------------+--------------------+ | Fedora 40 (ARM Clang) | PASS | +----------------------------------------+--------------------+ | Fedora 40 (ARM) | PASS | +----------------------------------------+--------------------+ | Debian 12 with MUSDK | PASS | +----------------------------------------+--------------------+ | Fedora 41 (ARM) | PASS | +----------------------------------------+--------------------+ | Fedora 41 (ARM Clang) | PASS | +----------------------------------------+--------------------+ | Ubuntu 20.04 (ARM) | PASS | +----------------------------------------+--------------------+ | Ubuntu 22.04 (ARM) | PASS | +----------------------------------------+--------------------+ | Ubuntu 24.04 (ARM) | PASS | +----------------------------------------+--------------------+ | CentOS Stream 9 (ARM) | PASS | +----------------------------------------+--------------------+ | CentOS Stream 10 (ARM) | PASS | +----------------------------------------+--------------------+ | Debian 12 (arm) | PASS | +----------------------------------------+--------------------+ | Ubuntu 20.04 ARM Clang Cross Compile | PASS | +----------------------------------------+--------------------+ | Ubuntu 20.04 aarch32 GCC Cross Compile | PASS | +----------------------------------------+--------------------+ | Ubuntu 20.04 ARM SVE | PASS | +----------------------------------------+--------------------+ RHEL9 (ARM) Kernel: Depends on container host Compiler: gcc 11.5.0 20240719 (Red Hat 11.5.0-2) Ubuntu 20.04 ARM GCC Cross Compile Kernel: Depends on container host Compiler: aarch64-linux-gnu-gcc (Ubuntu 9.4.0-1ubuntu1~20.04.2) 9.4.0 Fedora 40 (ARM Clang) Kernel: Depends on container host Compiler: clang 18.1.8 (Fedora 18.1.8-1.fc40) Fedora 40 (ARM) Kernel: Depends on container host Compiler: gcc 14.2.1 20240912 (Red Hat 14.2.1-3) Debian 12 with MUSDK Kernel: Depends on container host Compiler: gcc (Debian 12.2.0-14) 12.2.0 Fedora 41 (ARM) Kernel: Depends on container host Compiler: gcc 14.2.1 20240912 (Red Hat 14.2.1-3) Fedora 41 (ARM Clang) Kernel: Depends on container host Compiler: clang 19.1.5 (Fedora 19.1.5-1.fc41) Ubuntu 20.04 (ARM) Kernel: Depends on container host Compiler: gcc (Ubuntu 9.4.0-1ubuntu1~20.04.2) 9.4.0 Ubuntu 22.04 (ARM) Kernel: Depends on container host Compiler: gcc (Ubuntu 11.4.0-1ubuntu1~22.04) 11.4.0 Ubuntu 24.04 (ARM) Kernel: Depends on container host Compiler: gcc (Ubuntu 13.3.0-6ubuntu2~24.04) 13.3.0 CentOS Stream 9 (ARM) Kernel: Depends on container host Compiler: gcc 11.5.0 20240719 (Red Hat 11.5.0-2) CentOS Stream 10 (ARM) Kernel: Depends on container host Compiler: gcc 14.2.1 20241104 (Red Hat 14.2.1-6) Debian 12 (arm) Kernel: Depends on container host Compiler: gcc (Debian 12.2.0-14) 12.2.0 Ubuntu 20.04 ARM Clang Cross Compile Kernel: Depends on container host Compiler: clang 10.0.0-4ubuntu1 Ubuntu 20.04 aarch32 GCC Cross Compile Kernel: Depends on container host Compiler: gcc 9.4.0 Ubuntu 20.04 ARM SVE Kernel: Depends on container host Compiler: gcc (Ubuntu 10.5.0-1ubuntu1~20.04) 10.5.0 To view detailed results, visit: https://lab.dpdk.org/results/dashboard/patchsets/33231/ UNH-IOL DPDK Community Lab To manage your email subscriptions, visit: https://lab.dpdk.org/results/dashboard/preferences/subscriptions/