From mboxrd@z Thu Jan 1 00:00:00 1970 Return-Path: Received: from mails.dpdk.org (mails.dpdk.org [217.70.189.124]) by inbox.dpdk.org (Postfix) with ESMTP id 025084678E for ; Thu, 22 May 2025 21:55:16 +0200 (CEST) Received: from mails.dpdk.org (localhost [127.0.0.1]) by mails.dpdk.org (Postfix) with ESMTP id D19B9402D9; Thu, 22 May 2025 21:55:16 +0200 (CEST) Received: from mail-pf1-f227.google.com (mail-pf1-f227.google.com [209.85.210.227]) by mails.dpdk.org (Postfix) with ESMTP id 2D4CB4025E for ; Thu, 22 May 2025 21:55:15 +0200 (CEST) Received: by mail-pf1-f227.google.com with SMTP id d2e1a72fcca58-73712952e1cso7722054b3a.1 for ; Thu, 22 May 2025 12:55:15 -0700 (PDT) DKIM-Signature: v=1; a=rsa-sha256; c=relaxed/relaxed; d=iol.unh.edu; s=unh-iol; t=1747943714; x=1748548514; darn=dpdk.org; h=references:in-reply-to:cc:to:from:subject:message-id:date:from:to :cc:subject:date:message-id:reply-to; bh=mgMjkc11Rddah1CfBwtjNyRodUSIbG39u2t/G2LS1PI=; b=KJaiB95cTAbCuOcgL5zeHfglFTzRudNygHVP9gVYMyQx6hdlRA1KlRM+LF7OH2JI7Y cG7T2COY8kiTeBceDKsexQYakL9CJeLV5QrcdOHMXQ8DN3KxLjAXegNNBIJwhSmwi7fQ o3l1fWLYtkL6odZgYz0oM7sSZtvGgPTX2Zkgk= X-Google-DKIM-Signature: v=1; a=rsa-sha256; c=relaxed/relaxed; d=1e100.net; s=20230601; t=1747943714; x=1748548514; h=references:in-reply-to:cc:to:from:subject:message-id:date :x-gm-message-state:from:to:cc:subject:date:message-id:reply-to; bh=mgMjkc11Rddah1CfBwtjNyRodUSIbG39u2t/G2LS1PI=; b=POUQ50mldzze5WF7h+6naT6p6nw8BXp9kkeR3S5ZbMlcqBqpaFF85I+olJKDQxbK6a +m5woKwxmvKR9ENECumQjYWALuRWBOnlS2ALFJfInmI31euZ/oy44NW67wb4IJ4xY8AK 5NTf3AsRMJhdyvUAJnUErYkp76HFfDM3aFf2uB6EN5lCYGMxcFrGRteG+rPcB4yeZmfM v7G9O/kAQKl2cCw8Y6ST33H61ycsJxGPk02Zw+MW1MKaf30BMtJgE58OX0O6tW6ht6OI rW9rzRLkV1DvkFnTIRHrPB5n5cmPDB+MZhthfVCKuS7K6UtWKsIUTQmcpHVIjfceJx2h srQg== X-Gm-Message-State: AOJu0Yz1EGpw3PsZN3Kibdn4goKi/VO0jI4DzE01QBV5Ll4vel1i2LC1 yPCOk5PSotU6IGHz6OH2F45b9V2/D+cOUn+abFoo7WA/LLZX7JFAkVgoGvu8VIatezQDBzG9GIE 2X6yUfgFjvHC3bQ8ZckEnXEm2CSTII9dbBt+ZAOnhhZnndLKhEHwTQGL4gKDI X-Gm-Gg: ASbGnct2dK0N0Q+pJU3jm2tc7fh5F/ks3qa9Fg9J8r3ZCAMZAJnLPAGJ1cbRQUKyLb3 VZmkrtb8hs361R2mAgdRITFUJiTFEDMgXYmepAh8sNDyDXm84kxihghcOjsIod3r6AspyliAx+P zJRUKn2U14aKCripvgZyPFlHMkU9jjAN2tRwRdBzJXNzf/SMkrPjbnZIBnWBUGnEEZU3aT/6oR5 qsYgbKXbU68/GJgnaaPPkgAVUINoQQ71j9R4eFlBMLqTgFxCD/M7fCtBLzW1m0pGpofjl4Nl9+A uWAhnnFap7owWhYHGsa3ngZv9uC7h2o1cIIM X-Google-Smtp-Source: AGHT+IHDf1SSBDX35djtn1GY/LI5B8ZwzI1QlvdQWlQdMTY+YTDQ0DCVF0/7jco7F1nuJaUQYsPvOtmUC7gs X-Received: by 2002:a05:6a20:6f8e:b0:1f5:83da:2f9f with SMTP id adf61e73a8af0-2170cc3d5f4mr37757993637.12.1747943714080; Thu, 22 May 2025 12:55:14 -0700 (PDT) Received: from postal.iol.unh.edu (postal.iol.unh.edu. [2606:4100:3880:1234::84]) by smtp-relay.gmail.com with ESMTPS id 41be03b00d2f7-b26eafb1865sm925852a12.16.2025.05.22.12.55.13 (version=TLS1_2 cipher=ECDHE-ECDSA-AES128-GCM-SHA256 bits=128/128); Thu, 22 May 2025 12:55:14 -0700 (PDT) X-Relaying-Domain: iol.unh.edu Date: Thu, 22 May 2025 12:55:14 -0700 (PDT) Message-ID: <682f8122.630a0220.f2f43.20aaSMTPIN_ADDED_MISSING@mx.google.com> Received: from [172.17.0.2] (unknown [172.18.0.76]) by postal.iol.unh.edu (Postfix) with ESMTP id E11826052471; Thu, 22 May 2025 15:55:12 -0400 (EDT) Subject: |SUCCESS| pw153600 [PATCH] common/cnxk: fix E-tag pattern parsing From: dpdklab@iol.unh.edu To: Test Report Cc: dpdk-test-reports@iol.unh.edu In-Reply-To: <20250522101116.2134691-1-psatheesh@marvell.com> References: <20250522101116.2134691-1-psatheesh@marvell.com> Content-Type: text/plain X-BeenThere: test-report@dpdk.org X-Mailman-Version: 2.1.29 Precedence: list List-Id: automatic DPDK test reports List-Unsubscribe: , List-Archive: List-Post: List-Help: List-Subscribe: , Errors-To: test-report-bounces@dpdk.org Test-Label: iol-unit-amd64-testing Test-Status: SUCCESS http://dpdk.org/patch/153600 _Testing PASS_ Submitter: Satheesh Paul Antonysamy Date: Thursday, May 22 2025 10:11:16 DPDK git baseline: Repo:dpdk Branch: master CommitID:61af1f940aef58b1c44ff5b9ba3bae480c8ca856 153600 --> testing pass Upstream job id: Generic-VM-Unit-Test-DPDK#28699 Test environment and result as below: +---------------------+----------------+ | Environment | dpdk_unit_test | +=====================+================+ | CentOS Stream 10 | PASS | +---------------------+----------------+ | CentOS Stream 9 | PASS | +---------------------+----------------+ | Debian 12 | PASS | +---------------------+----------------+ | Fedora 40 | PASS | +---------------------+----------------+ | Fedora 40 (Clang) | PASS | +---------------------+----------------+ | RHEL9 | PASS | +---------------------+----------------+ | Fedora 41 (Clang) | PASS | +---------------------+----------------+ | RHEL8 | PASS | +---------------------+----------------+ | Ubuntu 22.04 | PASS | +---------------------+----------------+ | Fedora 41 | PASS | +---------------------+----------------+ | Ubuntu 20.04 | PASS | +---------------------+----------------+ | Ubuntu 24.04 | PASS | +---------------------+----------------+ | Windows Server 2022 | PASS | +---------------------+----------------+ CentOS Stream 10 Kernel: Depends on container host Compiler: gcc 14.2.1 20241104 (Red Hat 14.2.1-6) CentOS Stream 9 Kernel: Depends on container host Compiler: gcc 11.5.0 20240719 (Red Hat 11.5.0-2) Debian 12 Kernel: Depends on container host Compiler: gcc (Debian 12.2.0-14) 12.2.0 Fedora 40 Kernel: Depends on container host Compiler: gcc 14.2.1 20240912 (Red Hat 14.2.1-3) Fedora 40 (Clang) Kernel: Depends on container host Compiler: clang 18.1.8 (Fedora 18.1.8-1.fc40) RHEL9 Kernel: Depends on container host Compiler: gcc 11.5.0 20240719 (Red Hat 11.5.0-2) Fedora 41 (Clang) Kernel: Depends on container host Compiler: clang 19.1.5 (Fedora 19.1.5-1.fc41) RHEL8 Kernel: Depends on container host Compiler: gcc 8.5.0 20210514 (Red Hat 8.5.0-22) Ubuntu 22.04 Kernel: Depends on container host Compiler: gcc (Ubuntu 11.4.0-1ubuntu1~22.04) 11.4.0 Fedora 41 Kernel: Depends on container host Compiler: gcc 14.2.1 20240912 (Red Hat 14.2.1-3) Ubuntu 20.04 Kernel: Depends on container host Compiler: gcc (Ubuntu 9.4.0-1ubuntu1~20.04.2) 9.4.0 Ubuntu 24.04 Kernel: Depends on container host Compiler: gcc (Ubuntu 13.3.0-6ubuntu2~24.04) 13.3.0 Windows Server 2022 Kernel: 10.0.20348.2031 Compiler: clang 15.0.7, gcc 14.1.0 (MinGW), and MSVC VS 19.39.33521 To view detailed results, visit: https://lab.dpdk.org/results/dashboard/patchsets/33232/ UNH-IOL DPDK Community Lab To manage your email subscriptions, visit: https://lab.dpdk.org/results/dashboard/preferences/subscriptions/