From mboxrd@z Thu Jan 1 00:00:00 1970 Return-Path: Received: from mails.dpdk.org (mails.dpdk.org [217.70.189.124]) by inbox.dpdk.org (Postfix) with ESMTP id ABAA5467BA for ; Thu, 22 May 2025 22:28:36 +0200 (CEST) Received: from mails.dpdk.org (localhost [127.0.0.1]) by mails.dpdk.org (Postfix) with ESMTP id 8AEFD402D9; Thu, 22 May 2025 22:28:36 +0200 (CEST) Received: from mail-yw1-f228.google.com (mail-yw1-f228.google.com [209.85.128.228]) by mails.dpdk.org (Postfix) with ESMTP id C64D34025E for ; Thu, 22 May 2025 22:28:34 +0200 (CEST) Received: by mail-yw1-f228.google.com with SMTP id 00721157ae682-70df116f1fdso24103107b3.0 for ; Thu, 22 May 2025 13:28:34 -0700 (PDT) DKIM-Signature: v=1; a=rsa-sha256; c=relaxed/relaxed; d=iol.unh.edu; s=unh-iol; t=1747945714; x=1748550514; darn=dpdk.org; h=references:in-reply-to:cc:to:from:subject:message-id:date:from:to :cc:subject:date:message-id:reply-to; bh=ooqNqGdvz1dk/BlIotPiPuHzTS+WOvx9N+dp6Mva7hU=; b=Tq4wC23zanuVsJeM4rkH9eyr8LaL73q7gombjOwBr0EgwZ8WLlMBELQ4dikmkXbMzr rR665Zt3ens4ltW7wtyRxk1FaNUoL5kjPoTeOxZMQM/xyW+DeoREsCxWr0qr5tQPM2H4 QOqgd/aKiBeSNXBadsYLya6ehGbTrTWmr9RGI= X-Google-DKIM-Signature: v=1; a=rsa-sha256; c=relaxed/relaxed; d=1e100.net; s=20230601; t=1747945714; x=1748550514; h=references:in-reply-to:cc:to:from:subject:message-id:date :x-gm-message-state:from:to:cc:subject:date:message-id:reply-to; bh=ooqNqGdvz1dk/BlIotPiPuHzTS+WOvx9N+dp6Mva7hU=; b=a+mJyBVXvRvDW5DBkoA2zkg8aoiJIU2cbtxtggepq8dLOYP0FtnGUazkkjhuoX/hqf +klPBiAOZuH4FWwlktSsHZe0gbMF234TbMskZnng/3ZEgyS0r6gor3h1k2SeuPSlqSqU bTQQCJ9NpOeC+sawwY9F31GTlBwKPbA/fTY4Ru32gP7IpSApFG/FMBwvFo07Ewfi1eEx kUt+6i+h/OZimFZbIkc+FwhyVxf2HBepgXyVFEPHedFZy2k61dw8sYx8FckVlwEuwbdH HL77dv+Rbr9rclIqbbWzbzafWBMKATppMMOhOru2klgtugSAKBvQQ29mzXXaO43KGxGg 1zVw== X-Gm-Message-State: AOJu0YwtvJzAAf8K6oGde9FYHguWtTA1m2fQM2zOq2yMp4nhul+hLlbc zrHK9+2WH8Mid5A1uLuPbTnfNY3phSv6EkR0Q31VPrZ70ZVZxBKdEJL5W5/+zgUNbGjVRcpoR3o WRODMq60a7jyhgTdtM0yOH7OeMaOr4dlYpM+TAtQHOII/zD59x+ofkYUWbi19 X-Gm-Gg: ASbGncvpTsiSMQPXhIwbkLZ6PGTfk+FSoBxkv+q97rZ0TnPiBZg0O2Lp9KRT8S6Uxhg PjCpj2yObtzbClnB2VCHrxy8aOlQFa8J0USzjHbBj/LoaT3hWShTpVaHF6xHdNsMIun5uR5JZfv DuL3VRXEg+Pz3MEkp+XOZ/3mbH5RNomyuHWk0uPqiQXZXpPSd3rnjOXWa0FbEaZvtjME0Ulsk1l R1aZrL+FuRk8zVfGk7EDADxlfFr1tqdtou+wjkJYvuK+5cxH7UkSsbJuAMfWAOeV/b8W4DkgWoI sujAGs+ZBpJufXyt3cjHD8Px1c4NwekxhISO X-Google-Smtp-Source: AGHT+IGgpicrndIWA7iAyKbWxoW8EbicEQApz7oN9J3GioBedrAdzlHYoiVauJu5iqQcSf9CrapVKYHNMxrV X-Received: by 2002:a05:690c:3:b0:708:c2dd:c39f with SMTP id 00721157ae682-70ca7a4fc12mr338835747b3.17.1747945714127; Thu, 22 May 2025 13:28:34 -0700 (PDT) Received: from postal.iol.unh.edu (postal.iol.unh.edu. [2606:4100:3880:1234::84]) by smtp-relay.gmail.com with ESMTPS id 00721157ae682-70ca84fa7e2sm3144407b3.67.2025.05.22.13.28.34 (version=TLS1_2 cipher=ECDHE-ECDSA-AES128-GCM-SHA256 bits=128/128); Thu, 22 May 2025 13:28:34 -0700 (PDT) X-Relaying-Domain: iol.unh.edu Date: Thu, 22 May 2025 13:28:34 -0700 (PDT) Message-ID: <682f88f2.050a0220.258107.301aSMTPIN_ADDED_MISSING@mx.google.com> Received: from [172.17.0.2] (unknown [172.18.0.76]) by postal.iol.unh.edu (Postfix) with ESMTP id AFD746052471; Thu, 22 May 2025 16:28:33 -0400 (EDT) Subject: |SUCCESS| pw153590 [PATCH] [v3] ethdev: fix the bug where the flag v From: dpdklab@iol.unh.edu To: Test Report Cc: dpdk-test-reports@iol.unh.edu In-Reply-To: <20250522074242.30376-1-sunyang.wu@jaguarmicro.com> References: <20250522074242.30376-1-sunyang.wu@jaguarmicro.com> Content-Type: text/plain X-BeenThere: test-report@dpdk.org X-Mailman-Version: 2.1.29 Precedence: list List-Id: automatic DPDK test reports List-Unsubscribe: , List-Archive: List-Post: List-Help: List-Subscribe: , Errors-To: test-report-bounces@dpdk.org Test-Label: iol-unit-arm64-testing Test-Status: SUCCESS http://dpdk.org/patch/153590 _Testing PASS_ Submitter: Sunyang Wu Date: Thursday, May 22 2025 07:42:42 DPDK git baseline: Repo:dpdk Branch: master CommitID:a0ad790eb9fcef4b00366ae474132bee4bcdab75 153590 --> testing pass Upstream job id: Generic-Unit-Test-DPDK#340038 Test environment and result as below: +-----------------------------+----------------+--------------+------------------------------+---------------------------+ | Environment | dpdk_unit_test | lpm_autotest | cryptodev_sw_snow3g_autotest | cryptodev_sw_zuc_autotest | +=============================+================+==============+==============================+===========================+ | CentOS Stream 10 (ARM) | PASS | SKIPPED | SKIPPED | SKIPPED | +-----------------------------+----------------+--------------+------------------------------+---------------------------+ | CentOS Stream 9 (ARM) | PASS | SKIPPED | SKIPPED | SKIPPED | +-----------------------------+----------------+--------------+------------------------------+---------------------------+ | RHEL9 (ARM) | PASS | SKIPPED | SKIPPED | SKIPPED | +-----------------------------+----------------+--------------+------------------------------+---------------------------+ | Fedora 40 (ARM) | PASS | SKIPPED | SKIPPED | SKIPPED | +-----------------------------+----------------+--------------+------------------------------+---------------------------+ | Fedora 40 (ARM Clang) | PASS | SKIPPED | SKIPPED | SKIPPED | +-----------------------------+----------------+--------------+------------------------------+---------------------------+ | Debian 12 (arm) | PASS | SKIPPED | PASS | PASS | +-----------------------------+----------------+--------------+------------------------------+---------------------------+ | Fedora 41 (ARM) | PASS | SKIPPED | SKIPPED | SKIPPED | +-----------------------------+----------------+--------------+------------------------------+---------------------------+ | Ubuntu 20.04 (ARM) | PASS | SKIPPED | SKIPPED | SKIPPED | +-----------------------------+----------------+--------------+------------------------------+---------------------------+ | Ubuntu 24.04 (ARM) | PASS | SKIPPED | SKIPPED | SKIPPED | +-----------------------------+----------------+--------------+------------------------------+---------------------------+ | Fedora 41 (ARM Clang) | PASS | SKIPPED | SKIPPED | SKIPPED | +-----------------------------+----------------+--------------+------------------------------+---------------------------+ | Ubuntu 22.04 (ARM) | PASS | SKIPPED | SKIPPED | SKIPPED | +-----------------------------+----------------+--------------+------------------------------+---------------------------+ | 32-bit Ubuntu 22.04.4 (ARM) | PASS | SKIPPED | SKIPPED | SKIPPED | +-----------------------------+----------------+--------------+------------------------------+---------------------------+ | Ubuntu 20.04 ARM SVE | SKIPPED | PASS | SKIPPED | SKIPPED | +-----------------------------+----------------+--------------+------------------------------+---------------------------+ CentOS Stream 10 (ARM) Kernel: Depends on container host Compiler: gcc 14.2.1 20241104 (Red Hat 14.2.1-6) CentOS Stream 9 (ARM) Kernel: Depends on container host Compiler: gcc 11.5.0 20240719 (Red Hat 11.5.0-2) RHEL9 (ARM) Kernel: Depends on container host Compiler: gcc 11.5.0 20240719 (Red Hat 11.5.0-2) Fedora 40 (ARM) Kernel: Depends on container host Compiler: gcc 14.2.1 20240912 (Red Hat 14.2.1-3) Fedora 40 (ARM Clang) Kernel: Depends on container host Compiler: clang 18.1.8 (Fedora 18.1.8-1.fc40) Debian 12 (arm) Kernel: Depends on container host Compiler: gcc (Debian 12.2.0-14) 12.2.0 Fedora 41 (ARM) Kernel: Depends on container host Compiler: gcc 14.2.1 20240912 (Red Hat 14.2.1-3) Ubuntu 20.04 (ARM) Kernel: Depends on container host Compiler: gcc (Ubuntu 9.4.0-1ubuntu1~20.04.2) 9.4.0 Ubuntu 24.04 (ARM) Kernel: Depends on container host Compiler: gcc (Ubuntu 13.3.0-6ubuntu2~24.04) 13.3.0 Fedora 41 (ARM Clang) Kernel: Depends on container host Compiler: clang 19.1.5 (Fedora 19.1.5-1.fc41) Ubuntu 22.04 (ARM) Kernel: Depends on container host Compiler: gcc (Ubuntu 11.4.0-1ubuntu1~22.04) 11.4.0 32-bit Ubuntu 22.04.4 (ARM) Kernel: 5.15.83+ aarch64 Compiler: gcc (Ubuntu 11.4.0-1ubuntu1~22.04) 11.4.0 Ubuntu 20.04 ARM SVE Kernel: Depends on container host Compiler: gcc (Ubuntu 10.5.0-1ubuntu1~20.04) 10.5.0 To view detailed results, visit: https://lab.dpdk.org/results/dashboard/patchsets/33230/ UNH-IOL DPDK Community Lab To manage your email subscriptions, visit: https://lab.dpdk.org/results/dashboard/preferences/subscriptions/