From: dpdklab@iol.unh.edu
To: Test Report <test-report@dpdk.org>
Cc: dpdk-test-reports@iol.unh.edu
Subject: |SUCCESS| pw153600 [PATCH] common/cnxk: fix E-tag pattern parsing
Date: Thu, 22 May 2025 15:31:44 -0700 (PDT) [thread overview]
Message-ID: <682fa5d0.050a0220.358bc1.f356SMTPIN_ADDED_MISSING@mx.google.com> (raw)
In-Reply-To: <20250522101116.2134691-1-psatheesh@marvell.com>
Test-Label: iol-sample-apps-testing
Test-Status: SUCCESS
http://dpdk.org/patch/153600
_Testing PASS_
Submitter: Satheesh Paul Antonysamy <psatheesh@marvell.com>
Date: Thursday, May 22 2025 10:11:16
DPDK git baseline: Repo:dpdk
Branch: master
CommitID:61af1f940aef58b1c44ff5b9ba3bae480c8ca856
153600 --> testing pass
Upstream job id: ACVP-FIPS-testing#9901
Test environment and result as below:
+--------------+----------------------+----------------------+
| Environment | compressdev_zlib_pmd | dpdk_fips_validation |
+==============+======================+======================+
| Ubuntu 22.04 | PASS | SKIPPED |
+--------------+----------------------+----------------------+
| Ubuntu 20.04 | SKIPPED | PASS |
+--------------+----------------------+----------------------+
Ubuntu 22.04
Kernel: 5.15.0-100-generic
Compiler: gcc gcc (Ubuntu 11.4.0-1ubuntu1~22.04) 11.4.0
Ubuntu 20.04
Kernel: Depends on container host
Compiler: gcc (Ubuntu 9.4.0-1ubuntu1~20.04.2) 9.4.0
To view detailed results, visit:
https://lab.dpdk.org/results/dashboard/patchsets/33232/
UNH-IOL DPDK Community Lab
To manage your email subscriptions, visit:
https://lab.dpdk.org/results/dashboard/preferences/subscriptions/
next prev parent reply other threads:[~2025-05-22 22:31 UTC|newest]
Thread overview: 27+ messages / expand[flat|nested] mbox.gz Atom feed top
[not found] <20250522101116.2134691-1-psatheesh@marvell.com>
2025-05-22 9:44 ` |SUCCESS| pw153600 [PATCH ] " qemudev
2025-05-22 9:49 ` qemudev
2025-05-22 10:12 ` checkpatch
2025-05-22 12:24 ` |SUCCESS| pw153600 [dpdk-dev] " 0-day Robot
2025-05-22 17:07 ` |SUCCESS| pw153600 [PATCH] " dpdklab
2025-05-22 17:07 ` dpdklab
2025-05-22 17:11 ` dpdklab
2025-05-22 17:13 ` dpdklab
2025-05-22 17:18 ` dpdklab
2025-05-22 17:22 ` |PENDING| " dpdklab
2025-05-22 17:25 ` |SUCCESS| " dpdklab
2025-05-22 17:28 ` dpdklab
2025-05-22 17:34 ` |PENDING| " dpdklab
2025-05-22 17:41 ` |SUCCESS| " dpdklab
2025-05-22 17:51 ` |PENDING| " dpdklab
2025-05-22 18:04 ` dpdklab
2025-05-22 18:07 ` dpdklab
2025-05-22 18:43 ` |SUCCESS| " dpdklab
2025-05-22 18:48 ` dpdklab
2025-05-22 19:04 ` |WARNING| " dpdklab
2025-05-22 19:21 ` dpdklab
2025-05-22 19:22 ` dpdklab
2025-05-22 19:55 ` |SUCCESS| " dpdklab
2025-05-22 20:00 ` dpdklab
2025-05-22 22:31 ` dpdklab [this message]
2025-05-22 23:25 ` dpdklab
2025-05-22 23:58 ` dpdklab
Reply instructions:
You may reply publicly to this message via plain-text email
using any one of the following methods:
* Save the following mbox file, import it into your mail client,
and reply-to-all from there: mbox
Avoid top-posting and favor interleaved quoting:
https://en.wikipedia.org/wiki/Posting_style#Interleaved_style
* Reply using the --to, --cc, and --in-reply-to
switches of git-send-email(1):
git send-email \
--in-reply-to=682fa5d0.050a0220.358bc1.f356SMTPIN_ADDED_MISSING@mx.google.com \
--to=dpdklab@iol.unh.edu \
--cc=dpdk-test-reports@iol.unh.edu \
--cc=test-report@dpdk.org \
/path/to/YOUR_REPLY
https://kernel.org/pub/software/scm/git/docs/git-send-email.html
* If your mail client supports setting the In-Reply-To header
via mailto: links, try the mailto: link
Be sure your reply has a Subject: header at the top and a blank line
before the message body.
This is a public inbox, see mirroring instructions
for how to clone and mirror all data and code used for this inbox;
as well as URLs for NNTP newsgroup(s).