From mboxrd@z Thu Jan 1 00:00:00 1970 Return-Path: Received: from mails.dpdk.org (mails.dpdk.org [217.70.189.124]) by inbox.dpdk.org (Postfix) with ESMTP id 1D329467BC for ; Fri, 23 May 2025 01:25:43 +0200 (CEST) Received: from mails.dpdk.org (localhost [127.0.0.1]) by mails.dpdk.org (Postfix) with ESMTP id F0A42402D5; Fri, 23 May 2025 01:25:42 +0200 (CEST) Received: from mail-qv1-f97.google.com (mail-qv1-f97.google.com [209.85.219.97]) by mails.dpdk.org (Postfix) with ESMTP id 3DD84402D5 for ; Fri, 23 May 2025 01:25:41 +0200 (CEST) Received: by mail-qv1-f97.google.com with SMTP id 6a1803df08f44-6f8aabbffaeso78638646d6.0 for ; Thu, 22 May 2025 16:25:41 -0700 (PDT) DKIM-Signature: v=1; a=rsa-sha256; c=relaxed/relaxed; d=iol.unh.edu; s=unh-iol; t=1747956340; x=1748561140; darn=dpdk.org; h=references:in-reply-to:cc:to:from:subject:message-id:date:from:to :cc:subject:date:message-id:reply-to; bh=MLXWPu0VgTe/Ad4wMNhtpcnI06OgVr4rbuQad7jf1X4=; b=Oge4ZHcnLbdakZLEKwKUpW/u6gKNVHS2eTxf7w69mSl+0Av+bye2l+mWVwXjFrjhNP e2E9QQMtn/lo5oMeVH0rGwIEqE5TDqUsCmH0o1XW1nSR+fDu8ODn3dcfYYDNkn8HUl+C elxTFfy58MfYcseanUH4yjFGPh+YMpLD11J4s= X-Google-DKIM-Signature: v=1; a=rsa-sha256; c=relaxed/relaxed; d=1e100.net; s=20230601; t=1747956340; x=1748561140; h=references:in-reply-to:cc:to:from:subject:message-id:date :x-gm-message-state:from:to:cc:subject:date:message-id:reply-to; bh=MLXWPu0VgTe/Ad4wMNhtpcnI06OgVr4rbuQad7jf1X4=; b=f3xepK5ffF2ZPUxlsQgzaKetkFQJQ0FGD9X6nxvCPTPYqwocN3c8ezkNdwXh0BBWfd 4l0pQp53ijcRuscMEl16K1bo+J2iKxafF3UqrcILE7zJzWp8yBCJnQv5NpJ0gi3tQUY4 +B1/y/pIyuoXHI2g8CEdABcgSEUcgGorwLeTGI0XL1rUCBFec9AUGH2U1NMC29s9PSlE RbSE4Uj425coJrLQTmy9+urCnPOVqunIx9ibXXgfTHjPjX4Jq6cAmerfSX49wsM2Iql0 pz8/3lo/QXy2mvwOz4Nej/96/fRMPSTDbQ2D7obCxN4Ddz3az4pDkDqDwhdyqsPQvoh2 lV2A== X-Gm-Message-State: AOJu0YwtXasEL6LZB5nAJ+zbUPBSpLmEiteeHvXx/jjqttTXnEWlMS8p dUZEpxOUkjzNbwTkaBJ9HBMBYTD8Q9OQ0ls2zRgwmC8FeJcGeSXutLENm5XfjI+/8xftnXBSg9R +gzXyz1+EEUg+UbYYnSmTuDrNnwwN0kbFz0AxNl3J0qbhNiNy0dVg3k6l6KJ2 X-Gm-Gg: ASbGncui/9qLKKnu4kkp1l1L+mLjFNyUEg9UOba+jWU9LxTswvO9DPkRf9TkcKP/9eI 49Odhl61izcPD73s64L06g6zrn+hGEY0NLAa7siNz5BRxX2d7HLdseyki613oVWCHheOY7+y0J3 CB63Y49svGU5P/72BCHuLZ2bdnaX8z20lq8FKTT+zF6Qf8/qSOows4+hXLJFaQ2sBSIWxrVZjCE NqquPTArrnP92AWBcTtRxTLWmjCdRAy6hCx1xr3RXr+ijrOCT9QVLhtw52E+DrShGN7vDdv3plI G3hgqPkPEJxznWL7sNlmlMAtqBeIkr6h0PT8 X-Google-Smtp-Source: AGHT+IGgkh/Pq4LeuxeCrcmSvT0FvNuuNEowH+lmYtXMT9qlJ640E4LUzX0bDTs53oRh3C36io3UD4p3LjT4 X-Received: by 2002:a05:6214:406:b0:6ed:1da2:afac with SMTP id 6a1803df08f44-6f8b2d85f19mr450261596d6.32.1747956340533; Thu, 22 May 2025 16:25:40 -0700 (PDT) Received: from postal.iol.unh.edu (postal.iol.unh.edu. [2606:4100:3880:1234::84]) by smtp-relay.gmail.com with ESMTPS id 6a1803df08f44-6f8b09a521asm5444666d6.54.2025.05.22.16.25.40 (version=TLS1_2 cipher=ECDHE-ECDSA-AES128-GCM-SHA256 bits=128/128); Thu, 22 May 2025 16:25:40 -0700 (PDT) X-Relaying-Domain: iol.unh.edu Date: Thu, 22 May 2025 16:25:40 -0700 (PDT) Message-ID: <682fb274.050a0220.c5a79.d1ddSMTPIN_ADDED_MISSING@mx.google.com> Received: from [172.17.0.2] (unknown [172.18.0.76]) by postal.iol.unh.edu (Postfix) with ESMTP id 30D046052471; Thu, 22 May 2025 19:25:40 -0400 (EDT) Subject: |SUCCESS| pw153600 [PATCH] common/cnxk: fix E-tag pattern parsing From: dpdklab@iol.unh.edu To: Test Report Cc: dpdk-test-reports@iol.unh.edu In-Reply-To: <20250522101116.2134691-1-psatheesh@marvell.com> References: <20250522101116.2134691-1-psatheesh@marvell.com> Content-Type: text/plain X-BeenThere: test-report@dpdk.org X-Mailman-Version: 2.1.29 Precedence: list List-Id: automatic DPDK test reports List-Unsubscribe: , List-Archive: List-Post: List-Help: List-Subscribe: , Errors-To: test-report-bounces@dpdk.org Test-Label: iol-unit-arm64-testing Test-Status: SUCCESS http://dpdk.org/patch/153600 _Testing PASS_ Submitter: Satheesh Paul Antonysamy Date: Thursday, May 22 2025 10:11:16 DPDK git baseline: Repo:dpdk Branch: master CommitID:61af1f940aef58b1c44ff5b9ba3bae480c8ca856 153600 --> testing pass Upstream job id: Generic-Unit-Test-DPDK#340067 Test environment and result as below: +-----------------------------+--------------+---------------------------+------------------------------+----------------+ | Environment | lpm_autotest | cryptodev_sw_zuc_autotest | cryptodev_sw_snow3g_autotest | dpdk_unit_test | +=============================+==============+===========================+==============================+================+ | Ubuntu 20.04 ARM SVE | PASS | SKIPPED | SKIPPED | SKIPPED | +-----------------------------+--------------+---------------------------+------------------------------+----------------+ | Debian 12 (arm) | SKIPPED | PASS | PASS | PASS | +-----------------------------+--------------+---------------------------+------------------------------+----------------+ | Fedora 40 (ARM) | SKIPPED | SKIPPED | SKIPPED | PASS | +-----------------------------+--------------+---------------------------+------------------------------+----------------+ | CentOS Stream 10 (ARM) | SKIPPED | SKIPPED | SKIPPED | PASS | +-----------------------------+--------------+---------------------------+------------------------------+----------------+ | CentOS Stream 9 (ARM) | SKIPPED | SKIPPED | SKIPPED | PASS | +-----------------------------+--------------+---------------------------+------------------------------+----------------+ | Fedora 41 (ARM) | SKIPPED | SKIPPED | SKIPPED | PASS | +-----------------------------+--------------+---------------------------+------------------------------+----------------+ | Fedora 40 (ARM Clang) | SKIPPED | SKIPPED | SKIPPED | PASS | +-----------------------------+--------------+---------------------------+------------------------------+----------------+ | Fedora 41 (ARM Clang) | SKIPPED | SKIPPED | SKIPPED | PASS | +-----------------------------+--------------+---------------------------+------------------------------+----------------+ | RHEL9 (ARM) | SKIPPED | SKIPPED | SKIPPED | PASS | +-----------------------------+--------------+---------------------------+------------------------------+----------------+ | Ubuntu 20.04 (ARM) | SKIPPED | SKIPPED | SKIPPED | PASS | +-----------------------------+--------------+---------------------------+------------------------------+----------------+ | Ubuntu 24.04 (ARM) | SKIPPED | SKIPPED | SKIPPED | PASS | +-----------------------------+--------------+---------------------------+------------------------------+----------------+ | Ubuntu 22.04 (ARM) | SKIPPED | SKIPPED | SKIPPED | PASS | +-----------------------------+--------------+---------------------------+------------------------------+----------------+ | 32-bit Ubuntu 22.04.4 (ARM) | SKIPPED | SKIPPED | SKIPPED | PASS | +-----------------------------+--------------+---------------------------+------------------------------+----------------+ Ubuntu 20.04 ARM SVE Kernel: Depends on container host Compiler: gcc (Ubuntu 10.5.0-1ubuntu1~20.04) 10.5.0 Debian 12 (arm) Kernel: Depends on container host Compiler: gcc (Debian 12.2.0-14) 12.2.0 Fedora 40 (ARM) Kernel: Depends on container host Compiler: gcc 14.2.1 20240912 (Red Hat 14.2.1-3) CentOS Stream 10 (ARM) Kernel: Depends on container host Compiler: gcc 14.2.1 20241104 (Red Hat 14.2.1-6) CentOS Stream 9 (ARM) Kernel: Depends on container host Compiler: gcc 11.5.0 20240719 (Red Hat 11.5.0-2) Fedora 41 (ARM) Kernel: Depends on container host Compiler: gcc 14.2.1 20240912 (Red Hat 14.2.1-3) Fedora 40 (ARM Clang) Kernel: Depends on container host Compiler: clang 18.1.8 (Fedora 18.1.8-1.fc40) Fedora 41 (ARM Clang) Kernel: Depends on container host Compiler: clang 19.1.5 (Fedora 19.1.5-1.fc41) RHEL9 (ARM) Kernel: Depends on container host Compiler: gcc 11.5.0 20240719 (Red Hat 11.5.0-2) Ubuntu 20.04 (ARM) Kernel: Depends on container host Compiler: gcc (Ubuntu 9.4.0-1ubuntu1~20.04.2) 9.4.0 Ubuntu 24.04 (ARM) Kernel: Depends on container host Compiler: gcc (Ubuntu 13.3.0-6ubuntu2~24.04) 13.3.0 Ubuntu 22.04 (ARM) Kernel: Depends on container host Compiler: gcc (Ubuntu 11.4.0-1ubuntu1~22.04) 11.4.0 32-bit Ubuntu 22.04.4 (ARM) Kernel: 5.15.83+ aarch64 Compiler: gcc (Ubuntu 11.4.0-1ubuntu1~22.04) 11.4.0 To view detailed results, visit: https://lab.dpdk.org/results/dashboard/patchsets/33232/ UNH-IOL DPDK Community Lab To manage your email subscriptions, visit: https://lab.dpdk.org/results/dashboard/preferences/subscriptions/