From mboxrd@z Thu Jan 1 00:00:00 1970 Return-Path: Received: from mails.dpdk.org (mails.dpdk.org [217.70.189.124]) by inbox.dpdk.org (Postfix) with ESMTP id EA25C467BC for ; Fri, 23 May 2025 01:58:17 +0200 (CEST) Received: from mails.dpdk.org (localhost [127.0.0.1]) by mails.dpdk.org (Postfix) with ESMTP id BE64A402D5; Fri, 23 May 2025 01:58:17 +0200 (CEST) Received: from mail-pg1-f228.google.com (mail-pg1-f228.google.com [209.85.215.228]) by mails.dpdk.org (Postfix) with ESMTP id 68E56402D5 for ; Fri, 23 May 2025 01:58:16 +0200 (CEST) Received: by mail-pg1-f228.google.com with SMTP id 41be03b00d2f7-b1a1930a922so5818666a12.3 for ; Thu, 22 May 2025 16:58:16 -0700 (PDT) DKIM-Signature: v=1; a=rsa-sha256; c=relaxed/relaxed; d=iol.unh.edu; s=unh-iol; t=1747958295; x=1748563095; darn=dpdk.org; h=references:in-reply-to:cc:to:from:subject:message-id:date:from:to :cc:subject:date:message-id:reply-to; bh=JDYkIQJKHVHtqEGJ9ICUuynrS23uT1sbIFxmMeBjlyg=; b=jgdVNt1w++Juri9C5/Nq3Fg/CVSC2yAtIesBofunqTB4DNSNs4RP5Dg5t7spJTVIUw np9o6tQFAIWhZNhbs86KBlKtJxAKPzUWjUznL9C0YUGE/I/7F1q9XlS0ZOas3+aM4HHs tzJo4ECuQUIGaoI01Zsl826wiuzVcl0qiSTrs= X-Google-DKIM-Signature: v=1; a=rsa-sha256; c=relaxed/relaxed; d=1e100.net; s=20230601; t=1747958295; x=1748563095; h=references:in-reply-to:cc:to:from:subject:message-id:date :x-gm-message-state:from:to:cc:subject:date:message-id:reply-to; bh=JDYkIQJKHVHtqEGJ9ICUuynrS23uT1sbIFxmMeBjlyg=; b=FrYjfMF4PlOb7VBkMyziJGrZaC22PrDdrOb1AWFWXIUX2IsXouTc6TeoWBCMj6GFs+ TFD+UIXVmpZ8Biuj02kunRNfaEfcsqd2+kS0zan6hCyMI6zNFvjci+UT4uo3UFjVyzHL bJsBzQ4qWusKzhYbRbg88AGkHpz4xATBsIMniPriHYV364owpjJ5Bz30lZS7nKYz9cHo QdKLEvW/LoABH5ZMl0O+CoenjMhXpqd8eEZJ2u7tKF3324UTK2cIap06u+ZFp4r734LT jerI8IRcP+ZW+Ge8sv3lcs/KzDqJSkHmdrapVLOLtTodjajJyAt69idf8Tn0WATjqv/E Z3jg== X-Gm-Message-State: AOJu0YyTDSLEqHC5OMd6O9039BIVotvXeU8TGPOyU0llJubEJBTFRlr2 ZGtrOXjyH58bw6rGKWwNR9K68j2ox/PK4Ngyqf2MdSSdpX4wblfri6Pne0/0uHV3mTeaUW7Fdf9 9TeivZGPK34cG6HjqqB70I9W8KrkI7izLafGzl5x58FiiqJiT5lPd5EiDytRh X-Gm-Gg: ASbGncsd5DOGkPiCm7M8Sa5Izxaizse1ilpHTkV50CSI9l8Iatkd56BSQU+sMGIfMUE O+O0VSRZU6cSWuGzX1JW+9WdxWQ0NXFkHiYC+zDhziYpmt04Gr6a7nO1DlULVISyD3Cy24u+qVs Zj8rn5V331Au9GIj6Ly6H57zTeNqXRCKeyQYFOux9o/TY8bPVVOMlSfb9uMVUK5kmAHEkB/7ZJI W/yr2/CJchRRcf13x2qF66DALjRAnWgiMEH1qjfZpS8FQf4hoVpYhR7+6imCrMOqiIw9FyqL7uY PbdfqrqhWUbABxnmN7ACV8EKzCEXUumOIYeH X-Google-Smtp-Source: AGHT+IHUSKxr639KhnwreNWJHBuygczA+NFFz6+GATnfVyEXE0CbdwbgVKwLPDNiXuuGgdwhF+0DhalFTX5x X-Received: by 2002:a17:902:f645:b0:223:4d7e:e52c with SMTP id d9443c01a7336-231d43d9a3amr418952345ad.5.1747958295159; Thu, 22 May 2025 16:58:15 -0700 (PDT) Received: from postal.iol.unh.edu (postal.iol.unh.edu. [2606:4100:3880:1234::84]) by smtp-relay.gmail.com with ESMTPS id d9443c01a7336-231d4aa7702sm7198025ad.17.2025.05.22.16.58.15 (version=TLS1_2 cipher=ECDHE-ECDSA-AES128-GCM-SHA256 bits=128/128); Thu, 22 May 2025 16:58:15 -0700 (PDT) X-Relaying-Domain: iol.unh.edu Date: Thu, 22 May 2025 16:58:15 -0700 (PDT) Message-ID: <682fba17.170a0220.270472.5e27SMTPIN_ADDED_MISSING@mx.google.com> Received: from [172.17.0.2] (unknown [172.18.0.76]) by postal.iol.unh.edu (Postfix) with ESMTP id 8AE1A6052471; Thu, 22 May 2025 19:58:14 -0400 (EDT) Subject: |SUCCESS| pw153600 [PATCH] common/cnxk: fix E-tag pattern parsing From: dpdklab@iol.unh.edu To: Test Report Cc: dpdk-test-reports@iol.unh.edu In-Reply-To: <20250522101116.2134691-1-psatheesh@marvell.com> References: <20250522101116.2134691-1-psatheesh@marvell.com> Content-Type: text/plain X-BeenThere: test-report@dpdk.org X-Mailman-Version: 2.1.29 Precedence: list List-Id: automatic DPDK test reports List-Unsubscribe: , List-Archive: List-Post: List-Help: List-Subscribe: , Errors-To: test-report-bounces@dpdk.org Test-Label: iol-compile-arm64-testing Test-Status: SUCCESS http://dpdk.org/patch/153600 _Testing PASS_ Submitter: Satheesh Paul Antonysamy Date: Thursday, May 22 2025 10:11:16 DPDK git baseline: Repo:dpdk Branch: master CommitID:61af1f940aef58b1c44ff5b9ba3bae480c8ca856 153600 --> testing pass Upstream job id: Generic-DPDK-Compile-Meson#390621 Test environment and result as below: +----------------------------------------+--------------------+ | Environment | dpdk_meson_compile | +========================================+====================+ | Debian 12 with MUSDK | PASS | +----------------------------------------+--------------------+ | Ubuntu 20.04 ARM SVE | PASS | +----------------------------------------+--------------------+ | Ubuntu 20.04 ARM GCC Cross Compile | PASS | +----------------------------------------+--------------------+ | RHEL9 (ARM) | PASS | +----------------------------------------+--------------------+ | Ubuntu 20.04 (ARM) | PASS | +----------------------------------------+--------------------+ | Fedora 41 (ARM Clang) | PASS | +----------------------------------------+--------------------+ | Fedora 40 (ARM) | PASS | +----------------------------------------+--------------------+ | Fedora 41 (ARM) | PASS | +----------------------------------------+--------------------+ | Fedora 40 (ARM Clang) | PASS | +----------------------------------------+--------------------+ | Ubuntu 22.04 (ARM) | PASS | +----------------------------------------+--------------------+ | CentOS Stream 9 (ARM) | PASS | +----------------------------------------+--------------------+ | Debian 12 (arm) | PASS | +----------------------------------------+--------------------+ | Ubuntu 24.04 (ARM) | PASS | +----------------------------------------+--------------------+ | CentOS Stream 10 (ARM) | PASS | +----------------------------------------+--------------------+ | Ubuntu 20.04 ARM Clang Cross Compile | PASS | +----------------------------------------+--------------------+ | Ubuntu 20.04 aarch32 GCC Cross Compile | PASS | +----------------------------------------+--------------------+ Debian 12 with MUSDK Kernel: Depends on container host Compiler: gcc (Debian 12.2.0-14) 12.2.0 Ubuntu 20.04 ARM SVE Kernel: Depends on container host Compiler: gcc (Ubuntu 10.5.0-1ubuntu1~20.04) 10.5.0 Ubuntu 20.04 ARM GCC Cross Compile Kernel: Depends on container host Compiler: aarch64-linux-gnu-gcc (Ubuntu 9.4.0-1ubuntu1~20.04.2) 9.4.0 RHEL9 (ARM) Kernel: Depends on container host Compiler: gcc 11.5.0 20240719 (Red Hat 11.5.0-2) Ubuntu 20.04 (ARM) Kernel: Depends on container host Compiler: gcc (Ubuntu 9.4.0-1ubuntu1~20.04.2) 9.4.0 Fedora 41 (ARM Clang) Kernel: Depends on container host Compiler: clang 19.1.5 (Fedora 19.1.5-1.fc41) Fedora 40 (ARM) Kernel: Depends on container host Compiler: gcc 14.2.1 20240912 (Red Hat 14.2.1-3) Fedora 41 (ARM) Kernel: Depends on container host Compiler: gcc 14.2.1 20240912 (Red Hat 14.2.1-3) Fedora 40 (ARM Clang) Kernel: Depends on container host Compiler: clang 18.1.8 (Fedora 18.1.8-1.fc40) Ubuntu 22.04 (ARM) Kernel: Depends on container host Compiler: gcc (Ubuntu 11.4.0-1ubuntu1~22.04) 11.4.0 CentOS Stream 9 (ARM) Kernel: Depends on container host Compiler: gcc 11.5.0 20240719 (Red Hat 11.5.0-2) Debian 12 (arm) Kernel: Depends on container host Compiler: gcc (Debian 12.2.0-14) 12.2.0 Ubuntu 24.04 (ARM) Kernel: Depends on container host Compiler: gcc (Ubuntu 13.3.0-6ubuntu2~24.04) 13.3.0 CentOS Stream 10 (ARM) Kernel: Depends on container host Compiler: gcc 14.2.1 20241104 (Red Hat 14.2.1-6) Ubuntu 20.04 ARM Clang Cross Compile Kernel: Depends on container host Compiler: clang 10.0.0-4ubuntu1 Ubuntu 20.04 aarch32 GCC Cross Compile Kernel: Depends on container host Compiler: gcc 9.4.0 To view detailed results, visit: https://lab.dpdk.org/results/dashboard/patchsets/33232/ UNH-IOL DPDK Community Lab To manage your email subscriptions, visit: https://lab.dpdk.org/results/dashboard/preferences/subscriptions/