From mboxrd@z Thu Jan 1 00:00:00 1970 Return-Path: Received: from mails.dpdk.org (mails.dpdk.org [217.70.189.124]) by inbox.dpdk.org (Postfix) with ESMTP id 06451467BD for ; Fri, 23 May 2025 03:12:40 +0200 (CEST) Received: from mails.dpdk.org (localhost [127.0.0.1]) by mails.dpdk.org (Postfix) with ESMTP id CF07B40666; Fri, 23 May 2025 03:12:39 +0200 (CEST) Received: from mail-pg1-f225.google.com (mail-pg1-f225.google.com [209.85.215.225]) by mails.dpdk.org (Postfix) with ESMTP id 1C09F402E6 for ; Fri, 23 May 2025 03:12:39 +0200 (CEST) Received: by mail-pg1-f225.google.com with SMTP id 41be03b00d2f7-af548cb1f83so7328370a12.3 for ; Thu, 22 May 2025 18:12:39 -0700 (PDT) DKIM-Signature: v=1; a=rsa-sha256; c=relaxed/relaxed; d=iol.unh.edu; s=unh-iol; t=1747962758; x=1748567558; darn=dpdk.org; h=references:in-reply-to:cc:to:from:subject:message-id:date:from:to :cc:subject:date:message-id:reply-to; bh=DAaIv+4xxX17glC6oNz/godOwi0GzkCLM8pJxJoQcmc=; b=evw3UnuSWLUmIlLqXJwXlS8PE5SR8yyjYK33k5G17JcOCk5S9PGgc5WaIxy9EwSJAm KsKE3WqLLe7mptQvWcWhmmmtincMT50BzjVl93dKOvUDHuRFIYy4SwxS5xEPKRTpps3i WcC21YucOyXxy2AazycQBKuBiVK/gGdPtjmGU= X-Google-DKIM-Signature: v=1; a=rsa-sha256; c=relaxed/relaxed; d=1e100.net; s=20230601; t=1747962758; x=1748567558; h=references:in-reply-to:cc:to:from:subject:message-id:date :x-gm-message-state:from:to:cc:subject:date:message-id:reply-to; bh=DAaIv+4xxX17glC6oNz/godOwi0GzkCLM8pJxJoQcmc=; b=nGKbvQacluK6uijyg3PUnN0eCavDvTuvVmtJ9Ddn4JCV58euzCI29nX/2f/Mdv39oz tjN5uQM0VNfFZJW+DPDVmhEZ7m98kCYV0tTxtYSZKDVFgndOfJ9Lu14eIUKUpFuwY5ay B9P/Z2MdvxJP8fJq65pJiMm45F6lRhsNKoEjqOHS7qveMiRYjuC9Smr6/OlRHs1fxoRa IY2eW3n+vWMe9w0mpMkuLc6RPh8siRgl/br0unGub0ZpROYG/Ttmd98a2hHy49uOO4m0 15zuu1wJSNvmdJlA77q0GF5LkH1o1Z1WZokOpeATfyNMXD1xI3EuimPZWp8R8V7A0Ply 4D7Q== X-Gm-Message-State: AOJu0YyPK0ZXM76xEo6QHYiAyaIyUpsuQuNxys5Jhv2ki02NNfu35U4I RXgFrEMbo1i6yeFVGk5mw4z36rbLd4ijAylopoO9xKBisBfoBcj2EPa1hl4oy8bObcZ9MWrLlme E/0nHbzu5cCPRYaYQsZ+o4eV+q61Z86YTkcuOspNabCn7 X-Gm-Gg: ASbGncswRjPMnis/wsngnDpzzZAqtAV+Z7IQmHxWdPWfkNLUaKXzX/h9Bv1g9kOAklw /zfhijzyciVO2EiHAcz3KMVjE5Ohz24X2RdBbStIPSY3ta2CtgvlEC0l2FmXKDZ9GqxqBLnPyiM AVkujrwiLER7XU0o0oYg+Ty8kXQ5qCdHYXdx4WFo/oAqDSZ1oyfQmTVuKWHKAD+nqjkIHE4zykj 8MHqIb8V2uOz3w1GrowcrCesm91szaVAWb3h1Ga76iRNsKcYaZTHyXFjo9AXYpC+OXhctiYqvjL Lj+IWzddDXulaUDJVi+8iBUNGTCPqsU02ssiLR7IxYvU2zMZvfNgjA5ZFnU= X-Google-Smtp-Source: AGHT+IHPN/ohY1bm0B8hhvVGaycFyypIE6Fum5J7qaUCj792x1i5+/2w6O1mUB4Xge13/1BgomZBQ+VgbT10 X-Received: by 2002:a17:903:26cf:b0:22e:5882:1812 with SMTP id d9443c01a7336-231de3ae58fmr312835145ad.32.1747962758316; Thu, 22 May 2025 18:12:38 -0700 (PDT) Received: from postal.iol.unh.edu (postal.iol.unh.edu. [132.177.123.84]) by smtp-relay.gmail.com with ESMTPS id d9443c01a7336-231d4ebfc5fsm7779415ad.121.2025.05.22.18.12.38 (version=TLS1_2 cipher=ECDHE-ECDSA-AES128-GCM-SHA256 bits=128/128); Thu, 22 May 2025 18:12:38 -0700 (PDT) X-Relaying-Domain: iol.unh.edu Date: Thu, 22 May 2025 18:12:38 -0700 (PDT) Message-ID: <682fcb86.170a0220.1edfd6.9224SMTPIN_ADDED_MISSING@mx.google.com> Received: from [172.21.0.5] (unknown [172.18.0.240]) by postal.iol.unh.edu (Postfix) with ESMTP id 7F7016052472; Thu, 22 May 2025 21:12:37 -0400 (EDT) Subject: |SUCCESS| pw153617 [PATCH] rcu: add deprecation notice about limit o From: dpdklab@iol.unh.edu To: Test Report Cc: dpdk-test-reports@iol.unh.edu In-Reply-To: <1747957021-2581-1-git-send-email-andremue@linux.microsoft.com> References: <1747957021-2581-1-git-send-email-andremue@linux.microsoft.com> Content-Type: text/plain X-BeenThere: test-report@dpdk.org X-Mailman-Version: 2.1.29 Precedence: list List-Id: automatic DPDK test reports List-Unsubscribe: , List-Archive: List-Post: List-Help: List-Subscribe: , Errors-To: test-report-bounces@dpdk.org Test-Label: iol-unit-amd64-testing Test-Status: SUCCESS http://dpdk.org/patch/153617 _Testing PASS_ Submitter: Andre Muezerie Date: Thursday, May 22 2025 23:37:01 DPDK git baseline: Repo:dpdk Branch: master CommitID:117e86c4b96ed761e9a7ab766261208fe81bf5ca 153617 --> testing pass Upstream job id: Generic-Unit-Test-DPDK#340087 Test environment and result as below: +---------------------+----------------+ | Environment | dpdk_unit_test | +=====================+================+ | Fedora 40 (Clang) | PASS | +---------------------+----------------+ | CentOS Stream 9 | PASS | +---------------------+----------------+ | Fedora 40 | PASS | +---------------------+----------------+ | CentOS Stream 10 | PASS | +---------------------+----------------+ | Debian 12 | PASS | +---------------------+----------------+ | Ubuntu 20.04 | PASS | +---------------------+----------------+ | Ubuntu 22.04 | PASS | +---------------------+----------------+ | RHEL9 | PASS | +---------------------+----------------+ | Fedora 41 | PASS | +---------------------+----------------+ | Fedora 41 (Clang) | PASS | +---------------------+----------------+ | Ubuntu 24.04 | PASS | +---------------------+----------------+ | RHEL8 | PASS | +---------------------+----------------+ | Windows Server 2022 | PASS | +---------------------+----------------+ Fedora 40 (Clang) Kernel: Depends on container host Compiler: clang 18.1.8 (Fedora 18.1.8-1.fc40) CentOS Stream 9 Kernel: Depends on container host Compiler: gcc 11.5.0 20240719 (Red Hat 11.5.0-2) Fedora 40 Kernel: Depends on container host Compiler: gcc 14.2.1 20240912 (Red Hat 14.2.1-3) CentOS Stream 10 Kernel: Depends on container host Compiler: gcc 14.2.1 20241104 (Red Hat 14.2.1-6) Debian 12 Kernel: Depends on container host Compiler: gcc (Debian 12.2.0-14) 12.2.0 Ubuntu 20.04 Kernel: Depends on container host Compiler: gcc (Ubuntu 9.4.0-1ubuntu1~20.04.2) 9.4.0 Ubuntu 22.04 Kernel: Depends on container host Compiler: gcc (Ubuntu 11.4.0-1ubuntu1~22.04) 11.4.0 RHEL9 Kernel: Depends on container host Compiler: gcc 11.5.0 20240719 (Red Hat 11.5.0-2) Fedora 41 Kernel: Depends on container host Compiler: gcc 14.2.1 20240912 (Red Hat 14.2.1-3) Fedora 41 (Clang) Kernel: Depends on container host Compiler: clang 19.1.5 (Fedora 19.1.5-1.fc41) Ubuntu 24.04 Kernel: Depends on container host Compiler: gcc (Ubuntu 13.3.0-6ubuntu2~24.04) 13.3.0 RHEL8 Kernel: Depends on container host Compiler: gcc 8.5.0 20210514 (Red Hat 8.5.0-22) Windows Server 2022 Kernel: 10.0.20348.2031 Compiler: clang 15.0.7, gcc 14.1.0 (MinGW), and MSVC VS 19.39.33521 To view detailed results, visit: https://lab.dpdk.org/results/dashboard/patchsets/33237/ UNH-IOL DPDK Community Lab To manage your email subscriptions, visit: https://lab.dpdk.org/results/dashboard/preferences/subscriptions/