From mboxrd@z Thu Jan 1 00:00:00 1970 Return-Path: Received: from mails.dpdk.org (mails.dpdk.org [217.70.189.124]) by inbox.dpdk.org (Postfix) with ESMTP id 8DD21467BD for ; Fri, 23 May 2025 03:18:35 +0200 (CEST) Received: from mails.dpdk.org (localhost [127.0.0.1]) by mails.dpdk.org (Postfix) with ESMTP id 6AB6B40279; Fri, 23 May 2025 03:18:35 +0200 (CEST) Received: from mail-pl1-f227.google.com (mail-pl1-f227.google.com [209.85.214.227]) by mails.dpdk.org (Postfix) with ESMTP id 1573C40279 for ; Fri, 23 May 2025 03:18:34 +0200 (CEST) Received: by mail-pl1-f227.google.com with SMTP id d9443c01a7336-231c86bffc1so87565565ad.0 for ; Thu, 22 May 2025 18:18:33 -0700 (PDT) DKIM-Signature: v=1; a=rsa-sha256; c=relaxed/relaxed; d=iol.unh.edu; s=unh-iol; t=1747963113; x=1748567913; darn=dpdk.org; h=references:in-reply-to:cc:to:from:subject:message-id:date:from:to :cc:subject:date:message-id:reply-to; bh=VraAD8T9mvVTQ/XdgbQSqkpxueO26WgOJvvBcj3abR8=; b=Bp5psqEfmKgju3BwHxjb9ZPDqs50ef+zNWs7BCKYdmhjbyG4TVsVaxSRf6kTlA9vqD 88dt94XV8Mb/De1NY42vOZ98XwaMJcwiWceXAM/AGqMNen5y49r5ZsdhIeFNpH9ePE3j S5FKdlIEsFUkFnXcMAUDPt6ulKHoVxx4SGyI0= X-Google-DKIM-Signature: v=1; a=rsa-sha256; c=relaxed/relaxed; d=1e100.net; s=20230601; t=1747963113; x=1748567913; h=references:in-reply-to:cc:to:from:subject:message-id:date :x-gm-message-state:from:to:cc:subject:date:message-id:reply-to; bh=VraAD8T9mvVTQ/XdgbQSqkpxueO26WgOJvvBcj3abR8=; b=i/xKAy2mZmGsPtOWYD6LHUk+fSv0l9GDshXAXw3IW4J6RIPrYEutkMl6e993k0yr3y sUHOHni5w6/xvZ4r33qeI7zG4OqEootTSgIfY5VlVi3rHXp1JxEaF0o1Q4rytzSrA4SP HAXVI++jaTxh5QqsO9wXf5w3MvhAS1lX0YnAheX0LVfVoyqFf2u25Wyno3OjXhIsKT3A hjI3grCsZKTXrIs0HgnDQXdSD4Sx66c8w1H3IZOWBsTMzBor6yf0BEuH4bayMMCT7pdb w9BEZ61oWzWu0nHMrik+Fina+CirAP+KKp9sS9YZ6v0pcp8U0ZpNdQv+lhwTA2HdPdoA Ah6Q== X-Gm-Message-State: AOJu0YzQ/xOMFLkeWJwJxGu5R4J9GLyn+W30MBE9tX6Dp7odT20z3ERW K5DTfQsBcdhtXiDFvnZV2HnSsAhwc2htSPpJNx7gKFisbfA0bnu1yQAbHjmAa7HHuUMFX788v4w vjD5drtvkIkQ0GXl03HUjYwxy63DgHaw+huWOm7DvFmSC X-Gm-Gg: ASbGncs+4jPjNgC8t2nJ2sbYr/Xn78Q75lM6S3C/Yi/2+cpxwGS21HfW5GF6GhlFCr0 +vGTuhgVRKI6QrpQLiPYvzAYnFEJb9yoU6vI7dfyAv0tRG14AnVO8WFLAtmGOQsjyItSkU08EIP VVTj4WBJJrnF+JUdryeCqluEz+UTEqAM7SVz7ibHZUst9ZtJquPmfQTSSIZiz4iRImGzrn8L4gh xSEnzj52hMQ+FaMG9muEyDLQ+drkZ+EwDTZU/U31j/0aZv8bRKWzHs46NTAy7lzPnMrBh+pt1u8 9GhWLHlM8piHqnhJyJf3e9OurT7MWxyrUHBf1ntPIEklQ3TS12A3IkavLdA= X-Google-Smtp-Source: AGHT+IEijjAuTMslD14ZqrLM1yXEh1t9HOjj2JburZZHkbW5o5fXx1NPHkWTpBYG/mLFg8hhpM4fcAeH3JoZ X-Received: by 2002:a17:903:2301:b0:220:e023:8fa6 with SMTP id d9443c01a7336-231de3bc9c0mr334650665ad.50.1747963113025; Thu, 22 May 2025 18:18:33 -0700 (PDT) Received: from postal.iol.unh.edu (postal.iol.unh.edu. [132.177.123.84]) by smtp-relay.gmail.com with ESMTPS id d9443c01a7336-231d4aa6c89sm7792335ad.10.2025.05.22.18.18.32 (version=TLS1_2 cipher=ECDHE-ECDSA-AES128-GCM-SHA256 bits=128/128); Thu, 22 May 2025 18:18:33 -0700 (PDT) X-Relaying-Domain: iol.unh.edu Date: Thu, 22 May 2025 18:18:33 -0700 (PDT) Message-ID: <682fcce9.170a0220.230605.b976SMTPIN_ADDED_MISSING@mx.google.com> Received: from [172.21.0.5] (unknown [172.18.0.240]) by postal.iol.unh.edu (Postfix) with ESMTP id C9B966052471; Thu, 22 May 2025 21:18:31 -0400 (EDT) Subject: |SUCCESS| pw153617 [PATCH] rcu: add deprecation notice about limit o From: dpdklab@iol.unh.edu To: Test Report Cc: dpdk-test-reports@iol.unh.edu In-Reply-To: <1747957021-2581-1-git-send-email-andremue@linux.microsoft.com> References: <1747957021-2581-1-git-send-email-andremue@linux.microsoft.com> Content-Type: text/plain X-BeenThere: test-report@dpdk.org X-Mailman-Version: 2.1.29 Precedence: list List-Id: automatic DPDK test reports List-Unsubscribe: , List-Archive: List-Post: List-Help: List-Subscribe: , Errors-To: test-report-bounces@dpdk.org Test-Label: iol-unit-arm64-testing Test-Status: SUCCESS http://dpdk.org/patch/153617 _Testing PASS_ Submitter: Andre Muezerie Date: Thursday, May 22 2025 23:37:01 DPDK git baseline: Repo:dpdk Branch: master CommitID:117e86c4b96ed761e9a7ab766261208fe81bf5ca 153617 --> testing pass Upstream job id: Generic-Unit-Test-DPDK#340084 Test environment and result as below: +-----------------------------+---------------------------+--------------+------------------------------+----------------+ | Environment | cryptodev_sw_zuc_autotest | lpm_autotest | cryptodev_sw_snow3g_autotest | dpdk_unit_test | +=============================+===========================+==============+==============================+================+ | Debian 12 (arm) | PASS | SKIPPED | PASS | PASS | +-----------------------------+---------------------------+--------------+------------------------------+----------------+ | Ubuntu 20.04 ARM SVE | SKIPPED | PASS | SKIPPED | SKIPPED | +-----------------------------+---------------------------+--------------+------------------------------+----------------+ | CentOS Stream 9 (ARM) | SKIPPED | SKIPPED | SKIPPED | PASS | +-----------------------------+---------------------------+--------------+------------------------------+----------------+ | CentOS Stream 10 (ARM) | SKIPPED | SKIPPED | SKIPPED | PASS | +-----------------------------+---------------------------+--------------+------------------------------+----------------+ | Fedora 40 (ARM) | SKIPPED | SKIPPED | SKIPPED | PASS | +-----------------------------+---------------------------+--------------+------------------------------+----------------+ | Fedora 41 (ARM) | SKIPPED | SKIPPED | SKIPPED | PASS | +-----------------------------+---------------------------+--------------+------------------------------+----------------+ | Fedora 40 (ARM Clang) | SKIPPED | SKIPPED | SKIPPED | PASS | +-----------------------------+---------------------------+--------------+------------------------------+----------------+ | Fedora 41 (ARM Clang) | SKIPPED | SKIPPED | SKIPPED | PASS | +-----------------------------+---------------------------+--------------+------------------------------+----------------+ | Ubuntu 20.04 (ARM) | SKIPPED | SKIPPED | SKIPPED | PASS | +-----------------------------+---------------------------+--------------+------------------------------+----------------+ | RHEL9 (ARM) | SKIPPED | SKIPPED | SKIPPED | PASS | +-----------------------------+---------------------------+--------------+------------------------------+----------------+ | Ubuntu 22.04 (ARM) | SKIPPED | SKIPPED | SKIPPED | PASS | +-----------------------------+---------------------------+--------------+------------------------------+----------------+ | Ubuntu 24.04 (ARM) | SKIPPED | SKIPPED | SKIPPED | PASS | +-----------------------------+---------------------------+--------------+------------------------------+----------------+ | 32-bit Ubuntu 22.04.4 (ARM) | SKIPPED | SKIPPED | SKIPPED | PASS | +-----------------------------+---------------------------+--------------+------------------------------+----------------+ Debian 12 (arm) Kernel: Depends on container host Compiler: gcc (Debian 12.2.0-14) 12.2.0 Ubuntu 20.04 ARM SVE Kernel: Depends on container host Compiler: gcc (Ubuntu 10.5.0-1ubuntu1~20.04) 10.5.0 CentOS Stream 9 (ARM) Kernel: Depends on container host Compiler: gcc 11.5.0 20240719 (Red Hat 11.5.0-2) CentOS Stream 10 (ARM) Kernel: Depends on container host Compiler: gcc 14.2.1 20241104 (Red Hat 14.2.1-6) Fedora 40 (ARM) Kernel: Depends on container host Compiler: gcc 14.2.1 20240912 (Red Hat 14.2.1-3) Fedora 41 (ARM) Kernel: Depends on container host Compiler: gcc 14.2.1 20240912 (Red Hat 14.2.1-3) Fedora 40 (ARM Clang) Kernel: Depends on container host Compiler: clang 18.1.8 (Fedora 18.1.8-1.fc40) Fedora 41 (ARM Clang) Kernel: Depends on container host Compiler: clang 19.1.5 (Fedora 19.1.5-1.fc41) Ubuntu 20.04 (ARM) Kernel: Depends on container host Compiler: gcc (Ubuntu 9.4.0-1ubuntu1~20.04.2) 9.4.0 RHEL9 (ARM) Kernel: Depends on container host Compiler: gcc 11.5.0 20240719 (Red Hat 11.5.0-2) Ubuntu 22.04 (ARM) Kernel: Depends on container host Compiler: gcc (Ubuntu 11.4.0-1ubuntu1~22.04) 11.4.0 Ubuntu 24.04 (ARM) Kernel: Depends on container host Compiler: gcc (Ubuntu 13.3.0-6ubuntu2~24.04) 13.3.0 32-bit Ubuntu 22.04.4 (ARM) Kernel: 5.15.83+ aarch64 Compiler: gcc (Ubuntu 11.4.0-1ubuntu1~22.04) 11.4.0 To view detailed results, visit: https://lab.dpdk.org/results/dashboard/patchsets/33237/ UNH-IOL DPDK Community Lab To manage your email subscriptions, visit: https://lab.dpdk.org/results/dashboard/preferences/subscriptions/